Workbook
Name fhdata_Query: #REF!
Name PARKS_Query: #REF!
Name sum_data: #REF!
Name sum_data: #REF!

Sheet Annual Report
A1: 2010 Aerial Overview Summary for British Columbia
E2: Provincial
B3: CFR | C3: SIFR | D3: NIFR | E3: Total
A5: Bark Beetles
A6: IBM=Mountain Pine Beetle | B6: =Master!BC6 -> 21857.271 | C6: =Master!EC6 -> 559909.25 | D6: =Master!GK6 -> 5669819.9 | E6: =SUM(B6:D6) -> 6251586.4
A7: IBS=Spruce Beetle | B7: =Master!BC7 -> 46.460673 | C7: =Master!EC7 -> 29942.564 | D7: =Master!GK7 -> 106.56775 | E7: =SUM(B7:D7) -> 30095.593
A8: IBB=Western Balsam Bark Beetle | B8: =Master!BC8 -> 4467.3974 | C8: =Master!EC8 -> 183295.63 | D8: =Master!GK8 -> 1584631.9 | E8: =SUM(B8:D8) -> 1772394.9
A9: IBD=Douglas-fir Beetle | B9: =Master!BC9 -> 3556.7528 | C9: =Master!EC9 -> 11388.536 | D9: =Master!GK9 -> 843.31393 | E9: =SUM(B9:D9) -> 15788.603
A10: IBF=Fir engraver beetle | B10: =Master!BC10 -> 0 | C10: =Master!EC10 -> 0 | D10: =Master!GK10 -> 0 | E10: =SUM(B10:D10) -> 0
A11: IBP=Twig beetle | B11: =Master!BC11 -> 0 | C11: =Master!EC11 -> 0 | D11: =Master!GK11 -> 0 | E11: =SUM(B11:D11) -> 0
A12: IBI=Engraver Beetle (Ips species) | B12: =Master!BC12 -> 0 | C12: =Master!EC12 -> 0 | D12: =Master!GK12 -> 0 | E12: =SUM(B12:D12) -> 0
A13: IBW=Western Pine Beetle | B13: =Master!BC13 -> 0 | C13: =Master!EC13 -> 0 | D13: =Master!GK13 -> 0 | E13: =SUM(B13:D13) -> 0
A14: IBL=Lodgepole Pine Beetle | B14: =Master!BC14 -> 0 | C14: =Master!EC14 -> 0 | D14: =Master!GK14 -> 0 | E14: =SUM(B14:D14) -> 0
A15: IBT=Red Turpentine Beetle | B15: =Master!BC15 -> 0 | C15: =Master!EC15 -> 0 | D15: =Master!GK15 -> 0 | E15: =SUM(B15:D15) -> 0
A16: IB=Unknown Beetle | B16: =Master!BC16 -> 0 | C16: =Master!EC16 -> 0 | D16: =Master!GK16 -> 0 | E16: =SUM(B16:D16) -> 0
A17: Total All BB= | B17: =Master!BC17 -> 29927.882 | C17: =Master!EC17 -> 784535.99 | D17: =Master!GK17 -> 7255401.6 | E17: =SUM(B17:D17) -> 8069865.5
A19: Defoliators
A20: ID=Defoliators | B20: =Master!BC20 -> 5609.314 | C20: =Master!EC20 -> 31.145551 | D20: =Master!GK20 -> 33316.193 | E20: =SUM(B20:D20) -> 38956.652
A21: IDH=Western Blackheaded Budworm | B21: =Master!BC21 -> 87496.743 | C21: =Master!EC21 -> 154.99048 | D21: =Master!GK21 -> 5588.9543 | E21: =SUM(B21:D21) -> 93240.688
A22: IDB=2-Year Budworm | B22: =Master!BC22 -> 0 | C22: =Master!EC22 -> 70693.754 | D22: =Master!GK22 -> 26390.043 | E22: =SUM(B22:D22) -> 97083.797
A23: IDE=Spruce Budworm | B23: =Master!BC23 -> 0 | C23: =Master!EC23 -> 0 | D23: =Master!GK23 -> 0 | E23: =SUM(B23:D23) -> 0
A24: IDL=Western Hemlock Looper | B24: =Master!BC24 -> 282.06892 | C24: =Master!EC24 -> 3035.5159 | D24: =Master!GK24 -> 0 | E24: =SUM(B24:D24) -> 3317.5848
A25: IDC=Larch Casebearer | B25: =Master!BC25 -> 0 | C25: =Master!EC25 -> 5.6542756 | D25: =Master!GK25 -> 0 | E25: =SUM(B25:D25) -> 5.6542756
A26: IDS=Conifer Sawflies | B26: =Master!BC26 -> 0 | C26: =Master!EC26 -> 0 | D26: =Master!GK26 -> 0 | E26: =SUM(B26:D26) -> 0
A27: IDK=Northern Tent Caterpillar | B27: =Master!BC27 -> 0 | C27: =Master!EC27 -> 0 | D27: =Master!GK27 -> 0 | E27: =SUM(B27:D27) -> 0
A28: IDF=Forest Tent Caterpillar | B28: =Master!BC28 -> 16.017692 | C28: =Master!EC28 -> 37843.72 | D28: =Master!GK28 -> 94765.876 | E28: =SUM(B28:D28) -> 132625.61
A29: IDW=Western Spruce Budworm | B29: =Master!BC29 -> 1016.5209 | C29: =Master!EC29 -> 499104.4 | D29: =Master!GK29 -> 0 | E29: =SUM(B29:D29) -> 500120.92
A30: IDN=Birch Leaf Miner | B30: =Master!BC30 -> 0 | C30: =Master!EC30 -> 8418.1086 | D30: =Master!GK30 -> 0 | E30: =SUM(B30:D30) -> 8418.1086
A31: IDU=Satin Moth | B31: =Master!BC31 -> 0 | C31: =Master!EC31 -> 9.1431585 | D31: =Master!GK31 -> 0 | E31: =SUM(B31:D31) -> 9.1431585
... A43: Total Defoliators= | B43: =Master!BC43 -> 95810.033 | C43: =Master!EC43 -> 703101.59 | D43: =Master!GK43 -> 1976008.1 | E43: =SUM(B43:D43) -> 2774919.7
A45: Other
A46: N | B46: =Master!BC46 -> 0 | C46: =Master!EC46 -> 0 | D46: =Master!GK46 -> 9.6893471 | E46: =SUM(B46:D46) -> 9.6893471
A47: NAV=Avalanche or snow slide | B47: =Master!BC47 -> 71.95646 | C47: =Master!EC47 -> 18.375293 | D47: =Master!GK47 -> 11.006602 | E47: =SUM(B47:D47) -> 101.33836
A48: NB=Fire | B48: =Master!BC48 -> 20268.955 | C48: =Master!EC48 -> 161170.96 | D48: =Master!GK48 -> 120714.59 | E48: =SUM(B48:D48) -> 302154.51
A49: NCA=Aspen decline | B49: =Master!BC49 -> 0 | C49: =Master!EC49 -> 0 | D49: =Master!GK49 -> 0 | E49: =SUM(B49:D49) -> 0
A50: NCB=Birch decline | B50: =Master!BC50 -> 0 | C50: =Master!EC50 -> 0 | D50: =Master!GK50 -> 128.35183 | E50: =SUM(B50:D50) -> 128.35183
A51: NCY=Yellow cedar decline | B51: =Master!BC51 -> 10726.097 | C51: =Master!EC51 -> 0 | D51: =Master!GK51 -> 257.60296 | E51: =SUM(B51:D51) -> 10983.7
A52: NW=Windthrow | B52: =Master!BC52 -> 229.42403 | C52: =Master!EC52 -> 2536.1355 | D52: =Master!GK52 -> 483.70334 | E52: =SUM(B52:D52) -> 3249.2629
A53: ND=Drought | B53: =Master!BC53 -> 244.56666 | C53: =Master!EC53 -> 424.09796 | D53: =Master!GK53 -> 19.041892 | E53: =SUM(B53:D53) -> 687.70651
A54: NF=Flooding | B54: =Master!BC54 -> 316.30474 | C54: =Master!EC54 -> 80.541055 | D54: =Master!GK54 -> 4041.9862 | E54: =SUM(B54:D54) -> 4438.832
A55: NGK=Shoot/Bud Frost Kill | B55: =Master!BC55 -> 0 | C55: =Master!EC55 -> 0 | D55: =Master!GK55 -> 0 | E55: =SUM(B55:D55) -> 0
A56: NH=Hail | B56: =Master!BC56 -> 0 | C56: =Master!EC56 -> 0 | D56: =Master!GK56 -> 0 | E56: =SUM(B56:D56) -> 0
A57: NS=Slide | B57: =Master!BC57 -> 1674.7535 | C57: =Master!EC57 -> 253.79501 | D57: =Master!GK57 -> 363.6803 | E57: =SUM(B57:D57) -> 2292.2288
... A59: NY=Snow/Ice | B59: =Master!BC59 -> 0 | C59: =Master!EC59 -> 0 | D59: =Master!GK59 -> 0.5 | E59: =SUM(B59:D59) -> 0.5
A60: Total Abiotics= | B60: =Master!BC60 -> 33532.057 | C60: =Master!EC60 -> 164483.91 | D60: =Master!GK60 -> 126910.33 | E60: =SUM(E46:E59) -> 324926.29
A62: Diseases
A63: DF=Diseases | B63: =Master!BC63 -> 0 | C63: =Master!EC63 -> 0 | D63: =Master!GK63 -> 0 | E63: =SUM(B63:D63) -> 0
A64: DFL=Pine Needle Cast | B64: =Master!BC64 -> 0 | C64: =Master!EC64 -> 20.213967 | D64: =Master!GK64 -> 2964.2711 | E64: =SUM(B64:D64) -> 2984.4851
A65: DRA=Armillaria Root Disease | B65: =Master!BC65 -> 86.686403 | C65: =Master!EC65 -> 0 | D65: =Master!GK65 -> 0 | E65: =SUM(B65:D65) -> 86.686403
A66: DFB=Delphinella needle cast | B66: =Master!BC66 -> 0 | C66: =Master!EC66 -> 0 | D66: =Master!GK66 -> 0 | E66: =SUM(B66:D66) -> 0
A67: DR=Unknown Root Disease | B67: =Master!BC67 -> 0 | C67: =Master!EC67 -> 0 | D67: =Master!GK67 -> 0 | E67: =SUM(B67:D67) -> 0
A68: DRL=Laminated Root Disease | B68: =Master!BC68 -> 2250.7831 | C68: =Master!EC68 -> 0 | D68: =Master!GK68 -> 0 | E68: =SUM(B68:D68) -> 2250.7831
A69: DMP=Lodgepole Pine Dwarf Mistletoe | B69: =Master!BC69 -> 0 | C69: =Master!EC69 -> 0 | D69: =Master!GK69 -> 0 | E69: =SUM(B69:D69) -> 0
A70: DSB=White Pine Blister Rust | B70: =Master!BC70 -> 2394.0577 | C70: =Master!EC70 -> 1.5 | D70: =Master!GK70 -> 0 | E70: =SUM(B70:D70) -> 2395.5577
A71: DSC=Comandra Blister Rust | B71: =Master!BC71 -> 0 | C71: =Master!EC71 -> 0 | D71: =Master!GK71 -> 0 | E71: =SUM(B71:D71) -> 0
A72: DFH=Larch Needle Blight | B72: =Master!BC72 -> 0 | C72: =Master!EC72 -> 3316.7986 | D72: =Master!GK72 -> 0 | E72: =SUM(B72:D72) -> 3316.7986
A73: DRB=Blackstain root disease | B73: =Master!BC73 -> 0 | C73: =Master!EC73 -> 0 | D73: =Master!GK73 -> 0 | E73: =SUM(B73:D73) -> 0
A74: DFM=Larch Needle Cast | B74: =Master!BC74 -> 0 | C74: =Master!EC74 -> 1.7781743 | D74: =Master!GK74 -> 0 | E74: =SUM(B74:D74) -> 1.7781743
... A80: Total Diseases= | B80: =Master!BC80 -> 5186.4874 | C80: =Master!EC80 -> 3340.2907 | D80: =Master!GK80 -> 16802.632 | E80: =SUM(B80:D80) -> 25329.41
A82: Animals
A83: AB=Bear | B83: =Master!BC83 -> 0 | C83: =Master!EC83 -> 81.64714 | D83: =Master!GK83 -> 0 | E83: =SUM(B83:D83) -> 81.64714
A84: AP=Porcupine | B84: =Master!BC84 -> 0 | C84: =Master!EC84 -> 1.9068398 | D84: =Master!GK84 -> 10.937298 | E84: =SUM(B84:D84) -> 12.844138
A85: AD=Deer | B85: =Master!BC85 -> 0 | C85: =Master!EC85 -> 0 | D85: =Master!GK85 -> 0 | E85: =SUM(B85:D85) -> 0
A86: Total Animals= | B86: =Master!BC86 -> 0 | C86: =Master!EC86 -> 83.55398 | D86: =Master!GK86 -> 10.937298 | E86: =SUM(B86:D86) -> 94.491278
A88: Total Other= | B88: =Master!BC88 -> 38718.545 | C88: =Master!EC88 -> 167907.75 | D88: =Master!$GK$88 -> 143723.9 | E88: =SUM(B88:D88) -> 350350.2
A90: Total = | B90: =Master!BC90 -> 164456.46 | C90: =Master!EC90 -> 1991360.8 | D90: =Master!$GK$90 -> 9375133.6 | E90: =Master!$GR$90 -> 11195135

Sheet Master
A1: 2010 Aerial Overview Summary for British Columbia
B2: COASTAL FOREST REGION | BD2: SOUTHERN INTERIOR FOREST REGION | ED2: NORTHERN INTERIOR FOREST REGION
B3: Chilliwack | C3: DCK | H3: North Island - Central Coast | K3: DNI | N3: South Island | P3: DSI | T3: Haida Gwaii | V3: DQC | Z3: Squamish | AA3: DSQ | AF3: Sunshine Coast | AH3: DSC | AL3: Campbell River | AN3: DCR | AR3: North Coast | AT3: DNC | AX3: COASTAL FOREST REGION TOTAL | BD3: Chilcotin FD | BF3: DCH | BJ3: Central Cariboo | BL3: DCC | BP3: 100 Mile House | BR3: DMH | BV3: Quesnel | BW3: DQU | CB3: Headwaters | CD3: DHW | CH3: Kamloops | CJ3: DKA | CN3: Cascades | CO3: DCS | CT3: Okanagan-Shuswap | CV3: DOS | CZ3: Arrow-Boundary | DB3: DAB | DF3: Rocky Mountain | DH3: DRM | DL3: Columbia | DM3: DCO | DR3: Kootenay Lake | DT3: DKL | DX3: SIFR REGION | ED3: Skeena-Stikine | EF3: DSS | EJ3: Kalum | EK3: DKM | EP3: Nadina | EQ3: DND | EV3: Prince George FD | EX3: DPG | FB3: Vanderhoof | FD3: DVA | FH3: Ft. St. James | FJ3: DJA | FN3: Mackenzie | FP3: DMK | FT3: Peace | FU3: DPC | FZ3: Ft. Nelson | GA3: DFN | GF3: NIFR REGION | GM3: GRAND TOTAL
B4: Trace | C4: Light | D4: Moderate | E4: Severe | F4: Very Sev | G4: Total | H4: Trace | I4: Light | J4: Moderate | K4: Severe | L4: Very Sev | M4: Total | N4: Trace | O4: Light | P4: Moderate | Q4: Severe | R4: Very Sev | S4: Total | T4: Trace | U4: Light | V4: Moderate | W4: Severe | X4: Very Sev | Y4: Total | Z4: Trace | AA4: Light | AB4: Moderate | AC4: Severe | AD4: Very Sev | AE4: Total | AF4: Trace | AG4: Light | AH4: Moderate | AI4: Severe | AJ4: Very Sev | AK4: Total | AL4: Trace | AM4: Light | AN4: Moderate | AO4: Severe | AP4: Very Sev | AQ4: Total | AR4: Trace | AS4: Light | AT4: Moderate | AU4: Severe | AV4: Very Sev | AW4: Total | AX4: Trace | AY4: Light | AZ4: Moderate | BA4: Severe | BB4: Ver Sev | BC4: Total | BD4: Trace | BE4: Light | BF4: Moderate | BG4: Severe | BH4: Very Sev | BI4: Total | BJ4: Trace | BK4: Light | BL4: Moderate | BM4: Severe | BN4: Very Sev | BO4: Total | BP4: Trace | BQ4: Light | BR4: Moderate | BS4: Severe | BT4: Very Sev | BU4: Total | BV4: Trace | BW4: Light | BX4: Moderate | BY4: Severe | BZ4: Very Sev | CA4: Total | CB4: Trace | CC4: Light | CD4: Moderate | CE4: Severe | CF4: Very Sev | CG4: Total | CH4: Trace | CI4: Light | CJ4: Moderate | CK4: Severe | CL4: Very Sev | CM4: Total | CN4: Trace | CO4: Light | CP4: Moderate | CQ4: Severe | CR4: Very Sev | CS4: Total | CT4: Trace | CU4: Light | CV4: Moderate | CW4: Severe | CX4: Very Sev | CY4: Total | CZ4: Trace | DA4: Light | DB4: Moderate | DC4: Severe | DD4: Very Sev | DE4: Total | DF4: Trace | DG4: Light | DH4: Moderate | DI4: Severe | DJ4: Very Sev | DK4: Total | DL4: Trace | DM4: Light | DN4: Moderate | DO4: Severe | DP4: Very Sev | DQ4: Total | DR4: Trace | DS4: Light | DT4: Moderate | DU4: Severe | DV4: Very Sev | DW4: Total | DX4: Trace | DY4: Light | DZ4: Moderate | EA4: Severe | EB4: Very Sev | EC4: TOTAL | ED4: Trace | EE4: Light | EF4: Moderate | EG4: Severe | EH4: Very Sev | EI4: Total | EJ4: Trace | EK4: Light | EL4: Moderate | EM4: Severe | EN4: Very Sev | EO4: Total | EP4: Trace | EQ4: Light | ER4: Moderate | ES4: Severe | ET4: Very Sev | EU4: Total | EV4: Trace | EW4: Light | EX4: Moderate | EY4: Severe | EZ4: Very Sev | FA4: Total | FB4: Trace | FC4: Light | FD4: Moderate | FE4: Severe | FF4: Very Sev | FG4: Total | FH4: Trace | FI4: Light | FJ4: Moderate | FK4: Severe | FL4: Very Sev | FM4: Total | FN4: Trace | FO4: Light | FP4: Moderate | FQ4: Severe | FR4: Very Sev | FS4: Total | FT4: Trace | FU4: Light | FV4: Moderate | FW4: Severe | FX4: Very Sev | FY4: Total | FZ4: Trace | GA4: Light | GB4: Moderate | GC4: Severe | GD4: Very Sev | GE4: Total | GF4: Trace | GG4: Light | GH4: Moderate | GI4: Severe | GJ4: Very Sev | GK4: TOTAL | GM4: Trace | GN4: Light | GO4: Moderate | GP4: Severe | GQ4: Very Sev | GR4: TOTAL
A5: Bark Beetles
A6: IBM=Mountain Pine Beetle | B6: 186.44282 | C6: 8411.7217 | D6: 1261.6891 | E6: 330.60115 | G6: =SUM(B6:F6) -> 10190.455 | H6: 6260.5165 | I6: 633.43915 | K6: 8.5 | M6: =SUM(H6:L6) -> 6902.4556 | Q6: 0.25 | S6: =SUM(N6:R6) -> 0.25 | Y6: =SUM(T6:X6) -> 0 | Z6: 79.443188 | AA6: 4249.3578 | AB6: 240.72682 | AC6: 41.052736 | AE6: =SUM(Z6:AD6) -> 4610.5805 | AG6: 1.2882007 | AI6: 3.25 | AK6: =SUM(AF6:AJ6) -> 4.5382007 | AQ6: =SUM(AL6:AP6) -> 0 | AU6: 148.99195 | AW6: =SUM(AR6:AV6) -> 148.99195 | AX6: =SUM(B6,H6,N6,T6,Z6,AF6,AL6) -> 6526.4025 | AY6: =SUM(AS6,AG6,AA6,U6,O6,I6,C6, AM6) -> 13295.807 | AZ6: =SUM(AT6,AH6,AB6,V6,P6,J6, AN6,D6) -> 1502.416 | BA6: =SUM(AU6,AO6,AI6,AC6,W6,Q6,K6,E6) -> 532.64584 | BB6: =SUM(AV6,AP6,AJ6,AD6,X6,R6,L6,F6) -> 0 | BC6: =SUM(AX6:BB6) -> 21857.271 | BD6: 76154.739 | BE6: 26512.169 | BF6: 1150.5508 | BG6: 113.46899 | BI6: =SUM(BD6:BH6) -> 103930.93 | BJ6: 11051.372 | BK6: 4189.178 | BL6: 870.10558 | BM6: 21.071105 | BN6: 539.00544 | BO6: =SUM(BJ6:BN6) -> 16670.733 | BP6: 5480.6901 | BQ6: 3570.7463 | BR6: 311.35469 | BS6: 2 | BU6: =SUM(BP6:BT6) -> 9364.7911 | BV6: 6683.4307 | BW6: 2432.1294 | BX6: 145.42087 | BY6: 5.5 | CA6: =SUM(BV6:BZ6) -> 9266.481 | CB6: 51143.635 | CC6: 17663.534 | CD6: 11519.235 | CE6: 2690.6069 | CF6: 1637.0976 | CG6: =SUM(CB6:CF6) -> 84654.109 | CH6: 4330.6181 | CI6: 4164.8257 | CJ6: 816.16723 | CK6: 41.46761 | CL6: 0.73001317 | CM6: =SUM(CH6:CL6) -> 9353.8087 | CN6: 31864.797 | CO6: 83638.149 | CP6: 19115.064 | CQ6: 2756.3545 | CR6: 380.11681 | CS6: =SUM(CN6:CR6) -> 137754.48 | CT6: 14142.827 | CU6: 55611.963 | CV6: 11293.553 | CW6: 1513.5521 | CX6: 205.65951 | CY6: =SUM(CT6:CX6) -> 82767.555 | CZ6: 5462.6571 | DA6: 8481.9428 | DB6: 4726.8803 | DC6: 406.19576 | DE6: =SUM(CZ6:DD6) -> 19077.676 | DF6: 5056.2097 | DG6: 21566.879 | DH6: 19810.244 | DI6: 5627.8977 | DK6: =SUM(DF6:DJ6) -> 52061.23 | DL6: 2062.0629 | DM6: 6780.3626 | DN6: 3152.5277 | DO6: 724.16471 | DQ6: =SUM(DL6:DP6) -> 12719.118 | DR6: 4334.1207 | DS6: 9132.6145 | DT6: 7581.6089 | DU6: 1217.6222 | DV6: 22.37348 | DW6: =SUM(DR6:DV6) -> 22288.34 | DX6: =SUM(DR6,DL6,DF6,CZ6,CT6,CN6,CH6,CB6,BV6,BP6,BJ6,BD6) -> 217767.16 | DY6: =SUM(DS6,DM6,DG6,DA6,CU6,CO6,CI6,CC6,BW6,BQ6,BK6,BE6) -> 243744.49 | DZ6: =SUM(DT6,DN6,DH6,DB6,CV6,CP6,CJ6,CD6,BX6,BR6,BL6,BF6) -> 80492.712 | EA6: =SUM(DU6,DO6,DI6,DC6,CW6,CQ6,CK6,CE6,BY6,BS6,BM6,BG6) -> 15119.902 | EB6: =SUM(DV6,DP6,DJ6,DD6,CX6,CR6,CL6,CF6,BZ6,BT6,BN6,BH6) -> 2784.9829 | EC6: =SUM(DX6:EB6) -> 559909.25 | ED6: 21993.465 | EE6: 84895.739 | EF6: 11502.953 | EG6: 4705.481 | EH6: 1212.6783 | EI6: =SUM(ED6:EH6) -> 124310.32 | EJ6: 2123.2294 | EK6: 3192.6521 | EL6: 651.93789 | EM6: 76.75 | EO6: =SUM(EJ6:EN6) -> 6044.5694 | EP6: 641341.96 | EQ6: 149463.69 | ER6: 16692.905 | ES6: 5021.5461 | ET6: 426.89347 | EU6: =SUM(EP6:ET6) -> 812946.99 | EV6: 145296.83 | EW6: 24329.37 | EX6: 995.18922 | EY6: 135.46919 | FA6: =SUM(EV6:EZ6) -> 170756.86 | FB6: 63232.28 | FC6: 2245.6005 | FD6: 16.059781 | FE6: 50.451846 | FG6: =SUM(FB6:FF6) -> 65544.392 | FH6: 495101.54 | FI6: 289016.69 | FJ6: 181851.05 | FK6: 1862.0739 | FM6: =SUM(FH6:FL6) -> 967831.35 | FN6: 236075.75 | FO6: 346274.81 | FP6: 701871.82 | FQ6: 354713.11 | FR6: 6639.6739 | FS6: =SUM(FN6:FR6) -> 1645575.2 | FT6: 555566.26 | FU6: 658488.27 | FV6: 517059.06 | FW6: 137099.62 | FX6: 6703.4304 | FY6: =SUM(FT6:FX6) -> 1874916.6 | FZ6: 788.5359 | GA6: 658.71907 | GB6: 390.82499 | GC6: 55.510577 | GE6: =SUM(FZ6:GD6) -> 1893.5905 | GF6: =SUM(FZ6,FT6,FN6,FH6,FB6,EV6,EP6,EJ6,ED6) -> 2161519.8 | GG6: =SUM(GA6,FU6,FO6,FI6,FC6,EW6,EQ6,EK6,EE6) -> 1558565.5 | GH6: =SUM(GB6,FV6,FP6,FJ6,FD6,EX6,ER6,EL6,EF6) -> 1431031.8 | GI6: =SUM(GC6,FW6,FQ6,FK6,FE6,EY6,ES6,EM6,EG6) -> 503720.01 | GJ6: =SUM(GD6,FX6,FR6,FL6,FF6,EZ6,ET6,EN6,EH6) -> 14982.676 | GK6: =SUM(GF6:GJ6) -> 5669819.9 | GM6: =SUM(GF6,DX6,AX6) -> 2385813.4 | GN6: =SUM(GG6,DY6,AY6) -> 1815605.8 | GO6: =SUM(GH6,DZ6,AZ6) -> 1513026.9 | GP6: =SUM(GI6,EA6,BA6) -> 519372.56 | GQ6: =SUM(GJ6,EB6,BB6) -> 17767.659 | GR6: =SUM(GM6:GQ6) -> 6251586.4
A7: IBS=Spruce Beetle | G7: =SUM(B7:F7) -> 0 | H7: 18.752111 | I7: 13.407878 | K7: 4.5 | M7: =SUM(H7:L7) -> 36.659989 | S7: =SUM(N7:R7) -> 0 | Y7: =SUM(T7:X7) -> 0 | AE7: =SUM(Z7:AD7) -> 0 | AG7: 4.0870765 | AI7: 4.9636072 | AK7: =SUM(AF7:AJ7) -> 9.0506838 | AO7: 0.75 | AQ7: =SUM(AL7:AP7) -> 0.75 | AW7: =SUM(AR7:AV7) -> 0 | AX7: =SUM(AR7,AF7,Z7,T7,N7,H7,B7,AL7) -> 18.752111 | AY7: =SUM(AS7,AG7,AA7,U7,O7,I7,C7, AM7) -> 17.494955 | AZ7: =SUM(AT7,AH7,AB7,V7,P7,J7, AN7,D7) -> 0 | BA7: =SUM(AU7,AO7,AI7,AC7,W7,Q7,K7) -> 10.213607 | BB7: =SUM(F7,L7,R7,X7,AD7,AJ7,AP7,AV7) -> 0 | BC7: =SUM(AX7:BB7) -> 46.460673 | BD7: 20.023334 | BE7: 6.2835678 | BG7: 3.5 | BI7: =SUM(BD7:BH7) -> 29.806902 | BJ7: 4131.1927 | BK7: 6816.3842 | BL7: 4514.3372 | BM7: 1057.6488 | BO7: =SUM(BJ7:BN7) -> 16519.563 | BP7: 637.969 | BQ7: 3165.2562 | BR7: 4817.5289 | BS7: 539.36436 | BT7: 38.231208 | BU7: =SUM(BP7:BT7) -> 9198.3497 | BV7: 6.5968096 | BW7: 84.122256 | BY7: 3 | CA7: =SUM(BV7:BZ7) -> 93.719065 | CB7: 146.97666 | CC7: 106.54812 | CD7: 303.38068 | CE7: 4 | CG7: =SUM(CB7:CF7) -> 560.90545 | CH7: 448.94906 | CI7: 927.45676 | CJ7: 695.02511 | CK7: 165.54098 | CL7: 50.958845 | CM7: =SUM(CH7:CL7) -> 2287.9308 | CO7: 45.142347 | CP7: 495.85769 | CQ7: 61.885223 | CS7: =SUM(CN7:CR7) -> 602.88526 | CU7: 34.2046 | CV7: 83.254289 | CW7: 12.503719 | CY7: =SUM(CT7:CX7) -> 129.96261 | DC7: 0.25 | DE7: =SUM(CZ7:DD7) -> 0.25 | DF7: 50.663063 | DG7: 208.43321 | DH7: 207.32436 | DI7: 52.020893 | DK7: =SUM(DF7:DJ7) -> 518.44153 | DO7: 0.75 | DQ7: =SUM(DL7:DP7) -> 0.75 | DW7: =SUM(DR7:DV7) -> 0 | DX7: =SUM(DR7,DL7,DF7,CZ7,CT7,CN7,CH7,CB7,BV7,BP7,BJ7,BD7) -> 5442.3707 | DY7: =SUM(DS7,DM7,DG7,DA7,CU7,CO7,CI7,CC7,BW7,BQ7,BK7,BE7) -> 11393.831 | DZ7: =SUM(DT7,DN7,DH7,DB7,CV7,CP7,CJ7,CD7,BX7,BR7,BL7,BF7) -> 11116.708 | EA7: =SUM(DU7,DO7,DI7,DC7,CW7,CQ7,CK7,CE7,BY7,BS7,BM7,BG7) -> 1900.464 | EB7: =SUM(BH7,BN7,BT7,BZ7,CF7,CL7,CR7,CX7,DD7,DJ7,DP7,DV7) -> 89.190053 | EC7: =SUM(DX7:EB7) -> 29942.564 | EF7: 62.559032 | EG7: 19.963241 | EI7: =SUM(ED7:EH7) -> 82.522274 | EM7: 0.25 | EO7: =SUM(EJ7:EN7) -> 0.25 | ES7: 2.25 | EU7: =SUM(EP7:ET7) -> 2.25 | EW7: 8.7515286 | EY7: 7.5 | FA7: =SUM(EV7:EZ7) -> 16.251529 | FC7: 4.2939527 | FE7: 0.75 | FG7: =SUM(FB7:FF7) -> 5.0439527 | FK7: 0.25 | FM7: =SUM(FH7:FL7) -> 0.25 | FS7: =SUM(FN7:FR7) -> 0 | FY7: =SUM(FT7:FX7) -> 0 | GE7: =SUM(FZ7:GD7) -> 0 | GF7: =SUM(FZ7,FT7,FN7,FH7,FB7,EV7,EP7,EJ7,ED7) -> 0 | GG7: =SUM(GA7,FU7,FO7,FI7,FC7,EW7,EQ7,EK7,EE7) -> 13.045481 | GH7: =SUM(GB7,FV7,FP7,FJ7,FD7,EX7,ER7,EL7,EF7) -> 62.559032 | GI7: =SUM(GC7,FW7,FQ7,FK7,FE7,EY7,ES7,EM7,EG7) -> 30.963241 | GJ7: =SUM(EH7,EN7,ET7,EZ7,FF7,FL7,FR7,FX7,GD7) -> 0 | GK7: =SUM(GF7:GJ7) -> 106.56775 | GM7: =SUM(GF7,DX7,AX7) -> 5461.1228 | GN7: =SUM(GG7,DY7,AY7) -> 11424.372 | GO7: =SUM(GH7,DZ7,AZ7) -> 11179.267 | GP7: =SUM(GI7,EA7,BA7) -> 1941.6408 | GQ7: =SUM(GJ7,EB7,BB7) -> 89.190053 | GR7: =SUM(GK7,EC7,BC7) -> 30095.593
A8: IBB=Western Balsam Bark Beetle | B8: 60.810761 | C8: 601.50764 | D8: 4.0637188 | E8: 14.75 | G8: =SUM(B8:F8) -> 681.13212 | H8: 1571.2717 | I8: 26.084352 | K8: 9.75 | M8: =SUM(H8:L8) -> 1607.1061 | S8: =SUM(N8:R8) -> 0 | Y8: =SUM(T8:X8) -> 0 | Z8: 608.06265 | AA8: 1461.8279 | AB8: 19.576086 | AC8: 5 | AE8: =SUM(Z8:AD8) -> 2094.4667 | AG8: 60.648541 | AH8: 10.739643 | AI8: 1.25 | AK8: =SUM(AF8:AJ8) -> 72.638185 | AM8: 11.304372 | AO8: 0.75 | AQ8: =SUM(AL8:AP8) -> 12.054372 | AW8: =SUM(AR8:AV8) -> 0 | AX8: =SUM(AR8,AF8,Z8,T8,N8,H8,B8,AL8) -> 2240.1451 | AY8: =SUM(AS8,AG8,AA8,U8,O8,I8,C8, AM8) -> 2161.3729 | AZ8: =SUM(AT8,AH8,AB8,V8,P8,J8, AN8,D8) -> 34.379448 | BA8: =SUM(AU8, AI8,AC8,W8,Q8,K8,E8, AO8) -> 31.5 | BB8: =SUM(F8,L8,R8,X8,AD8,AJ8,AP8,AV8) -> 0 | BC8: =SUM(AX8:BB8) -> 4467.3974 | BD8: 5525.914 | BE8: 405.80675 | BF8: 7.7450924 | BG8: 10.25 | BI8: =SUM(BD8:BH8) -> 5949.7158 | BJ8: 9346.9772 | BK8: 1449.4952 | BO8: =SUM(BJ8:BN8) -> 10796.472 | BP8: 2448.0316 | BQ8: 1108.7862 | BS8: 3 | BU8: =SUM(BP8:BT8) -> 3559.8177 | BV8: 16885.684 | BW8: 392.57581 | BY8: 1 | CA8: =SUM(BV8:BZ8) -> 17279.26 | CB8: 54945.878 | CC8: 1654.9793 | CD8: 20.524372 | CE8: 0.5 | CG8: =SUM(CB8:CF8) -> 56621.882 | CH8: 15009.231 | CI8: 1628.1581 | CJ8: 3.1524317 | CM8: =SUM(CH8:CL8) -> 16640.541 | CN8: 4512.3944 | CO8: 7.9115772 | CP8: 4.4526936 | CS8: =SUM(CN8:CR8) -> 4524.7586 | CT8: 55495.418 | CU8: 1908.9106 | CV8: 10.0403 | CW8: 4.7394623 | CY8: =SUM(CT8:CX8) -> 57419.108 | CZ8: 2090.2063 | DA8: 586.77435 | DC8: 21.75 | DE8: =SUM(CZ8:DD8) -> 2698.7307 | DF8: 2329.2184 | DG8: 1565.681 | DH8: 108.36703 | DI8: 32 | DK8: =SUM(DF8:DJ8) -> 4035.2665 | DL8: 1475.1542 | DM8: 632.86707 | DN8: 39.602232 | DO8: 53.353468 | DQ8: =SUM(DL8:DP8) -> 2200.977 | DR8: 1113.4023 | DS8: 438.70231 | DU8: 17 | DW8: =SUM(DR8:DV8) -> 1569.1046 | DX8: =SUM(DR8,DL8,DF8,CZ8,CT8,CN8,CH8,CB8,BV8,BP8,BJ8,BD8) -> 171177.51 | DY8: =SUM(DS8,DM8,DG8,DA8,CU8,CO8,CI8,CC8,BW8,BQ8,BK8,BE8) -> 11780.648 | DZ8: =SUM(DT8,DN8,DH8,DB8,CV8,CP8,CJ8,CD8,BX8,BR8,BL8,BF8) -> 193.88415 | EA8: =SUM(DU8,DO8,DI8,DC8,CW8,CQ8,CK8,CE8,BY8,BS8,BM8,BG8) -> 143.59293 | EB8: =SUM(BH8,BN8,BT8,BZ8,CF8,CL8,CR8,CX8,DD8,DJ8,DP8,DV8) -> 0 | EC8: =SUM(DX8:EB8) -> 183295.63 | ED8: 305182.6 | EE8: 4123.0795 | EF8: 40.719536 | EG8: 86.533979 | EI8: =SUM(ED8:EH8) -> 309432.93 | EJ8: 22612.5 | EK8: 794.55289 | EM8: 39 | EO8: =SUM(EJ8:EN8) -> 23446.053 | EP8: 202057.37 | EQ8: 2386.628 | ES8: 42.5 | EU8: =SUM(EP8:ET8) -> 204486.5 | EV8: 94658.183 | EW8: 34478.909 | EY8: 112 | FA8: =SUM(EV8:EZ8) -> 129249.09 | FB8: 50277.104 | FE8: 10.75 | FG8: =SUM(FB8:FF8) -> 50287.854 | FH8: 315854.39 | FI8: 96.293393 | FK8: 79 | FM8: =SUM(FH8:FL8) -> 316029.69 | FN8: 332240.91 | FO8: 1958.5098 | FQ8: 46 | FS8: =SUM(FN8:FR8) -> 334245.42 | FT8: 207810.69 | FU8: 761.25543 | FW8: 47.5 | FY8: =SUM(FT8:FX8) -> 208619.44 | FZ8: 3506.4613 | GA8: 5322.1857 | GC8: 6.25 | GE8: =SUM(FZ8:GD8) -> 8834.897 | GF8: =SUM(FZ8,FT8,FN8,FH8,FB8,EV8,EP8,EJ8,ED8) -> 1534200.2 | GG8: =SUM(GA8,FU8,FO8,FI8,FC8,EW8,EQ8,EK8,EE8) -> 49921.414 | GH8: =SUM(GB8,FV8,FP8,FJ8,FD8,EX8,ER8,EL8,EF8) -> 40.719536 | GI8: =SUM(GC8,FW8,FQ8,FK8,FE8,EY8,ES8,EM8,EG8) -> 469.53398 | GJ8: =SUM(EH8,EN8,ET8,EZ8,FF8,FL8,FR8,FX8,GD8) -> 0 | GK8: =SUM(GF8:GJ8) -> 1584631.9 | GM8: =SUM(GF8,DX8,AX8) -> 1707617.9 | GN8: =SUM(GG8,DY8,AY8) -> 63863.435 | GO8: =SUM(GH8,DZ8,AZ8) -> 268.98313 | GP8: =SUM(GI8,EA8,BA8) -> 644.62691 | GQ8: =SUM(GJ8,EB8,BB8) -> 0 | GR8: =SUM(GK8,EC8,BC8) -> 1772394.9
A9: IBD=Douglas-fir Beetle | B9: 16.537979 | C9: 998.60614 | D9: 50.986285 | E9: 50.650773 | G9: =SUM(B9:F9) -> 1116.7812 | I9: 151.79008 | J9: 10.449857 | K9: 17 | M9: =SUM(H9:L9) -> 179.23993 | O9: 1411.93 | Q9: 23.180824 | S9: =SUM(N9:R9) -> 1435.1109 | Y9: =SUM(T9:X9) -> 0 | AA9: 15.796623 | AB9: 42.754949 | AC9: 16.5 | AE9: =SUM(Z9:AD9) -> 75.051572 | AG9: 67.676073 | AH9: 470.42658 | AI9: 197.87099 | AK9: =SUM(AF9:AJ9) -> 735.97365 | AM9: 4.0956374 | AO9: 10.5 | AQ9: =SUM(AL9:AP9) -> 14.595637 | AW9: =SUM(AR9:AV9) -> 0 | AX9: =SUM(AR9,AF9,Z9,T9,N9,H9,B9,AL9) -> 16.537979 | AY9: =SUM(AS9,AG9,AA9,U9,O9,I9,C9, AM9) -> 2649.8946 | AZ9: =SUM(AT9,AH9,AB9,V9,P9,J9, AN9,D9) -> 574.61767 | BA9: =SUM(AU9, AI9,AC9,W9,Q9,K9,E9, AO9) -> 315.70259 | BB9: =SUM(F9,L9,R9,X9,AD9,AJ9,AP9,AV9) -> 0 | BC9: =SUM(AX9:BB9) -> 3556.7528 | BD9: 1737.9429 | BE9: 1087.2714 | BG9: 72 | BI9: =SUM(BD9:BH9) -> 2897.2144 | BJ9: 550.88988 | BK9: 121.54459 | BM9: 85.75 | BO9: =SUM(BJ9:BN9) -> 758.18447 | BP9: 2473.9615 | BQ9: 330.43902 | BS9: 66.75 | BU9: =SUM(BP9:BT9) -> 2871.1505 | BV9: 132.59846 | BW9: 353.25929 | BX9: 142.30064 | BY9: 25.75 | CA9: =SUM(BV9:BZ9) -> 653.90839 | CC9: 130.83095 | CD9: 128.8643 | CE9: 23.218615 | CG9: =SUM(CB9:CF9) -> 282.91386 | CH9: 7.3602327 | CI9: 152.16573 | CJ9: 287.68882 | CK9: 187.85146 | CM9: =SUM(CH9:CL9) -> 635.06624 | CN9: 3.9068127 | CO9: 208.60647 | CP9: 149.68936 | CQ9: 56.323745 | CS9: =SUM(CN9:CR9) -> 418.52638 | CU9: 185.4163 | CV9: 256.66977 | CW9: 134.705 | CX9: 15.606702 | CY9: =SUM(CT9:CX9) -> 592.39778 | DA9: 88.234928 | DB9: 12.507827 | DC9: 18 | DE9: =SUM(CZ9:DD9) -> 118.74275 | DF9: 66.412482 | DG9: 597.94843 | DH9: 603.63498 | DI9: 19 | DK9: =SUM(DF9:DJ9) -> 1286.9959 | DL9: 73.321316 | DM9: 386.4171 | DN9: 83.30945 | DO9: 10.25 | DQ9: =SUM(DL9:DP9) -> 553.29786 | DS9: 260.98248 | DT9: 48.154815 | DU9: 11 | DW9: =SUM(DR9:DV9) -> 320.1373 | DX9: =SUM(DR9,DL9,DF9,CZ9,CT9,CN9,CH9,CB9,BV9,BP9,BJ9,BD9) -> 5046.3937 | DY9: =SUM(DS9,DM9,DG9,DA9,CU9,CO9,CI9,CC9,BW9,BQ9,BK9,BE9) -> 3903.1167 | DZ9: =SUM(DT9,DN9,DH9,DB9,CV9,CP9,CJ9,CD9,BX9,BR9,BL9,BF9) -> 1712.82 | EA9: =SUM(DU9,DO9,DI9,DC9,CW9,CQ9,CK9,CE9,BY9,BS9,BM9,BG9) -> 710.59883 | EB9: =SUM(BH9,BN9,BT9,BZ9,CF9,CL9,CR9,CX9,DD9,DJ9,DP9,DV9) -> 15.606702 | EC9: =SUM(DX9:EB9) -> 11388.536 | EI9: =SUM(ED9:EH9) -> 0 | EO9: =SUM(EJ9:EN9) -> 0 | EU9: =SUM(EP9:ET9) -> 0 | EV9: 570.00112 | EW9: 232.56281 | EY9: 31.25 | FA9: =SUM(EV9:EZ9) -> 833.81393 | FE9: 3.5 | FG9: =SUM(FB9:FF9) -> 3.5 | FK9: 6 | FM9: =SUM(FH9:FL9) -> 6 | FS9: =SUM(FN9:FR9) -> 0 | FY9: =SUM(FT9:FX9) -> 0 | GE9: =SUM(FZ9:GD9) -> 0 | GF9: =SUM(FZ9,FT9,FN9,FH9,FB9,EV9,EP9,EJ9,ED9) -> 570.00112 | GG9: =SUM(GA9,FU9,FO9,FI9,FC9,EW9,EQ9,EK9,EE9) -> 232.56281 | GH9: =SUM(GB9,FV9,FP9,FJ9,FD9,EX9,ER9,EL9,EF9) -> 0 | GI9: =SUM(GC9,FW9,FQ9,FK9,FE9,EY9,ES9,EM9,EG9) -> 40.75 | GJ9: =SUM(EH9,EN9,ET9,EZ9,FF9,FL9,FR9,FX9,GD9) -> 0 | GK9: =SUM(GF9:GJ9) -> 843.31393 | GM9: =SUM(GF9,DX9,AX9) -> 5632.9328 | GN9: =SUM(GG9,DY9,AY9) -> 6785.5741 | GO9: =SUM(GH9,DZ9,AZ9) -> 2287.4376 | GP9: =SUM(GI9,EA9,BA9) -> 1067.0514 | GQ9: =SUM(GJ9,EB9,BB9) -> 15.606702 | GR9: =SUM(GK9,EC9,BC9) -> 15788.603
A10: IBF = Fir engraver Beetle | G10: =SUM(B10:F10) -> 0 | M10: =SUM(H10:L10) -> 0 | S10: =SUM(N10:R10) -> 0 | Y10: =SUM(T10:X10) -> 0 | AE10: =SUM(Z10:AD10) -> 0 | AK10: =SUM(AF10:AJ10) -> 0 | AQ10: =SUM(AL10:AP10) -> 0 | AW10: =SUM(AR10:AV10) -> 0 | AX10: =SUM(AR10,AF10,Z10,T10,N10,H10,B10,AL10) -> 0 | AY10: =SUM(AS10,AG10,AA10,U10,O10,I10,C10, AM10) -> 0 | AZ10: =SUM(AT10,AH10,AB10,V10,P10,J10, AN10,D10) -> 0 | BA10: =SUM(AU10, AI10,AC10,W10,Q10,K10,E10, AO10) -> 0 | BB10: =SUM(F10,L10,R10,X10,AD10,AJ10,AP10,AV10) -> 0 | BC10: =SUM(AX10:BB10) -> 0 | BI10: =SUM(BD10:BH10) -> 0 | BO10: =SUM(BJ10:BN10) -> 0 | BU10: =SUM(BP10:BT10) -> 0 | CA10: =SUM(BV10:BZ10) -> 0 | CG10: =SUM(CB10:CF10) -> 0 | CM10: =SUM(CH10:CL10) -> 0 | CS10: =SUM(CN10:CR10) -> 0 | CY10: =SUM(CT10:CX10) -> 0 | DE10: =SUM(CZ10:DD10) -> 0 | DK10: =SUM(DF10:DJ10) -> 0 | DQ10: =SUM(DL10:DP10) -> 0 | DW10: =SUM(DR10:DV10) -> 0 | DX10: =SUM(DR10,DL10,DF10,CZ10,CT10,CN10,CH10,CB10,BV10,BP10,BJ10,BD10) -> 0 | DY10: =SUM(DS10,DM10,DG10,DA10,CU10,CO10,CI10,CC10,BW10,BQ10,BK10,BE10) -> 0 | DZ10: =SUM(DT10,DN10,DH10,DB10,CV10,CP10,CJ10,CD10,BX10,BR10,BL10,BF10) -> 0 | EA10: =SUM(DU10,DO10,DI10,DC10,CW10,CQ10,CK10,CE10,BY10,BS10,BM10,BG10) -> 0 | EB10: =SUM(BH10,BN10,BT10,BZ10,CF10,CL10,CR10,CX10,DD10,DJ10,DP10,DV10) -> 0 | EC10: =SUM(DX10:EB10) -> 0 | EI10: =SUM(ED10:EH10) -> 0 | EO10: =SUM(EJ10:EN10) -> 0 | EU10: =SUM(EP10:ET10) -> 0 | FA10: =SUM(EV10:EZ10) -> 0 | FG10: =SUM(FB10:FF10) -> 0 | FM10: =SUM(FH10:FL10) -> 0 | FS10: =SUM(FN10:FR10) -> 0 | FY10: =SUM(FT10:FX10) -> 0 | GE10: =SUM(FZ10:GD10) -> 0 | GF10: =SUM(FZ10,FT10,FN10,FH10,FB10,EV10,EP10,EJ10,ED10) -> 0 | GG10: =SUM(GA10,FU10,FO10,FI10,FC10,EW10,EQ10,EK10,EE10) -> 0 | GH10: =SUM(GB10,FV10,FP10,FJ10,FD10,EX10,ER10,EL10,EF10) -> 0 | GI10: =SUM(GC10,FW10,FQ10,FK10,FE10,EY10,ES10,EM10,EG10) -> 0 | GJ10: =SUM(EH10,EN10,ET10,EZ10,FF10,FL10,FR10,FX10,GD10) -> 0 | GK10: =SUM(GF10:GJ10) -> 0 | GM10: =SUM(GF10,DX10,AX10) -> 0 | GN10: =SUM(GG10,DY10,AY10) -> 0 | GO10: =SUM(GH10,DZ10,AZ10) -> 0 | GP10: =SUM(GI10,EA10,BA10) -> 0 | GQ10: =SUM(GJ10,EB10,BB10) -> 0 | GR10: =SUM(GK10,EC10,BC10) -> 0
A11: IBP = Twig Beetle | G11: =SUM(B11:F11) -> 0 | M11: =SUM(H11:L11) -> 0 | S11: =SUM(N11:R11) -> 0 | Y11: =SUM(T11:X11) -> 0 | AE11: =SUM(Z11:AD11) -> 0 | AK11: =SUM(AF11:AJ11) -> 0 | AQ11: =SUM(AL11:AP11) -> 0 | AW11: =SUM(AR11:AV11) -> 0 | AX11: =SUM(AR11,AF11,Z11,T11,N11,H11,B11,AL11) -> 0 | AY11: =SUM(AS11,AG11,AA11,U11,O11,I11,C11, AM11) -> 0 | AZ11: =SUM(AT11,AH11,AB11,V11,P11,J11, AN11,D11) -> 0 | BA11: =SUM(AU11, AI11,AC11,W11,Q11,K11,E11, AO11) -> 0 | BB11: =SUM(F11,L11,R11,X11,AD11,AJ11,AP11,AV11) -> 0 | BC11: =SUM(AX11:BB11) -> 0 | BI11: =SUM(BD11:BH11) -> 0 | BO11: =SUM(BJ11:BN11) -> 0 | BU11: =SUM(BP11:BT11) -> 0 | CA11: =SUM(BV11:BZ11) -> 0 | CG11: =SUM(CB11:CF11) -> 0 | CM11: =SUM(CH11:CL11) -> 0 | CS11: =SUM(CN11:CR11) -> 0 | CY11: =SUM(CT11:CX11) -> 0 | DE11: =SUM(CZ11:DD11) -> 0 | DK11: =SUM(DF11:DJ11) -> 0 | DQ11: =SUM(DL11:DP11) -> 0 | DW11: =SUM(DR11:DV11) -> 0 | DX11: =SUM(DR11,DL11,DF11,CZ11,CT11,CN11,CH11,CB11,BV11,BP11,BJ11,BD11) -> 0 | DY11: =SUM(DS11,DM11,DG11,DA11,CU11,CO11,CI11,CC11,BW11,BQ11,BK11,BE11) -> 0 | DZ11: =SUM(DT11,DN11,DH11,DB11,CV11,CP11,CJ11,CD11,BX11,BR11,BL11,BF11) -> 0 | EA11: =SUM(DU11,DO11,DI11,DC11,CW11,CQ11,CK11,CE11,BY11,BS11,BM11,BG11) -> 0 | EB11: =SUM(BH11,BN11,BT11,BZ11,CF11,CL11,CR11,CX11,DD11,DJ11,DP11,DV11) -> 0 | EC11: =SUM(DX11:EB11) -> 0 | EI11: =SUM(ED11:EH11) -> 0 | EO11: =SUM(EJ11:EN11) -> 0 | EU11: =SUM(EP11:ET11) -> 0 | FA11: =SUM(EV11:EZ11) -> 0 | FG11: =SUM(FB11:FF11) -> 0 | FM11: =SUM(FH11:FL11) -> 0 | FS11: =SUM(FN11:FR11) -> 0 | FY11: =SUM(FT11:FX11) -> 0 | GE11: =SUM(FZ11:GD11) -> 0 | GF11: =SUM(FZ11,FT11,FN11,FH11,FB11,EV11,EP11,EJ11,ED11) -> 0 | GG11: =SUM(GA11,FU11,FO11,FI11,FC11,EW11,EQ11,EK11,EE11) -> 0 | GH11: =SUM(GB11,FV11,FP11,FJ11,FD11,EX11,ER11,EL11,EF11) -> 0 | GI11: =SUM(GC11,FW11,FQ11,FK11,FE11,EY11,ES11,EM11,EG11) -> 0 | GJ11: =SUM(EH11,EN11,ET11,EZ11,FF11,FL11,FR11,FX11,GD11) -> 0 | GK11: =SUM(GF11:GJ11) -> 0 | GM11: =SUM(GF11,DX11,AX11) -> 0 | GN11: =SUM(GG11,DY11,AY11) -> 0 | GO11: =SUM(GH11,DZ11,AZ11) -> 0 | GP11: =SUM(GI11,EA11,BA11) -> 0 | GQ11: =SUM(GJ11,EB11,BB11) -> 0 | GR11: =SUM(GK11,EC11,BC11) -> 0
A12: IBI=Engraver Beetle (Ips species) | G12: =SUM(B12:F12) -> 0 | M12: =SUM(H12:L12) -> 0 | S12: =SUM(N12:R12) -> 0 | Y12: =SUM(T12:X12) -> 0 | AE12: =SUM(Z12:AD12) -> 0 | AK12: =SUM(AF12:AJ12) -> 0 | AQ12: =SUM(AL12:AP12) -> 0 | AW12: =SUM(AR12:AV12) -> 0 | AX12: =SUM(AR12,AF12,Z12,T12,N12,H12,B12,AL12) -> 0 | AY12: =SUM(AS12,AG12,AA12,U12,O12,I12,C12, AM12) -> 0 | AZ12: =SUM(AT12,AH12,AB12,V12,P12,J12, AN12,D12) -> 0 | BA12: =SUM(AU12, AI12,AC12,W12,Q12,K12,E12, AO12) -> 0 | BB12: =SUM(F12,L12,R12,X12,AD12,AJ12,AP12,AV12) -> 0 | BC12: =SUM(AX12:BB12) -> 0 | BI12: =SUM(BD12:BH12) -> 0 | BO12: =SUM(BJ12:BN12) -> 0 | BU12: =SUM(BP12:BT12) -> 0 | CA12: =SUM(BV12:BZ12) -> 0 | CG12: =SUM(CB12:CF12) -> 0 | CM12: =SUM(CH12:CL12) -> 0 | CS12: =SUM(CN12:CR12) -> 0 | CY12: =SUM(CT12:CX12) -> 0 | DE12: =SUM(CZ12:DD12) -> 0 | DK12: =SUM(DF12:DJ12) -> 0 | DQ12: =SUM(DL12:DP12) -> 0 | DW12: =SUM(DR12:DV12) -> 0 | DX12: =SUM(DR12,DL12,DF12,CZ12,CT12,CN12,CH12,CB12,BV12,BP12,BJ12,BD12) -> 0 | DY12: =SUM(DS12,DM12,DG12,DA12,CU12,CO12,CI12,CC12,BW12,BQ12,BK12,BE12) -> 0 | DZ12: =SUM(DT12,DN12,DH12,DB12,CV12,CP12,CJ12,CD12,BX12,BR12,BL12,BF12) -> 0 | EA12: =SUM(DU12,DO12,DI12,DC12,CW12,CQ12,CK12,CE12,BY12,BS12,BM12,BG12) -> 0 | EB12: =SUM(BH12,BN12,BT12,BZ12,CF12,CL12,CR12,CX12,DD12,DJ12,DP12,DV12) -> 0 | EC12: =SUM(DX12:EB12) -> 0 | EI12: =SUM(ED12:EH12) -> 0 | EO12: =SUM(EJ12:EN12) -> 0 | EU12: =SUM(EP12:ET12) -> 0 | FA12: =SUM(EV12:EZ12) -> 0 | FG12: =SUM(FB12:FF12) -> 0 | FM12: =SUM(FH12:FL12) -> 0 | FS12: =SUM(FN12:FR12) -> 0 | FY12: =SUM(FT12:FX12) -> 0 | GE12: =SUM(FZ12:GD12) -> 0 | GF12: =SUM(FZ12,FT12,FN12,FH12,FB12,EV12,EP12,EJ12,ED12) -> 0 | GG12: =SUM(GA12,FU12,FO12,FI12,FC12,EW12,EQ12,EK12,EE12) -> 0 | GH12: =SUM(GB12,FV12,FP12,FJ12,FD12,EX12,ER12,EL12,EF12) -> 0 | GI12: =SUM(GC12,FW12,FQ12,FK12,FE12,EY12,ES12,EM12,EG12) -> 0 | GJ12: =SUM(EH12,EN12,ET12,EZ12,FF12,FL12,FR12,FX12,GD12) -> 0 | GK12: =SUM(GF12:GJ12) -> 0 | GM12: =SUM(GF12,DX12,AX12) -> 0 | GN12: =SUM(GG12,DY12,AY12) -> 0 | GO12: =SUM(GH12,DZ12,AZ12) -> 0 | GP12: =SUM(GI12,EA12,BA12) -> 0 | GQ12: =SUM(GJ12,EB12,BB12) -> 0 | GR12: =SUM(GK12,EC12,BC12) -> 0
A13: IBW=Western Pine Beetle | G13: =SUM(B13:F13) -> 0 | M13: =SUM(H13:L13) -> 0 | S13: =SUM(N13:R13) -> 0 | Y13: =SUM(T13:X13) -> 0 | AE13: =SUM(Z13:AD13) -> 0 | AK13: =SUM(AF13:AJ13) -> 0 | AQ13: =SUM(AL13:AP13) -> 0 | AW13: =SUM(AR13:AV13) -> 0 | AX13: =SUM(AR13,AF13,Z13,T13,N13,H13,B13,AL13) -> 0 | AY13: =SUM(AS13,AG13,AA13,U13,O13,I13,C13, AM13) -> 0 | AZ13: =SUM(AT13,AH13,AB13,V13,P13,J13, AN13,D13) -> 0 | BA13: =SUM(AU13, AI13,AC13,W13,Q13,K13,E13, AO13) -> 0 | BB13: =SUM(F13,L13,R13,X13,AD13,AJ13,AP13,AV13) -> 0 | BC13: =SUM(AX13:BB13) -> 0 | BI13: =SUM(BD13:BH13) -> 0 | BO13: =SUM(BJ13:BN13) -> 0 | BU13: =SUM(BP13:BT13) -> 0 | CA13: =SUM(BV13:BZ13) -> 0 | CG13: =SUM(CB13:CF13) -> 0 | CM13: =SUM(CH13:CL13) -> 0 | CS13: =SUM(CN13:CR13) -> 0 | CY13: =SUM(CT13:CX13) -> 0 | DE13: =SUM(CZ13:DD13) -> 0 | DK13: =SUM(DF13:DJ13) -> 0 | DQ13: =SUM(DL13:DP13) -> 0 | DW13: =SUM(DR13:DV13) -> 0 | DX13: =SUM(DR13,DL13,DF13,CZ13,CT13,CN13,CH13,CB13,BV13,BP13,BJ13,BD13) -> 0 | DY13: =SUM(DS13,DM13,DG13,DA13,CU13,CO13,CI13,CC13,BW13,BQ13,BK13,BE13) -> 0 | DZ13: =SUM(DT13,DN13,DH13,DB13,CV13,CP13,CJ13,CD13,BX13,BR13,BL13,BF13) -> 0 | EA13: =SUM(DU13,DO13,DI13,DC13,CW13,CQ13,CK13,CE13,BY13,BS13,BM13,BG13) -> 0 | EB13: =SUM(BH13,BN13,BT13,BZ13,CF13,CL13,CR13,CX13,DD13,DJ13,DP13,DV13) -> 0 | EC13: =SUM(DX13:EB13) -> 0 | EI13: =SUM(ED13:EH13) -> 0 | EO13: =SUM(EJ13:EN13) -> 0 | EU13: =SUM(EP13:ET13) -> 0 | FA13: =SUM(EV13:EZ13) -> 0 | FG13: =SUM(FB13:FF13) -> 0 | FM13: =SUM(FH13:FL13) -> 0 | FS13: =SUM(FN13:FR13) -> 0 | FY13: =SUM(FT13:FX13) -> 0 | GE13: =SUM(FZ13:GD13) -> 0 | GF13: =SUM(FZ13,FT13,FN13,FH13,FB13,EV13,EP13,EJ13,ED13) -> 0 | GG13: =SUM(GA13,FU13,FO13,FI13,FC13,EW13,EQ13,EK13,EE13) -> 0 | GH13: =SUM(GB13,FV13,FP13,FJ13,FD13,EX13,ER13,EL13,EF13) -> 0 | GI13: =SUM(GC13,FW13,FQ13,FK13,FE13,EY13,ES13,EM13,EG13) -> 0 | GJ13: =SUM(EH13,EN13,ET13,EZ13,FF13,FL13,FR13,FX13,GD13) -> 0 | GK13: =SUM(GF13:GJ13) -> 0 | GM13: =SUM(GF13,DX13,AX13) -> 0 | GN13: =SUM(GG13,DY13,AY13) -> 0 | GO13: =SUM(GH13,DZ13,AZ13) -> 0 | GP13: =SUM(GI13,EA13,BA13) -> 0 | GQ13: =SUM(GJ13,EB13,BB13) -> 0 | GR13: =SUM(GK13,EC13,BC13) -> 0
A14: IBL=Lodgepole Pine Beetle | G14: =SUM(B14:F14) -> 0 | M14: =SUM(H14:L14) -> 0 | S14: =SUM(N14:R14) -> 0 | Y14: =SUM(T14:X14) -> 0 | AE14: =SUM(Z14:AD14) -> 0 | AK14: =SUM(AF14:AJ14) -> 0 | AQ14: =SUM(AL14:AP14) -> 0 | AW14: =SUM(AR14:AV14) -> 0 | AX14: =SUM(AR14,AF14,Z14,T14,N14,H14,B14,AL14) -> 0 | AY14: =SUM(AS14,AG14,AA14,U14,O14,I14,C14, AM14) -> 0 | AZ14: =SUM(AT14,AH14,AB14,V14,P14,J14, AN14,D14) -> 0 | BA14: =SUM(AU14, AI14,AC14,W14,Q14,K14,E14, AO14) -> 0 | BB14: =SUM(F14,L14,R14,X14,AD14,AJ14,AP14,AV14) -> 0 | BC14: =SUM(AX14:BB14) -> 0 | BI14: =SUM(BD14:BH14) -> 0 | BO14: =SUM(BJ14:BN14) -> 0 | BU14: =SUM(BP14:BT14) -> 0 | CA14: =SUM(BV14:BZ14) -> 0 | CG14: =SUM(CB14:CF14) -> 0 | CM14: =SUM(CH14:CL14) -> 0 | CS14: =SUM(CN14:CR14) -> 0 | CY14: =SUM(CT14:CX14) -> 0 | DE14: =SUM(CZ14:DD14) -> 0 | DK14: =SUM(DF14:DJ14) -> 0 | DQ14: =SUM(DL14:DP14) -> 0 | DW14: =SUM(DR14:DV14) -> 0 | DX14: =SUM(DR14,DL14,DF14,CZ14,CT14,CN14,CH14,CB14,BV14,BP14,BJ14,BD14) -> 0 | DY14: =SUM(DS14,DM14,DG14,DA14,CU14,CO14,CI14,CC14,BW14,BQ14,BK14,BE14) -> 0 | DZ14: =SUM(DT14,DN14,DH14,DB14,CV14,CP14,CJ14,CD14,BX14,BR14,BL14,BF14) -> 0 | EA14: =SUM(DU14,DO14,DI14,DC14,CW14,CQ14,CK14,CE14,BY14,BS14,BM14,BG14) -> 0 | EB14: =SUM(BH14,BN14,BT14,BZ14,CF14,CL14,CR14,CX14,DD14,DJ14,DP14,DV14) -> 0 | EC14: =SUM(DX14:EB14) -> 0 | EI14: =SUM(ED14:EH14) -> 0 | EO14: =SUM(EJ14:EN14) -> 0 | EU14: =SUM(EP14:ET14) -> 0 | FA14: =SUM(EV14:EZ14) -> 0 | FG14: =SUM(FB14:FF14) -> 0 | FM14: =SUM(FH14:FL14) -> 0 | FS14: =SUM(FN14:FR14) -> 0 | FY14: =SUM(FT14:FX14) -> 0 | GE14: =SUM(FZ14:GD14) -> 0 | GF14: =SUM(FZ14,FT14,FN14,FH14,FB14,EV14,EP14,EJ14,ED14) -> 0 | GG14: =SUM(GA14,FU14,FO14,FI14,FC14,EW14,EQ14,EK14,EE14) -> 0 | GH14: =SUM(GB14,FV14,FP14,FJ14,FD14,EX14,ER14,EL14,EF14) -> 0 | GI14: =SUM(GC14,FW14,FQ14,FK14,FE14,EY14,ES14,EM14,EG14) -> 0 | GJ14: =SUM(EH14,EN14,ET14,EZ14,FF14,FL14,FR14,FX14,GD14) -> 0 | GK14: =SUM(GF14:GJ14) -> 0 | GM14: =SUM(GF14,DX14,AX14) -> 0 | GN14: =SUM(GG14,DY14,AY14) -> 0 | GO14: =SUM(GH14,DZ14,AZ14) -> 0 | GP14: =SUM(GI14,EA14,BA14) -> 0 | GQ14: =SUM(GJ14,EB14,BB14) -> 0 | GR14: =SUM(GK14,EC14,BC14) -> 0
A15: IBT=Red Turpentine Beetle | G15: =SUM(B15:F15) -> 0 | M15: =SUM(H15:L15) -> 0 | S15: =SUM(N15:R15) -> 0 | Y15: =SUM(T15:X15) -> 0 | AE15: =SUM(Z15:AD15) -> 0 | AK15: =SUM(AF15:AJ15) -> 0 | AQ15: =SUM(AL15:AP15) -> 0 | AW15: =SUM(AR15:AV15) -> 0 | AX15: =SUM(AR15,AF15,Z15,T15,N15,H15,B15,AL15) -> 0 | AY15: =SUM(AS15,AG15,AA15,U15,O15,I15,C15, AM15) -> 0 | AZ15: =SUM(AT15,AH15,AB15,V15,P15,J15, AN15,D15) -> 0 | BA15: =SUM(AU15, AI15,AC15,W15,Q15,K15,E15, AO15) -> 0 | BB15: =SUM(F15,L15,R15,X15,AD15,AJ15,AP15,AV15) -> 0 | BC15: =SUM(AX15:BB15) -> 0 | BI15: =SUM(BD15:BH15) -> 0 | BO15: =SUM(BJ15:BN15) -> 0 | BU15: =SUM(BP15:BT15) -> 0 | CA15: =SUM(BV15:BZ15) -> 0 | CG15: =SUM(CB15:CF15) -> 0 | CM15: =SUM(CH15:CL15) -> 0 | CS15: =SUM(CN15:CR15) -> 0 | CY15: =SUM(CT15:CX15) -> 0 | DE15: =SUM(CZ15:DD15) -> 0 | DK15: =SUM(DF15:DJ15) -> 0 | DQ15: =SUM(DL15:DP15) -> 0 | DW15: =SUM(DR15:DV15) -> 0 | DX15: =SUM(DR15,DL15,DF15,CZ15,CT15,CN15,CH15,CB15,BV15,BP15,BJ15,BD15) -> 0 | DY15: =SUM(DS15,DM15,DG15,DA15,CU15,CO15,CI15,CC15,BW15,BQ15,BK15,BE15) -> 0 | DZ15: =SUM(DT15,DN15,DH15,DB15,CV15,CP15,CJ15,CD15,BX15,BR15,BL15,BF15) -> 0 | EA15: =SUM(DU15,DO15,DI15,DC15,CW15,CQ15,CK15,CE15,BY15,BS15,BM15,BG15) -> 0 | EB15: =SUM(BH15,BN15,BT15,BZ15,CF15,CL15,CR15,CX15,DD15,DJ15,DP15,DV15) -> 0 | EC15: =SUM(DX15:EB15) -> 0 | EI15: =SUM(ED15:EH15) -> 0 | EO15: =SUM(EJ15:EN15) -> 0 | EU15: =SUM(EP15:ET15) -> 0 | FA15: =SUM(EV15:EZ15) -> 0 | FG15: =SUM(FB15:FF15) -> 0 | FM15: =SUM(FH15:FL15) -> 0 | FS15: =SUM(FN15:FR15) -> 0 | FY15: =SUM(FT15:FX15) -> 0 | GE15: =SUM(FZ15:GD15) -> 0 | GF15: =SUM(FZ15,FT15,FN15,FH15,FB15,EV15,EP15,EJ15,ED15) -> 0 | GG15: =SUM(GA15,FU15,FO15,FI15,FC15,EW15,EQ15,EK15,EE15) -> 0 | GH15: =SUM(GB15,FV15,FP15,FJ15,FD15,EX15,ER15,EL15,EF15) -> 0 | GI15: =SUM(GC15,FW15,FQ15,FK15,FE15,EY15,ES15,EM15,EG15) -> 0 | GJ15: =SUM(EH15,EN15,ET15,EZ15,FF15,FL15,FR15,FX15,GD15) -> 0 | GK15: =SUM(GF15:GJ15) -> 0 | GM15: =SUM(GF15,DX15,AX15) -> 0 | GN15: =SUM(GG15,DY15,AY15) -> 0 | GO15: =SUM(GH15,DZ15,AZ15) -> 0 | GP15: =SUM(GI15,EA15,BA15) -> 0 | GQ15: =SUM(GJ15,EB15,BB15) -> 0 | GR15: =SUM(GK15,EC15,BC15) -> 0
A16: IB=Unknown Beetle | G16: =SUM(B16:F16) -> 0 | M16: =SUM(H16:L16) -> 0 | S16: =SUM(N16:R16) -> 0 | Y16: =SUM(T16:X16) -> 0 | AE16: =SUM(Z16:AD16) -> 0 | AK16: =SUM(AF16:AJ16) -> 0 | AQ16: =SUM(AL16:AP16) -> 0 | AW16: =SUM(AR16:AV16) -> 0 | AX16: =SUM(AR16,AF16,Z16,T16,N16,H16,B16,AL16) -> 0 | AY16: =SUM(AS16,AG16,AA16,U16,O16,I16,C16, AM16) -> 0 | AZ16: =SUM(AT16,AH16,AB16,V16,P16,J16, AN16,D16) -> 0 | BA16: =SUM(AU16, AI16,AC16,W16,Q16,K16,E16, AO16) -> 0 | BB16: =SUM(F16,L16,R16,X16,AD16,AJ16,AP16,AV16) -> 0 | BC16: =SUM(AX16:BB16) -> 0 | BI16: =SUM(BD16:BH16) -> 0 | BO16: =SUM(BJ16:BN16) -> 0 | BU16: =SUM(BP16:BT16) -> 0 | CA16: =SUM(BV16:BZ16) -> 0 | CG16: =SUM(CB16:CF16) -> 0 | CM16: =SUM(CH16:CL16) -> 0 | CS16: =SUM(CN16:CR16) -> 0 | CY16: =SUM(CT16:CX16) -> 0 | DE16: =SUM(CZ16:DD16) -> 0 | DK16: =SUM(DF16:DJ16) -> 0 | DQ16: =SUM(DL16:DP16) -> 0 | DW16: =SUM(DR16:DV16) -> 0 | DX16: =SUM(DR16,DL16,DF16,CZ16,CT16,CN16,CH16,CB16,BV16,BP16,BJ16,BD16) -> 0 | DY16: =SUM(DS16,DM16,DG16,DA16,CU16,CO16,CI16,CC16,BW16,BQ16,BK16,BE16) -> 0 | DZ16: =SUM(DT16,DN16,DH16,DB16,CV16,CP16,CJ16,CD16,BX16,BR16,BL16,BF16) -> 0 | EA16: =SUM(DU16,DO16,DI16,DC16,CW16,CQ16,CK16,CE16,BY16,BS16,BM16,BG16) -> 0 | EB16: =SUM(BH16,BN16,BT16,BZ16,CF16,CL16,CR16,CX16,DD16,DJ16,DP16,DV16) -> 0 | EC16: =SUM(DX16:EB16) -> 0 | EI16: =SUM(ED16:EH16) -> 0 | EO16: =SUM(EJ16:EN16) -> 0 | EU16: =SUM(EP16:ET16) -> 0 | FA16: =SUM(EV16:EZ16) -> 0 | FG16: =SUM(FB16:FF16) -> 0 | FM16: =SUM(FH16:FL16) -> 0 | FS16: =SUM(FN16:FR16) -> 0 | FY16: =SUM(FT16:FX16) -> 0 | GE16: =SUM(FZ16:GD16) -> 0 | GF16: =SUM(FZ16,FT16,FN16,FH16,FB16,EV16,EP16,EJ16,ED16) -> 0 | GG16: =SUM(GA16,FU16,FO16,FI16,FC16,EW16,EQ16,EK16,EE16) -> 0 | GH16: =SUM(GB16,FV16,FP16,FJ16,FD16,EX16,ER16,EL16,EF16) -> 0 | GI16: =SUM(GC16,FW16,FQ16,FK16,FE16,EY16,ES16,EM16,EG16) -> 0 | GJ16: =SUM(EH16,EN16,ET16,EZ16,FF16,FL16,FR16,FX16,GD16) -> 0 | GK16: =SUM(GF16:GJ16) -> 0 | GM16: =SUM(GF16,DX16,AX16) -> 0 | GN16: =SUM(GG16,DY16,AY16) -> 0 | GO16: =SUM(GH16,DZ16,AZ16) -> 0 | GP16: =SUM(GI16,EA16,BA16) -> 0 | GQ16: =SUM(GJ16,EB16,BB16) -> 0 | GR16: =SUM(GK16,EC16,BC16) -> 0
A17: Total All BB= | B17: =SUM(B6:B16) -> 263.79156 | C17: =SUM(C6:C16) -> 10011.835 | D17: =SUM(D6:D16) -> 1316.7391 | E17: =SUM(E6:E16) -> 396.00193 | F17: =SUM(F6:F16) -> 0 | G17: =SUM(G6:G16) -> 11988.368 | H17: =SUM(H6:H16) -> 7850.5403 | I17: =SUM(I6:I16) -> 824.72145 | ... GK17: =SUM(GK6:GK16) -> 7255401.6 | GM17: =SUM(GM6:GM16) -> 4104525.3 | GN17: =SUM(GN6:GN16) -> 1897679.2 | GO17: =SUM(GO6:GO16) -> 1526762.6 | GP17: =SUM(GP6:GP16) -> 523025.88 | GQ17: =SUM(GQ6:GQ16) -> 17872.456 | GR17: =SUM(GR6:GR16) -> 8069865.5
A19: Defoliators
A20: ID=Defoliators | D20: 25.639656 | G20: =SUM(B20:F20) -> 25.639656 | K20: 36.563205 | M20: =SUM(H20:L20) -> 36.563205 | P20: 11.88563 | Q20: 0.25 | S20: =SUM(N20:R20) -> 12.13563 | Y20: =SUM(T20:X20) -> 0 | AE20: =SUM(Z20:AD20) -> 0 | AG20: 13.914301 | AK20: =SUM(AF20:AJ20) -> 13.914301 | AQ20: =SUM(AL20:AP20) -> 0 | AS20: 527.20881 | AT20: 1639.0775 | AU20: 3354.7749 | AW20: =SUM(AR20:AV20) -> 5521.0612 | AX20: =SUM(AR20, AF20, Z20,T20,N20,H20,B20,AL20) -> 0 | AY20: =SUM(AS20, AG20, AA20,U20,O20,I20,C20,AM20) -> 541.12312 | AZ20: =SUM(AT20, AH20, AB20,V20,P20,J20,D20,AN20) -> 1676.6027 | BA20: =SUM(AU20, AI20,AC20,W20,Q20,K20,E20,AO20) -> 3391.5881 | BB20: =SUM(F20,L20,R20,X20,AD20,AJ20,AP20,AV20) -> 0 | BC20: =SUM(AX20:BB20) -> 5609.314 | BI20: =SUM(BD20:BH20) -> 0 | BO20: =SUM(BJ20:BN20) -> 0 | BU20: =SUM(BP20:BT20) -> 0 | CA20: =SUM(BV20:BZ20) -> 0 | CG20: =SUM(CB20:CF20) -> 0 | CM20: =SUM(CH20:CL20) -> 0 | CS20: =SUM(CN20:CR20) -> 0 | CY20: =SUM(CT20:CX20) -> 0 | DE20: =SUM(CZ20:DD20) -> 0 | DK20: =SUM(DF20:DJ20) -> 0 | DM20: 31.145551 | DQ20: =SUM(DL20:DP20) -> 31.145551 | DW20: =SUM(DR20:DV20) -> 0 | DX20: =SUM(DR20,DL20,DF20,CZ20,CT20,CN20,CH20,CB20,BV20,BP20,BJ20,BD20) -> 0 | DY20: =SUM(DS20,DM20,DG20,DA20,CU20,CO20,CI20,CC20,BW20,BQ20,BK20,BE20) -> 31.145551 | DZ20: =SUM(DT20,DN20,DH20,DB20,CV20,CP20,CJ20,CD20,BX20,BR20,BL20,BF20) -> 0 | EA20: =SUM(DU20,DO20,DI20,DC20,CW20,CQ20,CK20,CE20,BY20,BS20,BM20,BG20) -> 0 | EB20: =SUM(BH20,BN20,BT20,BZ20,CF20,CL20,CR20,CX20,DD20,DJ20,DP20,DV20) -> 0 | EC20: =SUM(DX20:EB20) -> 31.145551 | EI20: =SUM(ED20:EH20) -> 0 | EK20: 6303.0659 | EL20: 2989.8029 | EM20: 4744.198 | EO20: =SUM(EJ20:EN20) -> 14037.067 | EQ20: 750.19994 | ES20: 0.7961811 | EU20: =SUM(EP20:ET20) -> 750.99612 | EX20: 82.264736 | FA20: =SUM(EV20:EZ20) -> 82.264736 | FC20: 174.75245 | FE20: 18.317828 | FG20: =SUM(FB20:FF20) -> 193.07028 | FI20: 1071.0134 | FM20: =SUM(FH20:FL20) -> 1071.0134 | FS20: =SUM(FN20:FR20) -> 0 | FW20: 0.25 | FY20: =SUM(FT20:FX20) -> 0.25 | GA20: 7616.1612 | GB20: 9565.3702 | GE20: =SUM(FZ20:GD20) -> 17181.531 | GF20: =SUM(FZ20,FT20,FN20,FH20,FB20,EV20,EP20,EJ20,ED20) -> 0 | GG20: =SUM(GA20,FU20,FO20,FI20,FC20,EW20,EQ20,EK20,EE20) -> 15915.193 | GH20: =SUM(GB20,FV20,FP20,FJ20,FD20,EX20,ER20,EL20,EF20) -> 12637.438 | GI20: =SUM(GC20,FW20,FQ20,FK20,FE20,EY20,ES20,EM20,EG20) -> 4763.562 | GJ20: =SUM(EH20,EN20,ET20,EZ20,FF20,FL20,FR20,FX20,GD20) -> 0 | GK20: =SUM(GF20:GJ20) -> 33316.193 | GM20: =SUM(GF20,DX20,AX20) -> 0 | GN20: =SUM(GG20,DY20,AY20) -> 16487.462 | GO20: =SUM(GH20,DZ20,AZ20) -> 14314.041 | GP20: =SUM(GI20,EA20,BA20) -> 8155.1502 | GQ20: =SUM(GJ20,EB20,BB20) -> 0 | GR20: =SUM(GK20,EC20,BC20) -> 38956.652
A21: IDH=Western Blackheaded Budworm | G21: =SUM(B21:F21) -> 0 | M21: =SUM(H21:L21) -> 0 | S21: =SUM(N21:R21) -> 0 | U21: 43515.252 | V21: 20303.871 | W21: 23677.62 | Y21: =SUM(T21:X21) -> 87496.743 | AE21: =SUM(Z21:AD21) -> 0 | AK21: =SUM(AF21:AJ21) -> 0 | AQ21: =SUM(AL21:AP21) -> 0 | AW21: =SUM(AR21:AV21) -> 0 | AX21: =SUM(AR21, AF21, Z21,T21,N21,H21,B21,AL21) -> 0 | AY21: =SUM(AS21, AG21, AA21,U21,O21,I21,C21,AM21) -> 43515.252 | AZ21: =SUM(AT21, AH21, AB21,V21,P21,J21,D21,AN21) -> 20303.871 | BA21: =SUM(AU21, AI21,AC21,W21,Q21,K21,E21,AO21) -> 23677.62 | BB21: =SUM(F21,L21,R21,X21,AD21,AJ21,AP21,AV21) -> 0 | BC21: =SUM(AX21:BB21) -> 87496.743 | BI21: =SUM(BD21:BH21) -> 0 | BO21: =SUM(BJ21:BN21) -> 0 | BU21: =SUM(BP21:BT21) -> 0 | CA21: =SUM(BV21:BZ21) -> 0 | CG21: =SUM(CB21:CF21) -> 0 | CM21: =SUM(CH21:CL21) -> 0 | CS21: =SUM(CN21:CR21) -> 0 | CY21: =SUM(CT21:CX21) -> 0 | DE21: =SUM(CZ21:DD21) -> 0 | DK21: =SUM(DF21:DJ21) -> 0 | DQ21: =SUM(DL21:DP21) -> 0 | DS21: 154.99048 | DW21: =SUM(DR21:DV21) -> 154.99048 | DX21: =SUM(DR21,DL21,DF21,CZ21,CT21,CN21,CH21,CB21,BV21,BP21,BJ21,BD21) -> 0 | DY21: =SUM(DS21,DM21,DG21,DA21,CU21,CO21,CI21,CC21,BW21,BQ21,BK21,BE21) -> 154.99048 | DZ21: =SUM(DT21,DN21,DH21,DB21,CV21,CP21,CJ21,CD21,BX21,BR21,BL21,BF21) -> 0 | EA21: =SUM(DU21,DO21,DI21,DC21,CW21,CQ21,CK21,CE21,BY21,BS21,BM21,BG21) -> 0 | EB21: =SUM(BH21,BN21,BT21,BZ21,CF21,CL21,CR21,CX21,DD21,DJ21,DP21,DV21) -> 0 | EC21: =SUM(DX21:EB21) -> 154.99048 | EI21: =SUM(ED21:EH21) -> 0 | EK21: 3172.0715 | EL21: 2403.9844 | EM21: 12.89835 | EO21: =SUM(EJ21:EN21) -> 5588.9543 | EU21: =SUM(EP21:ET21) -> 0 | FA21: =SUM(EV21:EZ21) -> 0 | FG21: =SUM(FB21:FF21) -> 0 | FM21: =SUM(FH21:FL21) -> 0 | FS21: =SUM(FN21:FR21) -> 0 | FY21: =SUM(FT21:FX21) -> 0 | GE21: =SUM(FZ21:GD21) -> 0 | GF21: =SUM(FZ21,FT21,FN21,FH21,FB21,EV21,EP21,EJ21,ED21) -> 0 | GG21: =SUM(GA21,FU21,FO21,FI21,FC21,EW21,EQ21,EK21,EE21) -> 3172.0715 | GH21: =SUM(GB21,FV21,FP21,FJ21,FD21,EX21,ER21,EL21,EF21) -> 2403.9844 | GI21: =SUM(GC21,FW21,FQ21,FK21,FE21,EY21,ES21,EM21,EG21) -> 12.89835 | GJ21: =SUM(EH21,EN21,ET21,EZ21,FF21,FL21,FR21,FX21,GD21) -> 0 | GK21: =SUM(GF21:GJ21) -> 5588.9543 | GM21: =SUM(GF21,DX21,AX21) -> 0 | GN21: =SUM(GG21,DY21,AY21) -> 46842.314 | GO21: =SUM(GH21,DZ21,AZ21) -> 22707.856 | GP21: =SUM(GI21,EA21,BA21) -> 23690.519 | GQ21: =SUM(GJ21,EB21,BB21) -> 0 | GR21: =SUM(GK21,EC21,BC21) -> 93240.688
A22: IDB=2-Year Budworm | G22: =SUM(B22:F22) -> 0 | M22: =SUM(H22:L22) -> 0 | S22: =SUM(N22:R22) -> 0 | Y22: =SUM(T22:X22) -> 0 | AE22: =SUM(Z22:AD22) -> 0 | AK22: =SUM(AF22:AJ22) -> 0 | AQ22: =SUM(AL22:AP22) -> 0 | AW22: =SUM(AR22:AV22) -> 0 | AX22: =SUM(AR22, AF22, Z22,T22,N22,H22,B22,AL22) -> 0 | AY22: =SUM(AS22, AG22, AA22,U22,O22,I22,C22,AM22) -> 0 | AZ22: =SUM(AT22, AH22, AB22,V22,P22,J22,D22,AN22) -> 0 | BA22: =SUM(AU22, AI22,AC22,W22,Q22,K22,E22,AO22) -> 0 | BB22: =SUM(F22,L22,R22,X22,AD22,AJ22,AP22,AV22) -> 0 | BC22: =SUM(AX22:BB22) -> 0 | BI22: =SUM(BD22:BH22) -> 0 | BK22: 8430.4708 | BL22: 159.92048 | BO22: =SUM(BJ22:BN22) -> 8590.3913 | BQ22: 83.65814 | BR22: 601.99165 | BU22: =SUM(BP22:BT22) -> 685.64979 | BW22: 26312.017 | BX22: 20533.592 | CA22: =SUM(BV22:BZ22) -> 46845.61 | CC22: 10435.796 | CD22: 529.40773 | CG22: =SUM(CB22:CF22) -> 10965.204 | CI22: 469.805 | CM22: =SUM(CH22:CL22) -> 469.805 | CO22: 4.8758865 | CP22: 4.201674 | CS22: =SUM(CN22:CR22) -> 9.0775605 | CY22: =SUM(CT22:CX22) -> 0 | DE22: =SUM(CZ22:DD22) -> 0 | DG22: 952.02689 | DH22: 2175.9898 | DK22: =SUM(DF22:DJ22) -> 3128.0167 | DQ22: =SUM(DL22:DP22) -> 0 | DW22: =SUM(DR22:DV22) -> 0 | DX22: =SUM(DR22,DL22,DF22,CZ22,CT22,CN22,CH22,CB22,BV22,BP22,BJ22,BD22) -> 0 | DY22: =SUM(DS22,DM22,DG22,DA22,CU22,CO22,CI22,CC22,BW22,BQ22,BK22,BE22) -> 46688.65 | DZ22: =SUM(DT22,DN22,DH22,DB22,CV22,CP22,CJ22,CD22,BX22,BR22,BL22,BF22) -> 24005.104 | EA22: =SUM(DU22,DO22,DI22,DC22,CW22,CQ22,CK22,CE22,BY22,BS22,BM22,BG22) -> 0 | EB22: =SUM(BH22,BN22,BT22,BZ22,CF22,CL22,CR22,CX22,DD22,DJ22,DP22,DV22) -> 0 | EC22: =SUM(DX22:EB22) -> 70693.754 | EF22: 1286.4555 | EI22: =SUM(ED22:EH22) -> 1286.4555 | EO22: =SUM(EJ22:EN22) -> 0 | EQ22: 3267.7711 | EU22: =SUM(EP22:ET22) -> 3267.7711 | EW22: 6044.5713 | FA22: =SUM(EV22:EZ22) -> 6044.5713 | FC22: 46.844827 | FG22: =SUM(FB22:FF22) -> 46.844827 | FI22: 14581.883 | FM22: =SUM(FH22:FL22) -> 14581.883 | FO22: 1162.517 | FS22: =SUM(FN22:FR22) -> 1162.517 | FY22: =SUM(FT22:FX22) -> 0 | GE22: =SUM(FZ22:GD22) -> 0 | GF22: =SUM(FZ22,FT22,FN22,FH22,FB22,EV22,EP22,EJ22,ED22) -> 0 | GG22: =SUM(GA22,FU22,FO22,FI22,FC22,EW22,EQ22,EK22,EE22) -> 25103.587 | GH22: =SUM(GB22,FV22,FP22,FJ22,FD22,EX22,ER22,EL22,EF22) -> 1286.4555 | GI22: =SUM(GC22,FW22,FQ22,FK22,FE22,EY22,ES22,EM22,EG22) -> 0 | GJ22: =SUM(EH22,EN22,ET22,EZ22,FF22,FL22,FR22,FX22,GD22) -> 0 | GK22: =SUM(GF22:GJ22) -> 26390.043 | GM22: =SUM(GF22,DX22,AX22) -> 0 | GN22: =SUM(GG22,DY22,AY22) -> 71792.238 | GO22: =SUM(GH22,DZ22,AZ22) -> 25291.559 | GP22: =SUM(GI22,EA22,BA22) -> 0 | GQ22: =SUM(GJ22,EB22,BB22) -> 0 | GR22: =SUM(GK22,EC22,BC22) -> 97083.797
A23: IDE=Spruce Budworm | G23: =SUM(B23:F23) -> 0 | M23: =SUM(H23:L23) -> 0 | S23: =SUM(N23:R23) -> 0 | Y23: =SUM(T23:X23) -> 0 | AE23: =SUM(Z23:AD23) -> 0 | AK23: =SUM(AF23:AJ23) -> 0 | AQ23: =SUM(AL23:AP23) -> 0 | AW23: =SUM(AR23:AV23) -> 0 | AX23: =SUM(AR23, AF23, Z23,T23,N23,H23,B23,AL23) -> 0 | AY23: =SUM(AS23, AG23, AA23,U23,O23,I23,C23,AM23) -> 0 | AZ23: =SUM(AT23, AH23, AB23,V23,P23,J23,D23,AN23) -> 0 | BA23: =SUM(AU23, AI23,AC23,W23,Q23,K23,E23,AO23) -> 0 | BB23: =SUM(F23,L23,R23,X23,AD23,AJ23,AP23,AV23) -> 0 | BC23: =SUM(AX23:BB23) -> 0 | BI23: =SUM(BD23:BH23) -> 0 | BO23: =SUM(BJ23:BN23) -> 0 | BU23: =SUM(BP23:BT23) -> 0 | CA23: =SUM(BV23:BZ23) -> 0 | CG23: =SUM(CB23:CF23) -> 0 | CM23: =SUM(CH23:CL23) -> 0 | CS23: =SUM(CN23:CR23) -> 0 | CY23: =SUM(CT23:CX23) -> 0 | DE23: =SUM(CZ23:DD23) -> 0 | DK23: =SUM(DF23:DJ23) -> 0 | DQ23: =SUM(DL23:DP23) -> 0 | DW23: =SUM(DR23:DV23) -> 0 | DX23: =SUM(DR23,DL23,DF23,CZ23,CT23,CN23,CH23,CB23,BV23,BP23,BJ23,BD23) -> 0 | DY23: =SUM(DS23,DM23,DG23,DA23,CU23,CO23,CI23,CC23,BW23,BQ23,BK23,BE23) -> 0 | DZ23: =SUM(DT23,DN23,DH23,DB23,CV23,CP23,CJ23,CD23,BX23,BR23,BL23,BF23) -> 0 | EA23: =SUM(DU23,DO23,DI23,DC23,CW23,CQ23,CK23,CE23,BY23,BS23,BM23,BG23) -> 0 | EB23: =SUM(BH23,BN23,BT23,BZ23,CF23,CL23,CR23,CX23,DD23,DJ23,DP23,DV23) -> 0 | EC23: =SUM(DX23:EB23) -> 0 | EI23: =SUM(ED23:EH23) -> 0 | EO23: =SUM(EJ23:EN23) -> 0 | EU23: =SUM(EP23:ET23) -> 0 | FA23: =SUM(EV23:EZ23) -> 0 | FG23: =SUM(FB23:FF23) -> 0 | FM23: =SUM(FH23:FL23) -> 0 | FS23: =SUM(FN23:FR23) -> 0 | FY23: =SUM(FT23:FX23) -> 0 | GE23: =SUM(FZ23:GD23) -> 0 | GF23: =SUM(FZ23,FT23,FN23,FH23,FB23,EV23,EP23,EJ23,ED23) -> 0 | GG23: =SUM(GA23,FU23,FO23,FI23,FC23,EW23,EQ23,EK23,EE23) -> 0 | GH23: =SUM(GB23,FV23,FP23,FJ23,FD23,EX23,ER23,EL23,EF23) -> 0 | GI23: =SUM(GC23,FW23,FQ23,FK23,FE23,EY23,ES23,EM23,EG23) -> 0 | GJ23: =SUM(EH23,EN23,ET23,EZ23,FF23,FL23,FR23,FX23,GD23) -> 0 | GK23: =SUM(GF23:GJ23) -> 0 | GM23: =SUM(GF23,DX23,AX23) -> 0 | GN23: =SUM(GG23,DY23,AY23) -> 0 | GO23: =SUM(GH23,DZ23,AZ23) -> 0 | GP23: =SUM(GI23,EA23,BA23) -> 0 | GQ23: =SUM(GJ23,EB23,BB23) -> 0 | GR23: =SUM(GK23,EC23,BC23) -> 0
A24: IDL=Western Hemlock Looper | G24: =SUM(B24:F24) -> 0 | I24: 275.47261 | J24: 6.5963038 | M24: =SUM(H24:L24) -> 282.06892 | S24: =SUM(N24:R24) -> 0 | Y24: =SUM(T24:X24) -> 0 | AE24: =SUM(Z24:AD24) -> 0 | AK24: =SUM(AF24:AJ24) -> 0 | AQ24: =SUM(AL24:AP24) -> 0 | AW24: =SUM(AR24:AV24) -> 0 | AX24: =SUM(AR24, AF24, Z24,T24,N24,H24,B24,AL24) -> 0 | AY24: =SUM(AS24, AG24, AA24,U24,O24,I24,C24,AM24) -> 275.47261 | AZ24: =SUM(AT24, AH24, AB24,V24,P24,J24,D24,AN24) -> 6.5963038 | BA24: =SUM(AU24, AI24,AC24,W24,Q24,K24,E24,AO24) -> 0 | BB24: =SUM(F24,L24,R24,X24,AD24,AJ24,AP24,AV24) -> 0 | BC24: =SUM(AX24:BB24) -> 282.06892 | BI24: =SUM(BD24:BH24) -> 0 | BO24: =SUM(BJ24:BN24) -> 0 | BU24: =SUM(BP24:BT24) -> 0 | CA24: =SUM(BV24:BZ24) -> 0 | CC24: 2630.5331 | CD24: 6.7549164 | CG24: =SUM(CB24:CF24) -> 2637.288 | CM24: =SUM(CH24:CL24) -> 0 | CS24: =SUM(CN24:CR24) -> 0 | CU24: 35.013586 | CY24: =SUM(CT24:CX24) -> 35.013586 | DE24: =SUM(CZ24:DD24) -> 0 | DK24: =SUM(DF24:DJ24) -> 0 | DM24: 339.85612 | DN24: 18.507835 | DQ24: =SUM(DL24:DP24) -> 358.36396 | DS24: 4.8503863 | DW24: =SUM(DR24:DV24) -> 4.8503863 | DX24: =SUM(DR24,DL24,DF24,CZ24,CT24,CN24,CH24,CB24,BV24,BP24,BJ24,BD24) -> 0 | DY24: =SUM(DS24,DM24,DG24,DA24,CU24,CO24,CI24,CC24,BW24,BQ24,BK24,BE24) -> 3010.2532 | DZ24: =SUM(DT24,DN24,DH24,DB24,CV24,CP24,CJ24,CD24,BX24,BR24,BL24,BF24) -> 25.262752 | EA24: =SUM(DU24,DO24,DI24,DC24,CW24,CQ24,CK24,CE24,BY24,BS24,BM24,BG24) -> 0 | EB24: =SUM(BH24,BN24,BT24,BZ24,CF24,CL24,CR24,CX24,DD24,DJ24,DP24,DV24) -> 0 | EC24: =SUM(DX24:EB24) -> 3035.5159 | EI24: =SUM(ED24:EH24) -> 0 | EO24: =SUM(EJ24:EN24) -> 0 | EU24: =SUM(EP24:ET24) -> 0 | FA24: =SUM(EV24:EZ24) -> 0 | FG24: =SUM(FB24:FF24) -> 0 | FM24: =SUM(FH24:FL24) -> 0 | FS24: =SUM(FN24:FR24) -> 0 | FY24: =SUM(FT24:FX24) -> 0 | GE24: =SUM(FZ24:GD24) -> 0 | GF24: =SUM(FZ24,FT24,FN24,FH24,FB24,EV24,EP24,EJ24,ED24) -> 0 | GG24: =SUM(GA24,FU24,FO24,FI24,FC24,EW24,EQ24,EK24,EE24) -> 0 | GH24: =SUM(GB24,FV24,FP24,FJ24,FD24,EX24,ER24,EL24,EF24) -> 0 | GI24: =SUM(GC24,FW24,FQ24,FK24,FE24,EY24,ES24,EM24,EG24) -> 0 | GJ24: =SUM(EH24,EN24,ET24,EZ24,FF24,FL24,FR24,FX24,GD24) -> 0 | GK24: =SUM(GF24:GJ24) -> 0 | GM24: =SUM(GF24,DX24,AX24) -> 0 | GN24: =SUM(GG24,DY24,AY24) -> 3285.7258 | GO24: =SUM(GH24,DZ24,AZ24) -> 31.859056 | GP24: =SUM(GI24,EA24,BA24) -> 0 | GQ24: =SUM(GJ24,EB24,BB24) -> 0 | GR24: =SUM(GK24,EC24,BC24) -> 3317.5848
A25: IDC=Larch Casebearer | G25: =SUM(B25:F25) -> 0 | M25: =SUM(H25:L25) -> 0 | S25: =SUM(N25:R25) -> 0 | Y25: =SUM(T25:X25) -> 0 | AE25: =SUM(Z25:AD25) -> 0 | AK25: =SUM(AF25:AJ25) -> 0 | AQ25: =SUM(AL25:AP25) -> 0 | AW25: =SUM(AR25:AV25) -> 0 | AX25: =SUM(AR25, AF25, Z25,T25,N25,H25,B25,AL25) -> 0 | AY25: =SUM(AS25, AG25, AA25,U25,O25,I25,C25,AM25) -> 0 | AZ25: =SUM(AT25, AH25, AB25,V25,P25,J25,D25,AN25) -> 0 | BA25: =SUM(AU25, AI25,AC25,W25,Q25,K25,E25,AO25) -> 0 | BB25: =SUM(F25,L25,R25,X25,AD25,AJ25,AP25,AV25) -> 0 | BC25: =SUM(AX25:BB25) -> 0 | BI25: =SUM(BD25:BH25) -> 0 | BO25: =SUM(BJ25:BN25) -> 0 | BU25: =SUM(BP25:BT25) -> 0 | CA25: =SUM(BV25:BZ25) -> 0 | CG25: =SUM(CB25:CF25) -> 0 | CM25: =SUM(CH25:CL25) -> 0 | CS25: =SUM(CN25:CR25) -> 0 | CY25: =SUM(CT25:CX25) -> 0 | DE25: =SUM(CZ25:DD25) -> 0 | DG25: 5.6542756 | DK25: =SUM(DF25:DJ25) -> 5.6542756 | DQ25: =SUM(DL25:DP25) -> 0 | DW25: =SUM(DR25:DV25) -> 0 | DX25: =SUM(DR25,DL25,DF25,CZ25,CT25,CN25,CH25,CB25,BV25,BP25,BJ25,BD25) -> 0 | DY25: =SUM(DS25,DM25,DG25,DA25,CU25,CO25,CI25,CC25,BW25,BQ25,BK25,BE25) -> 5.6542756 | DZ25: =SUM(DT25,DN25,DH25,DB25,CV25,CP25,CJ25,CD25,BX25,BR25,BL25,BF25) -> 0 | EA25: =SUM(DU25,DO25,DI25,DC25,CW25,CQ25,CK25,CE25,BY25,BS25,BM25,BG25) -> 0 | EB25: =SUM(BH25,BN25,BT25,BZ25,CF25,CL25,CR25,CX25,DD25,DJ25,DP25,DV25) -> 0 | EC25: =SUM(DX25:EB25) -> 5.6542756 | EI25: =SUM(ED25:EH25) -> 0 | EO25: =SUM(EJ25:EN25) -> 0 | EU25: =SUM(EP25:ET25) -> 0 | FA25: =SUM(EV25:EZ25) -> 0 | FG25: =SUM(FB25:FF25) -> 0 | FM25: =SUM(FH25:FL25) -> 0 | FS25: =SUM(FN25:FR25) -> 0 | FY25: =SUM(FT25:FX25) -> 0 | GE25: =SUM(FZ25:GD25) -> 0 | GF25: =SUM(FZ25,FT25,FN25,FH25,FB25,EV25,EP25,EJ25,ED25) -> 0 | GG25: =SUM(GA25,FU25,FO25,FI25,FC25,EW25,EQ25,EK25,EE25) -> 0 | GH25: =SUM(GB25,FV25,FP25,FJ25,FD25,EX25,ER25,EL25,EF25) -> 0 | GI25: =SUM(GC25,FW25,FQ25,FK25,FE25,EY25,ES25,EM25,EG25) -> 0 | GJ25: =SUM(EH25,EN25,ET25,EZ25,FF25,FL25,FR25,FX25,GD25) -> 0 | GK25: =SUM(GF25:GJ25) -> 0 | GM25: =SUM(GF25,DX25,AX25) -> 0 | GN25: =SUM(GG25,DY25,AY25) -> 5.6542756 | GO25: =SUM(GH25,DZ25,AZ25) -> 0 | GP25: =SUM(GI25,EA25,BA25) -> 0 | GQ25: =SUM(GJ25,EB25,BB25) -> 0 | GR25: =SUM(GK25,EC25,BC25) -> 5.6542756
A26: IDS=Conifer Sawflies | G26: =SUM(B26:F26) -> 0 | M26: =SUM(H26:L26) -> 0 | S26: =SUM(N26:R26) -> 0 | Y26: =SUM(T26:X26) -> 0 | AE26: =SUM(Z26:AD26) -> 0 | AK26: =SUM(AF26:AJ26) -> 0 | AQ26: =SUM(AL26:AP26) -> 0 | AW26: =SUM(AR26:AV26) -> 0 | AX26: =SUM(AR26, AF26, Z26,T26,N26,H26,B26,AL26) -> 0 | AY26: =SUM(AS26, AG26, AA26,U26,O26,I26,C26,AM26) -> 0 | AZ26: =SUM(AT26, AH26, AB26,V26,P26,J26,D26,AN26) -> 0 | BA26: =SUM(AU26, AI26,AC26,W26,Q26,K26,E26,AO26) -> 0 | BB26: =SUM(F26,L26,R26,X26,AD26,AJ26,AP26,AV26) -> 0 | BC26: =SUM(AX26:BB26) -> 0 | BI26: =SUM(BD26:BH26) -> 0 | BO26: =SUM(BJ26:BN26) -> 0 | BU26: =SUM(BP26:BT26) -> 0 | CA26: =SUM(BV26:BZ26) -> 0 | CG26: =SUM(CB26:CF26) -> 0 | CM26: =SUM(CH26:CL26) -> 0 | CS26: =SUM(CN26:CR26) -> 0 | CY26: =SUM(CT26:CX26) -> 0 | DE26: =SUM(CZ26:DD26) -> 0 | DK26: =SUM(DF26:DJ26) -> 0 | DQ26: =SUM(DL26:DP26) -> 0 | DW26: =SUM(DR26:DV26) -> 0 | DX26: =SUM(DR26,DL26,DF26,CZ26,CT26,CN26,CH26,CB26,BV26,BP26,BJ26,BD26) -> 0 | DY26: =SUM(DS26,DM26,DG26,DA26,CU26,CO26,CI26,CC26,BW26,BQ26,BK26,BE26) -> 0 | DZ26: =SUM(DT26,DN26,DH26,DB26,CV26,CP26,CJ26,CD26,BX26,BR26,BL26,BF26) -> 0 | EA26: =SUM(DU26,DO26,DI26,DC26,CW26,CQ26,CK26,CE26,BY26,BS26,BM26,BG26) -> 0 | EB26: =SUM(BH26,BN26,BT26,BZ26,CF26,CL26,CR26,CX26,DD26,DJ26,DP26,DV26) -> 0 | EC26: =SUM(DX26:EB26) -> 0 | EI26: =SUM(ED26:EH26) -> 0 | EO26: =SUM(EJ26:EN26) -> 0 | EU26: =SUM(EP26:ET26) -> 0 | FA26: =SUM(EV26:EZ26) -> 0 | FG26: =SUM(FB26:FF26) -> 0 | FM26: =SUM(FH26:FL26) -> 0 | FS26: =SUM(FN26:FR26) -> 0 | FY26: =SUM(FT26:FX26) -> 0 | GE26: =SUM(FZ26:GD26) -> 0 | GF26: =SUM(FZ26,FT26,FN26,FH26,FB26,EV26,EP26,EJ26,ED26) -> 0 | GG26: =SUM(GA26,FU26,FO26,FI26,FC26,EW26,EQ26,EK26,EE26) -> 0 | GH26: =SUM(GB26,FV26,FP26,FJ26,FD26,EX26,ER26,EL26,EF26) -> 0 | GI26: =SUM(GC26,FW26,FQ26,FK26,FE26,EY26,ES26,EM26,EG26) -> 0 | GJ26: =SUM(EH26,EN26,ET26,EZ26,FF26,FL26,FR26,FX26,GD26) -> 0 | GK26: =SUM(GF26:GJ26) -> 0 | GM26: =SUM(GF26,DX26,AX26) -> 0 | GN26: =SUM(GG26,DY26,AY26) -> 0 | GO26: =SUM(GH26,DZ26,AZ26) -> 0 | GP26: =SUM(GI26,EA26,BA26) -> 0 | GQ26: =SUM(GJ26,EB26,BB26) -> 0 | GR26: =SUM(GK26,EC26,BC26) -> 0
A27: IDK=Northern Tent Caterpillar | G27: =SUM(B27:F27) -> 0 | M27: =SUM(H27:L27) -> 0 | S27: =SUM(N27:R27) -> 0 | Y27: =SUM(T27:X27) -> 0 | AE27: =SUM(Z27:AD27) -> 0 | AK27: =SUM(AF27:AJ27) -> 0 | AQ27: =SUM(AL27:AP27) -> 0 | AW27: =SUM(AR27:AV27) -> 0 | AX27: =SUM(AR27, AF27, Z27,T27,N27,H27,B27,AL27) -> 0 | AY27: =SUM(AS27, AG27, AA27,U27,O27,I27,C27,AM27) -> 0 | AZ27: =SUM(AT27, AH27, AB27,V27,P27,J27,D27,AN27) -> 0 | BA27: =SUM(AU27, AI27,AC27,W27,Q27,K27,E27,AO27) -> 0 | BB27: =SUM(F27,L27,R27,X27,AD27,AJ27,AP27,AV27) -> 0 | BC27: =SUM(AX27:BB27) -> 0 | BI27: =SUM(BD27:BH27) -> 0 | BO27: =SUM(BJ27:BN27) -> 0 | BU27: =SUM(BP27:BT27) -> 0 | CA27: =SUM(BV27:BZ27) -> 0 | CG27: =SUM(CB27:CF27) -> 0 | CM27: =SUM(CH27:CL27) -> 0 | CS27: =SUM(CN27:CR27) -> 0 | CY27: =SUM(CT27:CX27) -> 0 | DE27: =SUM(CZ27:DD27) -> 0 | DK27: =SUM(DF27:DJ27) -> 0 | DQ27: =SUM(DL27:DP27) -> 0 | DW27: =SUM(DR27:DV27) -> 0 | DX27: =SUM(DR27,DL27,DF27,CZ27,CT27,CN27,CH27,CB27,BV27,BP27,BJ27,BD27) -> 0 | DY27: =SUM(DS27,DM27,DG27,DA27,CU27,CO27,CI27,CC27,BW27,BQ27,BK27,BE27) -> 0 | DZ27: =SUM(DT27,DN27,DH27,DB27,CV27,CP27,CJ27,CD27,BX27,BR27,BL27,BF27) -> 0 | EA27: =SUM(DU27,DO27,DI27,DC27,CW27,CQ27,CK27,CE27,BY27,BS27,BM27,BG27) -> 0 | EB27: =SUM(BH27,BN27,BT27,BZ27,CF27,CL27,CR27,CX27,DD27,DJ27,DP27,DV27) -> 0 | EC27: =SUM(DX27:EB27) -> 0 | EI27: =SUM(ED27:EH27) -> 0 | EO27: =SUM(EJ27:EN27) -> 0 | EU27: =SUM(EP27:ET27) -> 0 | FA27: =SUM(EV27:EZ27) -> 0 | FG27: =SUM(FB27:FF27) -> 0 | FM27: =SUM(FH27:FL27) -> 0 | FS27: =SUM(FN27:FR27) -> 0 | FY27: =SUM(FT27:FX27) -> 0 | GE27: =SUM(FZ27:GD27) -> 0 | GF27: =SUM(FZ27,FT27,FN27,FH27,FB27,EV27,EP27,EJ27,ED27) -> 0 | GG27: =SUM(GA27,FU27,FO27,FI27,FC27,EW27,EQ27,EK27,EE27) -> 0 | GH27: =SUM(GB27,FV27,FP27,FJ27,FD27,EX27,ER27,EL27,EF27) -> 0 | GI27: =SUM(GC27,FW27,FQ27,FK27,FE27,EY27,ES27,EM27,EG27) -> 0 | GJ27: =SUM(EH27,EN27,ET27,EZ27,FF27,FL27,FR27,FX27,GD27) -> 0 | GK27: =SUM(GF27:GJ27) -> 0 | GM27: =SUM(GF27,DX27,AX27) -> 0 | GN27: =SUM(GG27,DY27,AY27) -> 0 | GO27: =SUM(GH27,DZ27,AZ27) -> 0 | GP27: =SUM(GI27,EA27,BA27) -> 0 | GQ27: =SUM(GJ27,EB27,BB27) -> 0 | GR27: =SUM(GK27,EC27,BC27) -> 0
A28: IDF=Forest Tent Caterpillar | G28: =SUM(B28:F28) -> 0 | M28: =SUM(H28:L28) -> 0 | S28: =SUM(N28:R28) -> 0 | Y28: =SUM(T28:X28) -> 0 | AE28: =SUM(Z28:AD28) -> 0 | AK28: =SUM(AF28:AJ28) -> 0 | AQ28: =SUM(AL28:AP28) -> 0 | AU28: 16.017692 | AW28: =SUM(AR28:AV28) -> 16.017692 | AX28: =SUM(AR28, AF28, Z28,T28,N28,H28,B28,AL28) -> 0 | AY28: =SUM(AS28, AG28, AA28,U28,O28,I28,C28,AM28) -> 0 | AZ28: =SUM(AT28, AH28, AB28,V28,P28,J28,D28,AN28) -> 0 | BA28: =SUM(AU28, AI28,AC28,W28,Q28,K28,E28,AO28) -> 16.017692 | BB28: =SUM(F28,L28,R28,X28,AD28,AJ28,AP28,AV28) -> 0 | BC28: =SUM(AX28:BB28) -> 16.017692 | BI28: =SUM(BD28:BH28) -> 0 | BK28: 167.31065 | BO28: =SUM(BJ28:BN28) -> 167.31065 | BU28: =SUM(BP28:BT28) -> 0 | BW28: 19833.188 | BX28: 14206.016 | BY28: 823.40643 | CA28: =SUM(BV28:BZ28) -> 34862.611 | CC28: 320.28594 | CD28: 293.19791 | CG28: =SUM(CB28:CF28) -> 613.48385 | CM28: =SUM(CH28:CL28) -> 0 | CS28: =SUM(CN28:CR28) -> 0 | CU28: 52.150388 | CV28: 1795.686 | CW28: 352.47741 | CY28: =SUM(CT28:CX28) -> 2200.3138 | DE28: =SUM(CZ28:DD28) -> 0 | DK28: =SUM(DF28:DJ28) -> 0 | DQ28: =SUM(DL28:DP28) -> 0 | DW28: =SUM(DR28:DV28) -> 0 | DX28: =SUM(DR28,DL28,DF28,CZ28,CT28,CN28,CH28,CB28,BV28,BP28,BJ28,BD28) -> 0 | DY28: =SUM(DS28,DM28,DG28,DA28,CU28,CO28,CI28,CC28,BW28,BQ28,BK28,BE28) -> 20372.935 | DZ28: =SUM(DT28,DN28,DH28,DB28,CV28,CP28,CJ28,CD28,BX28,BR28,BL28,BF28) -> 16294.9 | EA28: =SUM(DU28,DO28,DI28,DC28,CW28,CQ28,CK28,CE28,BY28,BS28,BM28,BG28) -> 1175.8838 | EB28: =SUM(BH28,BN28,BT28,BZ28,CF28,CL28,CR28,CX28,DD28,DJ28,DP28,DV28) -> 0 | EC28: =SUM(DX28:EB28) -> 37843.72 | EE28: 1000.7268 | EI28: =SUM(ED28:EH28) -> 1000.7268 | EK28: 1294.9086 | EL28: 548.18495 | EM28: 3150.0947 | EO28: =SUM(EJ28:EN28) -> 4993.1882 | EQ28: 39.39304 | ER28: 42.465094 | EU28: =SUM(EP28:ET28) -> 81.858134 | EW28: 32967.845 | EX28: 26787.85 | EY28: 773.50482 | FA28: =SUM(EV28:EZ28) -> 60529.2 | FC28: 768.38073 | FD28: 325.23098 | FE28: 296.89869 | FG28: =SUM(FB28:FF28) -> 1390.5104 | FI28: 1758.9226 | FJ28: 1521.5986 | FK28: 220.64869 | FM28: =SUM(FH28:FL28) -> 3501.1699 | FO28: 13741.632 | FP28: 8514.3102 | FQ28: 110.27747 | FS28: =SUM(FN28:FR28) -> 22366.22 | FU28: 903.00287 | FY28: =SUM(FT28:FX28) -> 903.00287 | GE28: =SUM(FZ28:GD28) -> 0 | GF28: =SUM(FZ28,FT28,FN28,FH28,FB28,EV28,EP28,EJ28,ED28) -> 0 | GG28: =SUM(GA28,FU28,FO28,FI28,FC28,EW28,EQ28,EK28,EE28) -> 52474.812 | GH28: =SUM(GB28,FV28,FP28,FJ28,FD28,EX28,ER28,EL28,EF28) -> 37739.64 | GI28: =SUM(GC28,FW28,FQ28,FK28,FE28,EY28,ES28,EM28,EG28) -> 4551.4243 | GJ28: =SUM(EH28,EN28,ET28,EZ28,FF28,FL28,FR28,FX28,GD28) -> 0 | GK28: =SUM(GF28:GJ28) -> 94765.876 | GM28: =SUM(GF28,DX28,AX28) -> 0 | GN28: =SUM(GG28,DY28,AY28) -> 72847.748 | GO28: =SUM(GH28,DZ28,AZ28) -> 54034.54 | GP28: =SUM(GI28,EA28,BA28) -> 5743.3259 | GQ28: =SUM(GJ28,EB28,BB28) -> 0 | GR28: =SUM(GK28,EC28,BC28) -> 132625.61
A29: IDW=Western Spruce Budworm | C29: 712.04323 | D29: 304.47766 | G29: =SUM(B29:F29) -> 1016.5209 | M29: =SUM(H29:L29) -> 0 | S29: =SUM(N29:R29) -> 0 | Y29: =SUM(T29:X29) -> 0 | AE29: =SUM(Z29:AD29) -> 0 | AK29: =SUM(AF29:AJ29) -> 0 | AQ29: =SUM(AL29:AP29) -> 0 | AW29: =SUM(AR29:AV29) -> 0 | AX29: =SUM(AR29, AF29, Z29,T29,N29,H29,B29,AL29) -> 0 | AY29: =SUM(AS29, AG29, AA29,U29,O29,I29,C29,AM29) -> 712.04323 | AZ29: =SUM(AT29, AH29, AB29,V29,P29,J29,D29,AN29) -> 304.47766 | BA29: =SUM(AU29, AI29,AC29,W29,Q29,K29,E29,AO29) -> 0 | BB29: =SUM(F29,L29,R29,X29,AD29,AJ29,AP29,AV29) -> 0 | BC29: =SUM(AX29:BB29) -> 1016.5209 | BE29: 5781.684 | BF29: 3126.4006 | BI29: =SUM(BD29:BH29) -> 8908.0847 | BK29: 123198.28 | BL29: 14247.04 | BO29: =SUM(BJ29:BN29) -> 137445.32 | BQ29: 36926.535 | BR29: 2352.3668 | BU29: =SUM(BP29:BT29) -> 39278.902 | BW29: 7033.3352 | BX29: 3095.6252 | CA29: =SUM(BV29:BZ29) -> 10128.96 | CC29: 72.821158 | CG29: =SUM(CB29:CF29) -> 72.821158 | CI29: 107003.89 | CJ29: 9251.0935 | CM29: =SUM(CH29:CL29) -> 116254.99 | CO29: 129681.4 | CP29: 16437.858 | CS29: =SUM(CN29:CR29) -> 146119.26 | CU29: 39070.969 | CV29: 1786.2441 | CW29: 38.8568 | CY29: =SUM(CT29:CX29) -> 40896.07 | DE29: =SUM(CZ29:DD29) -> 0 | DK29: =SUM(DF29:DJ29) -> 0 | DQ29: =SUM(DL29:DP29) -> 0 | DW29: =SUM(DR29:DV29) -> 0 | DX29: =SUM(DR29,DL29,DF29,CZ29,CT29,CN29,CH29,CB29,BV29,BP29,BJ29,BD29) -> 0 | DY29: =SUM(DS29,DM29,DG29,DA29,CU29,CO29,CI29,CC29,BW29,BQ29,BK29,BE29) -> 448768.92 | DZ29: =SUM(DT29,DN29,DH29,DB29,CV29,CP29,CJ29,CD29,BX29,BR29,BL29,BF29) -> 50296.629 | EA29: =SUM(DU29,DO29,DI29,DC29,CW29,CQ29,CK29,CE29,BY29,BS29,BM29,BG29) -> 38.8568 | EB29: =SUM(BH29,BN29,BT29,BZ29,CF29,CL29,CR29,CX29,DD29,DJ29,DP29,DV29) -> 0 | EC29: =SUM(DX29:EB29) -> 499104.4 | EI29: =SUM(ED29:EH29) -> 0 | EO29: =SUM(EJ29:EN29) -> 0 | EU29: =SUM(EP29:ET29) -> 0 | FA29: =SUM(EV29:EZ29) -> 0 | FG29: =SUM(FB29:FF29) -> 0 | FM29: =SUM(FH29:FL29) -> 0 | FS29: =SUM(FN29:FR29) -> 0 | FY29: =SUM(FT29:FX29) -> 0 | GE29: =SUM(FZ29:GD29) -> 0 | GF29: =SUM(FZ29,FT29,FN29,FH29,FB29,EV29,EP29,EJ29,ED29) -> 0 | GG29: =SUM(GA29,FU29,FO29,FI29,FC29,EW29,EQ29,EK29,EE29) -> 0 | GH29: =SUM(GB29,FV29,FP29,FJ29,FD29,EX29,ER29,EL29,EF29) -> 0 | GI29: =SUM(GC29,FW29,FQ29,FK29,FE29,EY29,ES29,EM29,EG29) -> 0 | GJ29: =SUM(EH29,EN29,ET29,EZ29,FF29,FL29,FR29,FX29,GD29) -> 0 | GK29: =SUM(GF29:GJ29) -> 0 | GM29: =SUM(GF29,DX29,AX29) -> 0 | GN29: =SUM(GG29,DY29,AY29) -> 449480.96 | GO29: =SUM(GH29,DZ29,AZ29) -> 50601.107 | GP29: =SUM(GI29,EA29,BA29) -> 38.8568 | GQ29: =SUM(GJ29,EB29,BB29) -> 0 | GR29: =SUM(GK29,EC29,BC29) -> 500120.92
A30: IDN=Birch Leaf Miner | G30: =SUM(B30:F30) -> 0 | M30: =SUM(H30:L30) -> 0 | S30: =SUM(N30:R30) -> 0 | Y30: =SUM(T30:X30) -> 0 | AE30: =SUM(Z30:AD30) -> 0 | AK30: =SUM(AF30:AJ30) -> 0 | AQ30: =SUM(AL30:AP30) -> 0 | AW30: =SUM(AR30:AV30) -> 0 | AX30: =SUM(AR30, AF30, Z30,T30,N30,H30,B30,AL30) -> 0 | AY30: =SUM(AS30, AG30, AA30,U30,O30,I30,C30,AM30) -> 0 | AZ30: =SUM(AT30, AH30, AB30,V30,P30,J30,D30,AN30) -> 0 | BA30: =SUM(AU30, AI30,AC30,W30,Q30,K30,E30,AO30) -> 0 | BB30: =SUM(F30,L30,R30,X30,AD30,AJ30,AP30,AV30) -> 0 | BC30: =SUM(AX30:BB30) -> 0 | BI30: =SUM(BD30:BH30) -> 0 | BO30: =SUM(BJ30:BN30) -> 0 | BU30: =SUM(BP30:BT30) -> 0 | CA30: =SUM(BV30:BZ30) -> 0 | CC30: 99.305572 | CD30: 306.20614 | CG30: =SUM(CB30:CF30) -> 405.51171 | CI30: 169.28754 | CJ30: 360.84638 | CM30: =SUM(CH30:CL30) -> 530.13393 | CS30: =SUM(CN30:CR30) -> 0 | CU30: 452.95112 | CV30: 1606.4954 | CW30: 33.37311 | CY30: =SUM(CT30:CX30) -> 2092.8196 | DA30: 947.64506 | DB30: 1800.4062 | DE30: =SUM(CZ30:DD30) -> 2748.0513 | DG30: 5.9088325 | DK30: =SUM(DF30:DJ30) -> 5.9088325 | DM30: 442.75069 | DN30: 396.06027 | DQ30: =SUM(DL30:DP30) -> 838.81096 | DS30: 953.63932 | DT30: 843.23295 | DW30: =SUM(DR30:DV30) -> 1796.8723 | DX30: =SUM(DR30,DL30,DF30,CZ30,CT30,CN30,CH30,CB30,BV30,BP30,BJ30,BD30) -> 0 | DY30: =SUM(DS30,DM30,DG30,DA30,CU30,CO30,CI30,CC30,BW30,BQ30,BK30,BE30) -> 3071.4881 | DZ30: =SUM(DT30,DN30,DH30,DB30,CV30,CP30,CJ30,CD30,BX30,BR30,BL30,BF30) -> 5313.2474 | EA30: =SUM(DU30,DO30,DI30,DC30,CW30,CQ30,CK30,CE30,BY30,BS30,BM30,BG30) -> 33.37311 | EB30: =SUM(BH30,BN30,BT30,BZ30,CF30,CL30,CR30,CX30,DD30,DJ30,DP30,DV30) -> 0 | EC30: =SUM(DX30:EB30) -> 8418.1086 | EI30: =SUM(ED30:EH30) -> 0 | EO30: =SUM(EJ30:EN30) -> 0 | EU30: =SUM(EP30:ET30) -> 0 | FA30: =SUM(EV30:EZ30) -> 0 | FG30: =SUM(FB30:FF30) -> 0 | FM30: =SUM(FH30:FL30) -> 0 | FS30: =SUM(FN30:FR30) -> 0 | FY30: =SUM(FT30:FX30) -> 0 | GE30: =SUM(FZ30:GD30) -> 0 | GF30: =SUM(FZ30,FT30,FN30,FH30,FB30,EV30,EP30,EJ30,ED30) -> 0 | GG30: =SUM(GA30,FU30,FO30,FI30,FC30,EW30,EQ30,EK30,EE30) -> 0 | GH30: =SUM(GB30,FV30,FP30,FJ30,FD30,EX30,ER30,EL30,EF30) -> 0 | GI30: =SUM(GC30,FW30,FQ30,FK30,FE30,EY30,ES30,EM30,EG30) -> 0 | GJ30: =SUM(EH30,EN30,ET30,EZ30,FF30,FL30,FR30,FX30,GD30) -> 0 | GK30: =SUM(GF30:GJ30) -> 0 | GM30: =SUM(GF30,DX30,AX30) -> 0 | GN30: =SUM(GG30,DY30,AY30) -> 3071.4881 | GO30: =SUM(GH30,DZ30,AZ30) -> 5313.2474 | GP30: =SUM(GI30,EA30,BA30) -> 33.37311 | GQ30: =SUM(GJ30,EB30,BB30) -> 0 | GR30: =SUM(GK30,EC30,BC30) -> 8418.1086
A31: IDU=Satin Moth | G31: =SUM(B31:F31) -> 0 | M31: =SUM(H31:L31) -> 0 | S31: =SUM(N31:R31) -> 0 | Y31: =SUM(T31:X31) -> 0 | AE31: =SUM(Z31:AD31) -> 0 | AK31: =SUM(AF31:AJ31) -> 0 | AQ31: =SUM(AL31:AP31) -> 0 | AW31: =SUM(AR31:AV31) -> 0 | AX31: =SUM(AR31, AF31, Z31,T31,N31,H31,B31,AL31) -> 0 | AY31: =SUM(AS31, AG31, AA31,U31,O31,I31,C31,AM31) -> 0 | AZ31: =SUM(AT31, AH31, AB31,V31,P31,J31,D31,AN31) -> 0 | BA31: =SUM(AU31, AI31,AC31,W31,Q31,K31,E31,AO31) -> 0 | BB31: =SUM(F31,L31,R31,X31,AD31,AJ31,AP31,AV31) -> 0 | BC31: =SUM(AX31:BB31) -> 0 | BI31: =SUM(BD31:BH31) -> 0 | BO31: =SUM(BJ31:BN31) -> 0 | BU31: =SUM(BP31:BT31) -> 0 | CA31: =SUM(BV31:BZ31) -> 0 | CG31: =SUM(CB31:CF31) -> 0 | CK31: 1.2384477 | CM31: =SUM(CH31:CL31) -> 1.2384477 | CS31: =SUM(CN31:CR31) -> 0 | CW31: 7.9047108 | CY31: =SUM(CT31:CX31) -> 7.9047108 | DE31: =SUM(CZ31:DD31) -> 0 | DK31: =SUM(DF31:DJ31) -> 0 | DQ31: =SUM(DL31:DP31) -> 0 | DW31: =SUM(DR31:DV31) -> 0 | DX31: =SUM(DR31,DL31,DF31,CZ31,CT31,CN31,CH31,CB31,BV31,BP31,BJ31,BD31) -> 0 | DY31: =SUM(DS31,DM31,DG31,DA31,CU31,CO31,CI31,CC31,BW31,BQ31,BK31,BE31) -> 0 | DZ31: =SUM(DT31,DN31,DH31,DB31,CV31,CP31,CJ31,CD31,BX31,BR31,BL31,BF31) -> 0 | EA31: =SUM(DU31,DO31,DI31,DC31,CW31,CQ31,CK31,CE31,BY31,BS31,BM31,BG31) -> 9.1431585 | EB31: =SUM(BH31,BN31,BT31,BZ31,CF31,CL31,CR31,CX31,DD31,DJ31,DP31,DV31) -> 0 | EC31: =SUM(DX31:EB31) -> 9.1431585 | EI31: =SUM(ED31:EH31) -> 0 | EO31: =SUM(EJ31:EN31) -> 0 | EU31: =SUM(EP31:ET31) -> 0 | FA31: =SUM(EV31:EZ31) -> 0 | FG31: =SUM(FB31:FF31) -> 0 | FM31: =SUM(FH31:FL31) -> 0 | FS31: =SUM(FN31:FR31) -> 0 | FY31: =SUM(FT31:FX31) -> 0 | GE31: =SUM(FZ31:GD31) -> 0 | GF31: =SUM(FZ31,FT31,FN31,FH31,FB31,EV31,EP31,EJ31,ED31) -> 0 | GG31: =SUM(GA31,FU31,FO31,FI31,FC31,EW31,EQ31,EK31,EE31) -> 0 | GH31: =SUM(GB31,FV31,FP31,FJ31,FD31,EX31,ER31,EL31,EF31) -> 0 | GI31: =SUM(GC31,FW31,FQ31,FK31,FE31,EY31,ES31,EM31,EG31) -> 0 | GJ31: =SUM(EH31,EN31,ET31,EZ31,FF31,FL31,FR31,FX31,GD31) -> 0 | GK31: =SUM(GF31:GJ31) -> 0 | GM31: =SUM(GF31,DX31,AX31) -> 0 | GN31: =SUM(GG31,DY31,AY31) -> 0 | GO31: =SUM(GH31,DZ31,AZ31) -> 0 | GP31: =SUM(GI31,EA31,BA31) -> 9.1431585 | GQ31: =SUM(GJ31,EB31,BB31) -> 0 | GR31: =SUM(GK31,EC31,BC31) -> 9.1431585
A32: IAB=Balsam Woolly Adelgid | G32: =SUM(B32:F32) -> 0 | M32: =SUM(H32:L32) -> 0 | S32: =SUM(N32:R32) -> 0 | Y32: =SUM(T32:X32) -> 0 | AE32: =SUM(Z32:AD32) -> 0 | AK32: =SUM(AF32:AJ32) -> 0 | AQ32: =SUM(AL32:AP32) -> 0 | AW32: =SUM(AR32:AV32) -> 0 | AX32: =SUM(AR32, AF32, Z32,T32,N32,H32,B32,AL32) -> 0 | AY32: =SUM(AS32, AG32, AA32,U32,O32,I32,C32,AM32) -> 0 | AZ32: =SUM(AT32, AH32, AB32,V32,P32,J32,D32,AN32) -> 0 | BA32: =SUM(AU32, AI32,AC32,W32,Q32,K32,E32,AO32) -> 0 | BB32: =SUM(F32,L32,R32,X32,AD32,AJ32,AP32,AV32) -> 0 | BC32: =SUM(AX32:BB32) -> 0 | BI32: =SUM(BD32:BH32) -> 0 | BO32: =SUM(BJ32:BN32) -> 0 | BU32: =SUM(BP32:BT32) -> 0 | CA32: =SUM(BV32:BZ32) -> 0 | CG32: =SUM(CB32:CF32) -> 0 | CM32: =SUM(CH32:CL32) -> 0 | CS32: =SUM(CN32:CR32) -> 0 | CY32: =SUM(CT32:CX32) -> 0 | DE32: =SUM(CZ32:DD32) -> 0 | DK32: =SUM(DF32:DJ32) -> 0 | DQ32: =SUM(DL32:DP32) -> 0 | DW32: =SUM(DR32:DV32) -> 0 | DX32: =SUM(DR32,DL32,DF32,CZ32,CT32,CN32,CH32,CB32,BV32,BP32,BJ32,BD32) -> 0 | DY32: =SUM(DS32,DM32,DG32,DA32,CU32,CO32,CI32,CC32,BW32,BQ32,BK32,BE32) -> 0 | DZ32: =SUM(DT32,DN32,DH32,DB32,CV32,CP32,CJ32,CD32,BX32,BR32,BL32,BF32) -> 0 | EA32: =SUM(DU32,DO32,DI32,DC32,CW32,CQ32,CK32,CE32,BY32,BS32,BM32,BG32) -> 0 | EB32: =SUM(BH32,BN32,BT32,BZ32,CF32,CL32,CR32,CX32,DD32,DJ32,DP32,DV32) -> 0 | EC32: =SUM(DX32:EB32) -> 0 | EI32: =SUM(ED32:EH32) -> 0 | EO32: =SUM(EJ32:EN32) -> 0 | EU32: =SUM(EP32:ET32) -> 0 | FA32: =SUM(EV32:EZ32) -> 0 | FG32: =SUM(FB32:FF32) -> 0 | FM32: =SUM(FH32:FL32) -> 0 | FS32: =SUM(FN32:FR32) -> 0 | FY32: =SUM(FT32:FX32) -> 0 | GE32: =SUM(FZ32:GD32) -> 0 | GF32: =SUM(FZ32,FT32,FN32,FH32,FB32,EV32,EP32,EJ32,ED32) -> 0 | GG32: =SUM(GA32,FU32,FO32,FI32,FC32,EW32,EQ32,EK32,EE32) -> 0 | GH32: =SUM(GB32,FV32,FP32,FJ32,FD32,EX32,ER32,EL32,EF32) -> 0 | GI32: =SUM(GC32,FW32,FQ32,FK32,FE32,EY32,ES32,EM32,EG32) -> 0 | GJ32: =SUM(EH32,EN32,ET32,EZ32,FF32,FL32,FR32,FX32,GD32) -> 0 | GK32: =SUM(GF32:GJ32) -> 0 | GM32: =SUM(GF32,DX32,AX32) -> 0 | GN32: =SUM(GG32,DY32,AY32) -> 0 | GO32: =SUM(GH32,DZ32,AZ32) -> 0 | GP32: =SUM(GI32,EA32,BA32) -> 0 | GQ32: =SUM(GJ32,EB32,BB32) -> 0 | GR32: =SUM(GK32,EC32,BC32) -> 0
A33: IAS=Green Spruce Aphid | G33: =SUM(B33:F33) -> 0 | M33: =SUM(H33:L33) -> 0 | S33: =SUM(N33:R33) -> 0 | Y33: =SUM(T33:X33) -> 0 | AE33: =SUM(Z33:AD33) -> 0 | AK33: =SUM(AF33:AJ33) -> 0 | AQ33: =SUM(AL33:AP33) -> 0 | AW33: =SUM(AR33:AV33) -> 0 | AX33: =SUM(AR33, AF33, Z33,T33,N33,H33,B33,AL33) -> 0 | AY33: =SUM(AS33, AG33, AA33,U33,O33,I33,C33,AM33) -> 0 | AZ33: =SUM(AT33, AH33, AB33,V33,P33,J33,D33,AN33) -> 0 | BA33: =SUM(AU33, AI33,AC33,W33,Q33,K33,E33,AO33) -> 0 | BB33: =SUM(F33,L33,R33,X33,AD33,AJ33,AP33,AV33) -> 0 | BC33: =SUM(AX33:BB33) -> 0 | BI33: =SUM(BD33:BH33) -> 0 | BO33: =SUM(BJ33:BN33) -> 0 | BU33: =SUM(BP33:BT33) -> 0 | CA33: =SUM(BV33:BZ33) -> 0 | CG33: =SUM(CB33:CF33) -> 0 | CM33: =SUM(CH33:CL33) -> 0 | CS33: =SUM(CN33:CR33) -> 0 | CY33: =SUM(CT33:CX33) -> 0 | DE33: =SUM(CZ33:DD33) -> 0 | DK33: =SUM(DF33:DJ33) -> 0 | DQ33: =SUM(DL33:DP33) -> 0 | DW33: =SUM(DR33:DV33) -> 0 | DX33: =SUM(DR33,DL33,DF33,CZ33,CT33,CN33,CH33,CB33,BV33,BP33,BJ33,BD33) -> 0 | DY33: =SUM(DS33,DM33,DG33,DA33,CU33,CO33,CI33,CC33,BW33,BQ33,BK33,BE33) -> 0 | DZ33: =SUM(DT33,DN33,DH33,DB33,CV33,CP33,CJ33,CD33,BX33,BR33,BL33,BF33) -> 0 | EA33: =SUM(DU33,DO33,DI33,DC33,CW33,CQ33,CK33,CE33,BY33,BS33,BM33,BG33) -> 0 | EB33: =SUM(BH33,BN33,BT33,BZ33,CF33,CL33,CR33,CX33,DD33,DJ33,DP33,DV33) -> 0 | EC33: =SUM(DX33:EB33) -> 0 | EI33: =SUM(ED33:EH33) -> 0 | EO33: =SUM(EJ33:EN33) -> 0 | EU33: =SUM(EP33:ET33) -> 0 | FA33: =SUM(EV33:EZ33) -> 0 | FG33: =SUM(FB33:FF33) -> 0 | FM33: =SUM(FH33:FL33) -> 0 | FS33: =SUM(FN33:FR33) -> 0 | FY33: =SUM(FT33:FX33) -> 0 | GE33: =SUM(FZ33:GD33) -> 0 | GF33: =SUM(FZ33,FT33,FN33,FH33,FB33,EV33,EP33,EJ33,ED33) -> 0 | GG33: =SUM(GA33,FU33,FO33,FI33,FC33,EW33,EQ33,EK33,EE33) -> 0 | GH33: =SUM(GB33,FV33,FP33,FJ33,FD33,EX33,ER33,EL33,EF33) -> 0 | GI33: =SUM(GC33,FW33,FQ33,FK33,FE33,EY33,ES33,EM33,EG33) -> 0 | GJ33: =SUM(EH33,EN33,ET33,EZ33,FF33,FL33,FR33,FX33,GD33) -> 0 | GK33: =SUM(GF33:GJ33) -> 0 | GM33: =SUM(GF33,DX33,AX33) -> 0 | GN33: =SUM(GG33,DY33,AY33) -> 0 | GO33: =SUM(GH33,DZ33,AZ33) -> 0 | GP33: =SUM(GI33,EA33,BA33) -> 0 | GQ33: =SUM(GJ33,EB33,BB33) -> 0 | GR33: =SUM(GK33,EC33,BC33) -> 0
A34: IDI=Pine needle sheathminer | G34: =SUM(B34:F34) -> 0 | M34: =SUM(H34:L34) -> 0 | S34: =SUM(N34:R34) -> 0 | Y34: =SUM(T34:X34) -> 0 | AE34: =SUM(Z34:AD34) -> 0 | AK34: =SUM(AF34:AJ34) -> 0 | AQ34: =SUM(AL34:AP34) -> 0 | AW34: =SUM(AR34:AV34) -> 0 | AX34: =SUM(AR34, AF34, Z34,T34,N34,H34,B34,AL34) -> 0 | AY34: =SUM(AS34, AG34, AA34,U34,O34,I34,C34,AM34) -> 0 | AZ34: =SUM(AT34, AH34, AB34,V34,P34,J34,D34,AN34) -> 0 | BA34: =SUM(AU34, AI34,AC34,W34,Q34,K34,E34,AO34) -> 0 | BB34: =SUM(F34,L34,R34,X34,AD34,AJ34,AP34,AV34) -> 0 | BC34: =SUM(AX34:BB34) -> 0 | BI34: =SUM(BD34:BH34) -> 0 | BO34: =SUM(BJ34:BN34) -> 0 | BU34: =SUM(BP34:BT34) -> 0 | CA34: =SUM(BV34:BZ34) -> 0 | CG34: =SUM(CB34:CF34) -> 0 | CM34: =SUM(CH34:CL34) -> 0 | CS34: =SUM(CN34:CR34) -> 0 | CY34: =SUM(CT34:CX34) -> 0 | DE34: =SUM(CZ34:DD34) -> 0 | DK34: =SUM(DF34:DJ34) -> 0 | DQ34: =SUM(DL34:DP34) -> 0 | DW34: =SUM(DR34:DV34) -> 0 | DX34: =SUM(DR34,DL34,DF34,CZ34,CT34,CN34,CH34,CB34,BV34,BP34,BJ34,BD34) -> 0 | DY34: =SUM(DS34,DM34,DG34,DA34,CU34,CO34,CI34,CC34,BW34,BQ34,BK34,BE34) -> 0 | DZ34: =SUM(DT34,DN34,DH34,DB34,CV34,CP34,CJ34,CD34,BX34,BR34,BL34,BF34) -> 0 | EA34: =SUM(DU34,DO34,DI34,DC34,CW34,CQ34,CK34,CE34,BY34,BS34,BM34,BG34) -> 0 | EB34: =SUM(BH34,BN34,BT34,BZ34,CF34,CL34,CR34,CX34,DD34,DJ34,DP34,DV34) -> 0 | EC34: =SUM(DX34:EB34) -> 0 | EI34: =SUM(ED34:EH34) -> 0 | EO34: =SUM(EJ34:EN34) -> 0 | EU34: =SUM(EP34:ET34) -> 0 | FA34: =SUM(EV34:EZ34) -> 0 | FG34: =SUM(FB34:FF34) -> 0 | FM34: =SUM(FH34:FL34) -> 0 | FS34: =SUM(FN34:FR34) -> 0 | FY34: =SUM(FT34:FX34) -> 0 | GE34: =SUM(FZ34:GD34) -> 0 | GF34: =SUM(FZ34,FT34,FN34,FH34,FB34,EV34,EP34,EJ34,ED34) -> 0 | GG34: =SUM(GA34,FU34,FO34,FI34,FC34,EW34,EQ34,EK34,EE34) -> 0 | GH34: =SUM(GB34,FV34,FP34,FJ34,FD34,EX34,ER34,EL34,EF34) -> 0 | GI34: =SUM(GC34,FW34,FQ34,FK34,FE34,EY34,ES34,EM34,EG34) -> 0 | GJ34: =SUM(EH34,EN34,ET34,EZ34,FF34,FL34,FR34,FX34,GD34) -> 0 | GK34: =SUM(GF34:GJ34) -> 0 | GM34: =SUM(GF34,DX34,AX34) -> 0 | GN34: =SUM(GG34,DY34,AY34) -> 0 | GO34: =SUM(GH34,DZ34,AZ34) -> 0 | GP34: =SUM(GI34,EA34,BA34) -> 0 | GQ34: =SUM(GJ34,EB34,BB34) -> 0 | GR34: =SUM(GK34,EC34,BC34) -> 0
A35: ID2=Bruce spanworm | G35: =SUM(B35:F35) -> 0 | M35: =SUM(H35:L35) -> 0 | S35: =SUM(N35:R35) -> 0 | Y35: =SUM(T35:X35) -> 0 | AE35: =SUM(Z35:AD35) -> 0 | AK35: =SUM(AF35:AJ35) -> 0 | AQ35: =SUM(AL35:AP35) -> 0 | AW35: =SUM(AR35:AV35) -> 0 | AX35: =SUM(AR35, AF35, Z35,T35,N35,H35,B35,AL35) -> 0 | AY35: =SUM(AS35, AG35, AA35,U35,O35,I35,C35,AM35) -> 0 | AZ35: =SUM(AT35, AH35, AB35,V35,P35,J35,D35,AN35) -> 0 | BA35: =SUM(AU35, AI35,AC35,W35,Q35,K35,E35,AO35) -> 0 | BB35: =SUM(F35,L35,R35,X35,AD35,AJ35,AP35,AV35) -> 0 | BC35: =SUM(AX35:BB35) -> 0 | BI35: =SUM(BD35:BH35) -> 0 | BO35: =SUM(BJ35:BN35) -> 0 | BU35: =SUM(BP35:BT35) -> 0 | CA35: =SUM(BV35:BZ35) -> 0 | CG35: =SUM(CB35:CF35) -> 0 | CM35: =SUM(CH35:CL35) -> 0 | CS35: =SUM(CN35:CR35) -> 0 | CY35: =SUM(CT35:CX35) -> 0 | DE35: =SUM(CZ35:DD35) -> 0 | DK35: =SUM(DF35:DJ35) -> 0 | DQ35: =SUM(DL35:DP35) -> 0 | DW35: =SUM(DR35:DV35) -> 0 | DX35: =SUM(DR35,DL35,DF35,CZ35,CT35,CN35,CH35,CB35,BV35,BP35,BJ35,BD35) -> 0 | DY35: =SUM(DS35,DM35,DG35,DA35,CU35,CO35,CI35,CC35,BW35,BQ35,BK35,BE35) -> 0 | DZ35: =SUM(DT35,DN35,DH35,DB35,CV35,CP35,CJ35,CD35,BX35,BR35,BL35,BF35) -> 0 | EA35: =SUM(DU35,DO35,DI35,DC35,CW35,CQ35,CK35,CE35,BY35,BS35,BM35,BG35) -> 0 | EB35: =SUM(BH35,BN35,BT35,BZ35,CF35,CL35,CR35,CX35,DD35,DJ35,DP35,DV35) -> 0 | EC35: =SUM(DX35:EB35) -> 0 | EF35: 4376.6296 | EG35: 19.882027 | EI35: =SUM(ED35:EH35) -> 4396.5116 | EO35: =SUM(EJ35:EN35) -> 0 | EQ35: 25.532956 | ER35: 19.111132 | ES35: 203.64682 | EU35: =SUM(EP35:ET35) -> 248.29091 | EW35: 811.32555 | FA35: =SUM(EV35:EZ35) -> 811.32555 | FE35: 29.979583 | FG35: =SUM(FB35:FF35) -> 29.979583 | FI35: 3076.5197 | FJ35: 2785.0092 | FK35: 31.898126 | FM35: =SUM(FH35:FL35) -> 5893.4269 | FO35: 2063.6987 | FP35: 2815.7166 | FQ35: 715.165 | FS35: =SUM(FN35:FR35) -> 5594.5803 | FU35: 933855.29 | FV35: 161535.17 | FW35: 16007.102 | FY35: =SUM(FT35:FX35) -> 1111397.6 | GA35: 440379.48 | GB35: 101694.87 | GC35: 4567.9082 | GE35: =SUM(FZ35:GD35) -> 546642.26 | GF35: =SUM(FZ35,FT35,FN35,FH35,FB35,EV35,EP35,EJ35,ED35) -> 0 | GG35: =SUM(GA35,FU35,FO35,FI35,FC35,EW35,EQ35,EK35,EE35) -> 1380211.9 | GH35: =SUM(GB35,FV35,FP35,FJ35,FD35,EX35,ER35,EL35,EF35) -> 273226.5 | GI35: =SUM(GC35,FW35,FQ35,FK35,FE35,EY35,ES35,EM35,EG35) -> 21575.581 | GJ35: =SUM(EH35,EN35,ET35,EZ35,FF35,FL35,FR35,FX35,GD35) -> 0 | GK35: =SUM(GF35:GJ35) -> 1675013.9 | GM35: =SUM(GF35,DX35,AX35) -> 0 | GN35: =SUM(GG35,DY35,AY35) -> 1380211.9 | GO35: =SUM(GH35,DZ35,AZ35) -> 273226.5 | GP35: =SUM(GI35,EA35,BA35) -> 21575.581 | GQ35: =SUM(GJ35,EB35,BB35) -> 0 | GR35: =SUM(GK35,EC35,BC35) -> 1675013.9
A36: IDT=Douglas-fir Tussock Moth | G36: =SUM(B36:F36) -> 0 | M36: =SUM(H36:L36) -> 0 | S36: =SUM(N36:R36) -> 0 | Y36: =SUM(T36:X36) -> 0 | AE36: =SUM(Z36:AD36) -> 0 | AK36: =SUM(AF36:AJ36) -> 0 | AQ36: =SUM(AL36:AP36) -> 0 | AW36: =SUM(AR36:AV36) -> 0 | AX36: =SUM(AR36, AF36, Z36,T36,N36,H36,B36,AL36) -> 0 | AY36: =SUM(AS36, AG36, AA36,U36,O36,I36,C36,AM36) -> 0 | AZ36: =SUM(AT36, AH36, AB36,V36,P36,J36,D36,AN36) -> 0 | BA36: =SUM(AU36, AI36,AC36,W36,Q36,K36,E36,AO36) -> 0 | BB36: =SUM(F36,L36,R36,X36,AD36,AJ36,AP36,AV36) -> 0 | BC36: =SUM(AX36:BB36) -> 0 | BI36: =SUM(BD36:BH36) -> 0 | BO36: =SUM(BJ36:BN36) -> 0 | BU36: =SUM(BP36:BT36) -> 0 | CA36: =SUM(BV36:BZ36) -> 0 | CG36: =SUM(CB36:CF36) -> 0 | CI36: 958.16479 | CJ36: 3764.2821 | CK36: 9299.9869 | CM36: =SUM(CH36:CL36) -> 14022.434 | CO36: 32.879508 | CP36: 324.32847 | CQ36: 774.90832 | CS36: =SUM(CN36:CR36) -> 1132.1163 | CU36: 50.931716 | CV36: 1013.3605 | CW36: 83.982924 | CY36: =SUM(CT36:CX36) -> 1148.2752 | DE36: =SUM(CZ36:DD36) -> 0 | DK36: =SUM(DF36:DJ36) -> 0 | DQ36: =SUM(DL36:DP36) -> 0 | DW36: =SUM(DR36:DV36) -> 0 | DX36: =SUM(DR36,DL36,DF36,CZ36,CT36,CN36,CH36,CB36,BV36,BP36,BJ36,BD36) -> 0 | DY36: =SUM(DS36,DM36,DG36,DA36,CU36,CO36,CI36,CC36,BW36,BQ36,BK36,BE36) -> 1041.976 | DZ36: =SUM(DT36,DN36,DH36,DB36,CV36,CP36,CJ36,CD36,BX36,BR36,BL36,BF36) -> 5101.9711 | EA36: =SUM(DU36,DO36,DI36,DC36,CW36,CQ36,CK36,CE36,BY36,BS36,BM36,BG36) -> 10158.878 | EB36: =SUM(BH36,BN36,BT36,BZ36,CF36,CL36,CR36,CX36,DD36,DJ36,DP36,DV36) -> 0 | EC36: =SUM(DX36:EB36) -> 16302.825 | EI36: =SUM(ED36:EH36) -> 0 | EO36: =SUM(EJ36:EN36) -> 0 | EU36: =SUM(EP36:ET36) -> 0 | FA36: =SUM(EV36:EZ36) -> 0 | FG36: =SUM(FB36:FF36) -> 0 | FM36: =SUM(FH36:FL36) -> 0 | FS36: =SUM(FN36:FR36) -> 0 | FY36: =SUM(FT36:FX36) -> 0 | GE36: =SUM(FZ36:GD36) -> 0 | GF36: =SUM(FZ36,FT36,FN36,FH36,FB36,EV36,EP36,EJ36,ED36) -> 0 | GG36: =SUM(GA36,FU36,FO36,FI36,FC36,EW36,EQ36,EK36,EE36) -> 0 | GH36: =SUM(GB36,FV36,FP36,FJ36,FD36,EX36,ER36,EL36,EF36) -> 0 | GI36: =SUM(GC36,FW36,FQ36,FK36,FE36,EY36,ES36,EM36,EG36) -> 0 | GJ36: =SUM(EH36,EN36,ET36,EZ36,FF36,FL36,FR36,FX36,GD36) -> 0 | GK36: =SUM(GF36:GJ36) -> 0 | GM36: =SUM(GF36,DX36,AX36) -> 0 | GN36: =SUM(GG36,DY36,AY36) -> 1041.976 | GO36: =SUM(GH36,DZ36,AZ36) -> 5101.9711 | GP36: =SUM(GI36,EA36,BA36) -> 10158.878 | GQ36: =SUM(GJ36,EB36,BB36) -> 0 | GR36: =SUM(GK36,EC36,BC36) -> 16302.825
A37: IDX=Large Aspen Tortrix | G37: =SUM(B37:F37) -> 0 | M37: =SUM(H37:L37) -> 0 | S37: =SUM(N37:R37) -> 0 | Y37: =SUM(T37:X37) -> 0 | AE37: =SUM(Z37:AD37) -> 0 | AK37: =SUM(AF37:AJ37) -> 0 | AQ37: =SUM(AL37:AP37) -> 0 | AW37: =SUM(AR37:AV37) -> 0 | AX37: =SUM(AR37, AF37, Z37,T37,N37,H37,B37,AL37) -> 0 | AY37: =SUM(AS37, AG37, AA37,U37,O37,I37,C37,AM37) -> 0 | AZ37: =SUM(AT37, AH37, AB37,V37,P37,J37,D37,AN37) -> 0 | BA37: =SUM(AU37, AI37,AC37,W37,Q37,K37,E37,AO37) -> 0 | BB37: =SUM(F37,L37,R37,X37,AD37,AJ37,AP37,AV37) -> 0 | BC37: =SUM(AX37:BB37) -> 0 | BI37: =SUM(BD37:BH37) -> 0 | BO37: =SUM(BJ37:BN37) -> 0 | BU37: =SUM(BP37:BT37) -> 0 | CA37: =SUM(BV37:BZ37) -> 0 | CG37: =SUM(CB37:CF37) -> 0 | CM37: =SUM(CH37:CL37) -> 0 | CS37: =SUM(CN37:CR37) -> 0 | CY37: =SUM(CT37:CX37) -> 0 | DE37: =SUM(CZ37:DD37) -> 0 | DK37: =SUM(DF37:DJ37) -> 0 | DQ37: =SUM(DL37:DP37) -> 0 | DW37: =SUM(DR37:DV37) -> 0 | DX37: =SUM(DR37,DL37,DF37,CZ37,CT37,CN37,CH37,CB37,BV37,BP37,BJ37,BD37) -> 0 | DY37: =SUM(DS37,DM37,DG37,DA37,CU37,CO37,CI37,CC37,BW37,BQ37,BK37,BE37) -> 0 | DZ37: =SUM(DT37,DN37,DH37,DB37,CV37,CP37,CJ37,CD37,BX37,BR37,BL37,BF37) -> 0 | EA37: =SUM(DU37,DO37,DI37,DC37,CW37,CQ37,CK37,CE37,BY37,BS37,BM37,BG37) -> 0 | EB37: =SUM(BH37,BN37,BT37,BZ37,CF37,CL37,CR37,CX37,DD37,DJ37,DP37,DV37) -> 0 | EC37: =SUM(DX37:EB37) -> 0 | EI37: =SUM(ED37:EH37) -> 0 | EO37: =SUM(EJ37:EN37) -> 0 | EU37: =SUM(EP37:ET37) -> 0 | FA37: =SUM(EV37:EZ37) -> 0 | FG37: =SUM(FB37:FF37) -> 0 | FM37: =SUM(FH37:FL37) -> 0 | FS37: =SUM(FN37:FR37) -> 0 | FY37: =SUM(FT37:FX37) -> 0 | GE37: =SUM(FZ37:GD37) -> 0 | GF37: =SUM(FZ37,FT37,FN37,FH37,FB37,EV37,EP37,EJ37,ED37) -> 0 | GG37: =SUM(GA37,FU37,FO37,FI37,FC37,EW37,EQ37,EK37,EE37) -> 0 | GH37: =SUM(GB37,FV37,FP37,FJ37,FD37,EX37,ER37,EL37,EF37) -> 0 | GI37: =SUM(GC37,FW37,FQ37,FK37,FE37,EY37,ES37,EM37,EG37) -> 0 | GJ37: =SUM(EH37,EN37,ET37,EZ37,FF37,FL37,FR37,FX37,GD37) -> 0 | GK37: =SUM(GF37:GJ37) -> 0 | GM37: =SUM(GF37,DX37,AX37) -> 0 | GN37: =SUM(GG37,DY37,AY37) -> 0 | GO37: =SUM(GH37,DZ37,AZ37) -> 0 | GP37: =SUM(GI37,EA37,BA37) -> 0 | GQ37: =SUM(GJ37,EB37,BB37) -> 0 | GR37: =SUM(GK37,EC37,BC37) -> 0
A38: IDP=Larch Sawfly | G38: =SUM(B38:F38) -> 0 | M38: =SUM(H38:L38) -> 0 | S38: =SUM(N38:R38) -> 0 | Y38: =SUM(T38:X38) -> 0 | AE38: =SUM(Z38:AD38) -> 0 | AK38: =SUM(AF38:AJ38) -> 0 | AQ38: =SUM(AL38:AP38) -> 0 | AW38: =SUM(AR38:AV38) -> 0 | AX38: =SUM(AR38, AF38, Z38,T38,N38,H38,B38,AL38) -> 0 | AY38: =SUM(AS38, AG38, AA38,U38,O38,I38,C38,AM38) -> 0 | AZ38: =SUM(AT38, AH38, AB38,V38,P38,J38,D38,AN38) -> 0 | BA38: =SUM(AU38, AI38,AC38,W38,Q38,K38,E38,AO38) -> 0 | BB38: =SUM(F38,L38,R38,X38,AD38,AJ38,AP38,AV38) -> 0 | BC38: =SUM(AX38:BB38) -> 0 | BI38: =SUM(BD38:BH38) -> 0 | BO38: =SUM(BJ38:BN38) -> 0 | BU38: =SUM(BP38:BT38) -> 0 | CA38: =SUM(BV38:BZ38) -> 0 | CG38: =SUM(CB38:CF38) -> 0 | CM38: =SUM(CH38:CL38) -> 0 | CS38: =SUM(CN38:CR38) -> 0 | CY38: =SUM(CT38:CX38) -> 0 | DE38: =SUM(CZ38:DD38) -> 0 | DK38: =SUM(DF38:DJ38) -> 0 | DQ38: =SUM(DL38:DP38) -> 0 | DW38: =SUM(DR38:DV38) -> 0 | DX38: =SUM(DR38,DL38,DF38,CZ38,CT38,CN38,CH38,CB38,BV38,BP38,BJ38,BD38) -> 0 | DY38: =SUM(DS38,DM38,DG38,DA38,CU38,CO38,CI38,CC38,BW38,BQ38,BK38,BE38) -> 0 | DZ38: =SUM(DT38,DN38,DH38,DB38,CV38,CP38,CJ38,CD38,BX38,BR38,BL38,BF38) -> 0 | EA38: =SUM(DU38,DO38,DI38,DC38,CW38,CQ38,CK38,CE38,BY38,BS38,BM38,BG38) -> 0 | EB38: =SUM(BH38,BN38,BT38,BZ38,CF38,CL38,CR38,CX38,DD38,DJ38,DP38,DV38) -> 0 | EC38: =SUM(DX38:EB38) -> 0 | EI38: =SUM(ED38:EH38) -> 0 | EO38: =SUM(EJ38:EN38) -> 0 | EU38: =SUM(EP38:ET38) -> 0 | FA38: =SUM(EV38:EZ38) -> 0 | FG38: =SUM(FB38:FF38) -> 0 | FM38: =SUM(FH38:FL38) -> 0 | FS38: =SUM(FN38:FR38) -> 0 | FY38: =SUM(FT38:FX38) -> 0 | GE38: =SUM(FZ38:GD38) -> 0 | GF38: =SUM(FZ38,FT38,FN38,FH38,FB38,EV38,EP38,EJ38,ED38) -> 0 | GG38: =SUM(GA38,FU38,FO38,FI38,FC38,EW38,EQ38,EK38,EE38) -> 0 | GH38: =SUM(GB38,FV38,FP38,FJ38,FD38,EX38,ER38,EL38,EF38) -> 0 | GI38: =SUM(GC38,FW38,FQ38,FK38,FE38,EY38,ES38,EM38,EG38) -> 0 | GJ38: =SUM(EH38,EN38,ET38,EZ38,FF38,FL38,FR38,FX38,GD38) -> 0 | GK38: =SUM(GF38:GJ38) -> 0 | GM38: =SUM(GF38,DX38,AX38) -> 0 | GN38: =SUM(GG38,DY38,AY38) -> 0 | GO38: =SUM(GH38,DZ38,AZ38) -> 0 | GP38: =SUM(GI38,EA38,BA38) -> 0 | GQ38: =SUM(GJ38,EB38,BB38) -> 0 | GR38: =SUM(GK38,EC38,BC38) -> 0
A39: IEB=Hemlock Sawfly | G39: =SUM(B39:F39) -> 0 | M39: =SUM(H39:L39) -> 0 | S39: =SUM(N39:R39) -> 0 | Y39: =SUM(T39:X39) -> 0 | AE39: =SUM(Z39:AD39) -> 0 | AK39: =SUM(AF39:AJ39) -> 0 | AQ39: =SUM(AL39:AP39) -> 0 | AW39: =SUM(AR39:AV39) -> 0 | AX39: =SUM(AR39, AF39, Z39,T39,N39,H39,B39,AL39) -> 0 | AY39: =SUM(AS39, AG39, AA39,U39,O39,I39,C39,AM39) -> 0 | AZ39: =SUM(AT39, AH39, AB39,V39,P39,J39,D39,AN39) -> 0 | BA39: =SUM(AU39, AI39,AC39,W39,Q39,K39,E39,AO39) -> 0 | BB39: =SUM(F39,L39,R39,X39,AD39,AJ39,AP39,AV39) -> 0 | BC39: =SUM(AX39:BB39) -> 0 | BI39: =SUM(BD39:BH39) -> 0 | BO39: =SUM(BJ39:BN39) -> 0 | BU39: =SUM(BP39:BT39) -> 0 | CA39: =SUM(BV39:BZ39) -> 0 | CG39: =SUM(CB39:CF39) -> 0 | CM39: =SUM(CH39:CL39) -> 0 | CS39: =SUM(CN39:CR39) -> 0 | CY39: =SUM(CT39:CX39) -> 0 | DE39: =SUM(CZ39:DD39) -> 0 | DK39: =SUM(DF39:DJ39) -> 0 | DQ39: =SUM(DL39:DP39) -> 0 | DW39: =SUM(DR39:DV39) -> 0 | DX39: =SUM(DR39,DL39,DF39,CZ39,CT39,CN39,CH39,CB39,BV39,BP39,BJ39,BD39) -> 0 | DY39: =SUM(DS39,DM39,DG39,DA39,CU39,CO39,CI39,CC39,BW39,BQ39,BK39,BE39) -> 0 | DZ39: =SUM(DT39,DN39,DH39,DB39,CV39,CP39,CJ39,CD39,BX39,BR39,BL39,BF39) -> 0 | EA39: =SUM(DU39,DO39,DI39,DC39,CW39,CQ39,CK39,CE39,BY39,BS39,BM39,BG39) -> 0 | EB39: =SUM(BH39,BN39,BT39,BZ39,CF39,CL39,CR39,CX39,DD39,DJ39,DP39,DV39) -> 0 | EC39: =SUM(DX39:EB39) -> 0 | EI39: =SUM(ED39:EH39) -> 0 | EO39: =SUM(EJ39:EN39) -> 0 | EU39: =SUM(EP39:ET39) -> 0 | FA39: =SUM(EV39:EZ39) -> 0 | FG39: =SUM(FB39:FF39) -> 0 | FM39: =SUM(FH39:FL39) -> 0 | FS39: =SUM(FN39:FR39) -> 0 | FY39: =SUM(FT39:FX39) -> 0 | GE39: =SUM(FZ39:GD39) -> 0 | GF39: =SUM(FZ39,FT39,FN39,FH39,FB39,EV39,EP39,EJ39,ED39) -> 0 | GG39: =SUM(GA39,FU39,FO39,FI39,FC39,EW39,EQ39,EK39,EE39) -> 0 | GH39: =SUM(GB39,FV39,FP39,FJ39,FD39,EX39,ER39,EL39,EF39) -> 0 | GI39: =SUM(GC39,FW39,FQ39,FK39,FE39,EY39,ES39,EM39,EG39) -> 0 | GJ39: =SUM(EH39,EN39,ET39,EZ39,FF39,FL39,FR39,FX39,GD39) -> 0 | GK39: =SUM(GF39:GJ39) -> 0 | GM39: =SUM(GF39,DX39,AX39) -> 0 | GN39: =SUM(GG39,DY39,AY39) -> 0 | GO39: =SUM(GH39,DZ39,AZ39) -> 0 | GP39: =SUM(GI39,EA39,BA39) -> 0 | GQ39: =SUM(GJ39,EB39,BB39) -> 0 | GR39: =SUM(GK39,EC39,BC39) -> 0
A40: IDR=Alder Sawfly | G40: =SUM(B40:F40) -> 0 | M40: =SUM(H40:L40) -> 0 | S40: =SUM(N40:R40) -> 0 | Y40: =SUM(T40:X40) -> 0 | AE40: =SUM(Z40:AD40) -> 0 | AK40: =SUM(AF40:AJ40) -> 0 | AQ40: =SUM(AL40:AP40) -> 0 | AW40: =SUM(AR40:AV40) -> 0 | AX40: =SUM(AR40, AF40, Z40,T40,N40,H40,B40,AL40) -> 0 | AY40: =SUM(AS40, AG40, AA40,U40,O40,I40,C40,AM40) -> 0 | AZ40: =SUM(AT40, AH40, AB40,V40,P40,J40,D40,AN40) -> 0 | BA40: =SUM(AU40, AI40,AC40,W40,Q40,K40,E40,AO40) -> 0 | BB40: =SUM(F40,L40,R40,X40,AD40,AJ40,AP40,AV40) -> 0 | BC40: =SUM(AX40:BB40) -> 0 | BI40: =SUM(BD40:BH40) -> 0 | BO40: =SUM(BJ40:BN40) -> 0 | BU40: =SUM(BP40:BT40) -> 0 | CA40: =SUM(BV40:BZ40) -> 0 | CG40: =SUM(CB40:CF40) -> 0 | CM40: =SUM(CH40:CL40) -> 0 | CS40: =SUM(CN40:CR40) -> 0 | CY40: =SUM(CT40:CX40) -> 0 | DE40: =SUM(CZ40:DD40) -> 0 | DK40: =SUM(DF40:DJ40) -> 0 | DQ40: =SUM(DL40:DP40) -> 0 | DW40: =SUM(DR40:DV40) -> 0 | DX40: =SUM(DR40,DL40,DF40,CZ40,CT40,CN40,CH40,CB40,BV40,BP40,BJ40,BD40) -> 0 | DY40: =SUM(DS40,DM40,DG40,DA40,CU40,CO40,CI40,CC40,BW40,BQ40,BK40,BE40) -> 0 | DZ40: =SUM(DT40,DN40,DH40,DB40,CV40,CP40,CJ40,CD40,BX40,BR40,BL40,BF40) -> 0 | EA40: =SUM(DU40,DO40,DI40,DC40,CW40,CQ40,CK40,CE40,BY40,BS40,BM40,BG40) -> 0 | EB40: =SUM(BH40,BN40,BT40,BZ40,CF40,CL40,CR40,CX40,DD40,DJ40,DP40,DV40) -> 0 | EC40: =SUM(DX40:EB40) -> 0 | EI40: =SUM(ED40:EH40) -> 0 | EO40: =SUM(EJ40:EN40) -> 0 | EU40: =SUM(EP40:ET40) -> 0 | FA40: =SUM(EV40:EZ40) -> 0 | FG40: =SUM(FB40:FF40) -> 0 | FM40: =SUM(FH40:FL40) -> 0 | FS40: =SUM(FN40:FR40) -> 0 | FY40: =SUM(FT40:FX40) -> 0 | GE40: =SUM(FZ40:GD40) -> 0 | GF40: =SUM(FZ40,FT40,FN40,FH40,FB40,EV40,EP40,EJ40,ED40) -> 0 | GG40: =SUM(GA40,FU40,FO40,FI40,FC40,EW40,EQ40,EK40,EE40) -> 0 | GH40: =SUM(GB40,FV40,FP40,FJ40,FD40,EX40,ER40,EL40,EF40) -> 0 | GI40: =SUM(GC40,FW40,FQ40,FK40,FE40,EY40,ES40,EM40,EG40) -> 0 | GJ40: =SUM(EH40,EN40,ET40,EZ40,FF40,FL40,FR40,FX40,GD40) -> 0 | GK40: =SUM(GF40:GJ40) -> 0 | GM40: =SUM(GF40,DX40,AX40) -> 0 | GN40: =SUM(GG40,DY40,AY40) -> 0 | GO40: =SUM(GH40,DZ40,AZ40) -> 0 | GP40: =SUM(GI40,EA40,BA40) -> 0 | GQ40: =SUM(GJ40,EB40,BB40) -> 0 | GR40: =SUM(GK40,EC40,BC40) -> 0
A41: IDZ=False Hemlock Looper | G41: =SUM(B41:F41) -> 0 | M41: =SUM(H41:L41) -> 0 | S41: =SUM(N41:R41) -> 0 | Y41: =SUM(T41:X41) -> 0 | AE41: =SUM(Z41:AD41) -> 0 | AK41: =SUM(AF41:AJ41) -> 0 | AQ41: =SUM(AL41:AP41) -> 0 | AW41: =SUM(AR41:AV41) -> 0 | AX41: =SUM(AR41, AF41, Z41,T41,N41,H41,B41,AL41) -> 0 | AY41: =SUM(AS41, AG41, AA41,U41,O41,I41,C41,AM41) -> 0 | AZ41: =SUM(AT41, AH41, AB41,V41,P41,J41,D41,AN41) -> 0 | BA41: =SUM(AU41, AI41,AC41,W41,Q41,K41,E41,AO41) -> 0 | BB41: =SUM(F41,L41,R41,X41,AD41,AJ41,AP41,AV41) -> 0 | BC41: =SUM(AX41:BB41) -> 0 | BI41: =SUM(BD41:BH41) -> 0 | BO41: =SUM(BJ41:BN41) -> 0 | BU41: =SUM(BP41:BT41) -> 0 | CA41: =SUM(BV41:BZ41) -> 0 | CG41: =SUM(CB41:CF41) -> 0 | CM41: =SUM(CH41:CL41) -> 0 | CS41: =SUM(CN41:CR41) -> 0 | CY41: =SUM(CT41:CX41) -> 0 | DE41: =SUM(CZ41:DD41) -> 0 | DG41: 220.34987 | DK41: =SUM(DF41:DJ41) -> 220.34987 | DQ41: =SUM(DL41:DP41) -> 0 | DW41: =SUM(DR41:DV41) -> 0 | DX41: =SUM(DR41,DL41,DF41,CZ41,CT41,CN41,CH41,CB41,BV41,BP41,BJ41,BD41) -> 0 | DY41: =SUM(DS41,DM41,DG41,DA41,CU41,CO41,CI41,CC41,BW41,BQ41,BK41,BE41) -> 220.34987 | DZ41: =SUM(DT41,DN41,DH41,DB41,CV41,CP41,CJ41,CD41,BX41,BR41,BL41,BF41) -> 0 | EA41: =SUM(DU41,DO41,DI41,DC41,CW41,CQ41,CK41,CE41,BY41,BS41,BM41,BG41) -> 0 | EB41: =SUM(BH41,BN41,BT41,BZ41,CF41,CL41,CR41,CX41,DD41,DJ41,DP41,DV41) -> 0 | EC41: =SUM(DX41:EB41) -> 220.34987 | EI41: =SUM(ED41:EH41) -> 0 | EO41: =SUM(EJ41:EN41) -> 0 | EU41: =SUM(EP41:ET41) -> 0 | FA41: =SUM(EV41:EZ41) -> 0 | FG41: =SUM(FB41:FF41) -> 0 | FM41: =SUM(FH41:FL41) -> 0 | FS41: =SUM(FN41:FR41) -> 0 | FY41: =SUM(FT41:FX41) -> 0 | GE41: =SUM(FZ41:GD41) -> 0 | GF41: =SUM(FZ41,FT41,FN41,FH41,FB41,EV41,EP41,EJ41,ED41) -> 0 | GG41: =SUM(GA41,FU41,FO41,FI41,FC41,EW41,EQ41,EK41,EE41) -> 0 | GH41: =SUM(GB41,FV41,FP41,FJ41,FD41,EX41,ER41,EL41,EF41) -> 0 | GI41: =SUM(GC41,FW41,FQ41,FK41,FE41,EY41,ES41,EM41,EG41) -> 0 | GJ41: =SUM(EH41,EN41,ET41,EZ41,FF41,FL41,FR41,FX41,GD41) -> 0 | GK41: =SUM(GF41:GJ41) -> 0 | GM41: =SUM(GF41,DX41,AX41) -> 0 | GN41: =SUM(GG41,DY41,AY41) -> 220.34987 | GO41: =SUM(GH41,DZ41,AZ41) -> 0 | GP41: =SUM(GI41,EA41,BA41) -> 0 | GQ41: =SUM(GJ41,EB41,BB41) -> 0 | GR41: =SUM(GK41,EC41,BC41) -> 220.34987
A42: ID6=Aspen Leaf Miner | G42: =SUM(B42:F42) -> 0 | I42: 94.340858 | J42: 507.41631 | K42: 787.61044 | M42: =SUM(H42:L42) -> 1389.3676 | S42: =SUM(N42:R42) -> 0 | Y42: =SUM(T42:X42) -> 0 | AE42: =SUM(Z42:AD42) -> 0 | AK42: =SUM(AF42:AJ42) -> 0 | AQ42: =SUM(AL42:AP42) -> 0 | AW42: =SUM(AR42:AV42) -> 0 | AX42: =SUM(AR42, AF42, Z42,T42,N42,H42,B42,AL42) -> 0 | AY42: =SUM(AS42, AG42, AA42,U42,O42,I42,C42,AM42) -> 94.340858 | AZ42: =SUM(AT42, AH42, AB42,V42,P42,J42,D42,AN42) -> 507.41631 | BA42: =SUM(AU42, AI42,AC42,W42,Q42,K42,E42,AO42) -> 787.61044 | BB42: =SUM(F42,L42,R42,X42,AD42,AJ42,AP42,AV42) -> 0 | BC42: =SUM(AX42:BB42) -> 1389.3676 | BE42: 2064.0032 | BF42: 180.64305 | BI42: =SUM(BD42:BH42) -> 2244.6463 | BK42: 106.64024 | BM42: 999.8028 | BO42: =SUM(BJ42:BN42) -> 1106.443 | BQ42: 132.23795 | BS42: 83.037868 | BU42: =SUM(BP42:BT42) -> 215.27581 | BW42: 14.07443 | BX42: 6632.455 | CA42: =SUM(BV42:BZ42) -> 6646.5294 | CC42: 33783.674 | CD42: 3569.6188 | CG42: =SUM(CB42:CF42) -> 37353.293 | CI42: 4573.6398 | CJ42: 358.09796 | CM42: =SUM(CH42:CL42) -> 4931.7377 | CS42: =SUM(CN42:CR42) -> 0 | CU42: 3679.802 | CV42: 704.77523 | CY42: =SUM(CT42:CX42) -> 4384.5772 | DA42: 2125.3115 | DB42: 884.49025 | DE42: =SUM(CZ42:DD42) -> 3009.8018 | DG42: 190.86913 | DH42: 89.557414 | DK42: =SUM(DF42:DJ42) -> 280.42654 | DM42: 4046.4457 | DN42: 1794.5263 | DQ42: =SUM(DL42:DP42) -> 5840.9719 | DS42: 865.93207 | DT42: 402.34247 | DW42: =SUM(DR42:DV42) -> 1268.2745 | DX42: =SUM(DR42,DL42,DF42,CZ42,CT42,CN42,CH42,CB42,BV42,BP42,BJ42,BD42) -> 0 | DY42: =SUM(DS42,DM42,DG42,DA42,CU42,CO42,CI42,CC42,BW42,BQ42,BK42,BE42) -> 51582.63 | DZ42: =SUM(DT42,DN42,DH42,DB42,CV42,CP42,CJ42,CD42,BX42,BR42,BL42,BF42) -> 14616.506 | EA42: =SUM(DU42,DO42,DI42,DC42,CW42,CQ42,CK42,CE42,BY42,BS42,BM42,BG42) -> 1082.8407 | EB42: =SUM(BH42,BN42,BT42,BZ42,CF42,CL42,CR42,CX42,DD42,DJ42,DP42,DV42) -> 0 | EC42: =SUM(DX42:EB42) -> 67281.977 | EE42: 8975.1476 | EF42: 28234.505 | EG42: 45634.089 | EI42: =SUM(ED42:EH42) -> 82843.742 | EL42: 190.77885 | EO42: =SUM(EJ42:EN42) -> 190.77885 | EQ42: 8822.8885 | ER42: 6050.7911 | ES42: 8507.0779 | EU42: =SUM(EP42:ET42) -> 23380.757 | EW42: 7547.3831 | EX42: 13039.419 | EY42: 264.66327 | FA42: =SUM(EV42:EZ42) -> 20851.465 | FC42: 20.254978 | FD42: 21.005347 | FE42: 47.676547 | FG42: =SUM(FB42:FF42) -> 88.936873 | FI42: 1743.0027 | FJ42: 61.552276 | FK42: 12.84764 | FM42: =SUM(FH42:FL42) -> 1817.4026 | FO42: 292.55973 | FP42: 1105.6923 | FQ42: 350.35654 | FS42: =SUM(FN42:FR42) -> 1748.6086 | FU42: 2050.0654 | FV42: 709.58232 | FW42: 2378.0451 | FY42: =SUM(FT42:FX42) -> 5137.6928 | GA42: 4746.8229 | GB42: 126.65054 | GC42: 0.25 | GE42: =SUM(FZ42:GD42) -> 4873.7235 | GF42: =SUM(FZ42,FT42,FN42,FH42,FB42,EV42,EP42,EJ42,ED42) -> 0 | GG42: =SUM(GA42,FU42,FO42,FI42,FC42,EW42,EQ42,EK42,EE42) -> 34198.125 | GH42: =SUM(GB42,FV42,FP42,FJ42,FD42,EX42,ER42,EL42,EF42) -> 49539.977 | GI42: =SUM(GC42,FW42,FQ42,FK42,FE42,EY42,ES42,EM42,EG42) -> 57195.006 | GJ42: =SUM(EH42,EN42,ET42,EZ42,FF42,FL42,FR42,FX42,GD42) -> 0 | GK42: =SUM(GF42:GJ42) -> 140933.11 | GM42: =SUM(GF42,DX42,AX42) -> 0 | GN42: =SUM(GG42,DY42,AY42) -> 85875.096 | GO42: =SUM(GH42,DZ42,AZ42) -> 64663.9 | GP42: =SUM(GI42,EA42,BA42) -> 59065.457 | GQ42: =SUM(GJ42,EB42,BB42) -> 0 | GR42: =SUM(GK42,EC42,BC42) -> 209604.45
A43: Total Defoliators= | B43: =SUM(B20:B42) -> 0 | C43: =SUM(C20:C42) -> 712.04323 | D43: =SUM(D20:D42) -> 330.11731 | E43: =SUM(E20:E42) -> 0 | F43: =SUM(F20:F42) -> 0 | G43: =SUM(G20:G42) -> 1042.1605 | H43: =SUM(H20:H42) -> 0 | I43: =SUM(I20:I42) -> 369.81347 | ... AE43: =SUM(AE20:AE42) -> 0 | AF43: =SUM(AF20:AF37) -> 0 | AG43: =SUM(AG20:AG37) -> 13.914301 | AH43: =SUM(AH20:AH42) -> 0 | AI43: =SUM(AI20:AI42) -> 0 | AJ43: =SUM(AJ20:AJ42) -> 0 | AK43: =SUM(AK20:AK42) -> 13.914301 | AL43: =SUM(AL20:AL42) -> 0 | AM43: =SUM(AM20:AM42) -> 0 | AN43: =SUM(AN20:AN42) -> 0 | AO43: =SUM(AO20:AO42) -> 0 | ... CC43: =SUM(CC20:CC42) -> 47342.416 | CD43: =SUM(CD20:CD33) -> 1135.5667 | CE43: =SUM(CE20:CE36) -> 0 | CF43: =SUM(CF20:CF42) -> 0 | CG43: =SUM(CG20:CG42) -> 52047.601 | CH43: =SUM(CH20:CH42) -> 0 | CI43: =SUM(CI20:CI42) -> 113174.79 | CJ43: =SUM(CJ20:CJ42) -> 13734.32 | CK43: =SUM(CK20:CK42) -> 9301.2254 | CL43: =SUM(CL20:CL42) -> 0 | CM43: =SUM(CM20:CM42) -> 136210.34 | ... FP43: =SUM(FP20:FP42) -> 12435.719 | FQ43: =SUM(FQ23:FQ42) -> 1175.799 | FR43: =SUM(FR23:FR42) -> 0 | FS43: =SUM(FN43:FR43) -> 30871.926 | FT43: =SUM(FT20:FT42) -> 0 | FU43: =SUM(FU20:FU42) -> 936808.36 | FV43: =SUM(FV20:FV42) -> 162244.75 | FW43: =SUM(FW20:FW42) -> 18385.397 | FX43: =SUM(FX20:FX42) -> 0 | FY43: =SUM(FY20:FY42) -> 1117438.5 | FZ43: =SUM(FZ20:FZ42) -> 0 | GA43: =SUM(GA20:GA42) -> 452742.46 | ... GK43: =SUM(GK20:GK42) -> 1976008.1 | GM43: =SUM(GM20:GM42) -> 0 | GN43: =SUM(GN20:GN42) -> 2131162.9 | GO43: =SUM(GO20:GO42) -> 515286.58 | GP43: =SUM(GP20:GP42) -> 128470.28 | GQ43: =SUM(GQ20:GQ42) -> 0 | GR43: =SUM(GR20:GR42) -> 2774919.7
A45: Other
A46: N | G46: =SUM(B46:F46) -> 0 | M46: =SUM(H46:L46) -> 0 | S46: =SUM(N46:R46) -> 0 | Y46: =SUM(T46:X46) -> 0 | AE46: =SUM(Z46:AD46) -> 0 | AK46: =SUM(AF46:AJ46) -> 0 | AQ46: =SUM(AL46:AP46) -> 0 | AW46: =SUM(AR46:AV46) -> 0 | AX46: =SUM(AR46, AF46, Z46,T46,N46,H46,B46,AL46) -> 0 | AY46: =SUM(AS46,AG46,AA46,U46,O46,I46,C46,AM46) -> 0 | AZ46: =SUM(AT46, AH46, AB46,V46,P46,J46,D46, AN46) -> 0 | BA46: =SUM(E46,K46,Q46,W46,AC46,AI46,AO46,AU46) -> 0 | BB46: =SUM(F46,L46,R46,X46,AD46,AJ46,AP46,AV46) -> 0 | BC46: =SUM(AX46:BB46) -> 0 | BI46: =SUM(BD46:BH46) -> 0 | BO46: =SUM(BJ46:BN46) -> 0 | BU46: =SUM(BP46:BT46) -> 0 | CA46: =SUM(BV46:BZ46) -> 0 | CG46: =SUM(CB46:CF46) -> 0 | CM46: =SUM(CH46:CL46) -> 0 | CS46: =SUM(CN46:CR46) -> 0 | CY46: =SUM(CT46:CX46) -> 0 | DE46: =SUM(CZ46:DD46) -> 0 | DK46: =SUM(DF46:DJ46) -> 0 | DQ46: =SUM(DL46:DP46) -> 0 | DW46: =SUM(DR46:DV46) -> 0 | DX46: =SUM(DR46,DL46,DF46,CZ46,CT46,CN46,CH46,CB46,BV46,BP46,BJ46,BD46) -> 0 | DY46: =SUM(DS46,DM46,DG46,DA46,CU46,CO46,CI46,CC46,BW46,BQ46,BK46,BE46) -> 0 | DZ46: =SUM(DT46,DN46,DH46,DB46,CV46,CP46,CJ46,CD46,BX46,BR46,BL46,BF46) -> 0 | EA46: =SUM(DU46,DO46,DI46,DC46,CW46,CQ46,CK46,CE46,BY46,BS46,BM46,BG46) -> 0 | EB46: =SUM(BH46,BN46,BT46,BZ46,CF46,CL46,CR46,CX46,DD46,DJ46,DP46,DV46) -> 0 | EC46: =SUM(DX46:EB46) -> 0 | EI46: =SUM(ED46:EH46) -> 0 | EO46: =SUM(EJ46:EN46) -> 0 | EU46: =SUM(EP46:ET46) -> 0 | EY46: 9.6893471 | FA46: =SUM(EV46:EZ46) -> 9.6893471 | FG46: =SUM(FB46:FF46) -> 0 | FM46: =SUM(FH46:FL46) -> 0 | FS46: =SUM(FN46:FR46) -> 0 | FY46: =SUM(FT46:FX46) -> 0 | GE46: =SUM(FZ46:GD46) -> 0 | GF46: =SUM(FZ46,FT46,FN46,FH46,FB46,EV46,EP46,EJ46,ED46) -> 0 | GG46: =SUM(GA46,FU46,FO46,FI46,FC46,EW46,EQ46,EK46,EE46) -> 0 | GH46: =SUM(GB46,FV46,FP46,FJ46,FD46,EX46,ER46,EL46,EF46) -> 0 | GI46: =SUM(GC46,FW46,FQ46,FK46,FE46,EY46,ES46,EM46,EG46) -> 9.6893471 | GJ46: =SUM(EH46,EN46,ET46,EZ46,FF46,FL46,FR46,FX46,GD46) -> 0 | GK46: =SUM(GF46:GJ46) -> 9.6893471 | GM46: =SUM(GF46,DX46,AX46) -> 0 | GN46: =SUM(GG46,DY46,AY46) -> 0 | GO46: =SUM(GH46,DZ46,AZ46) -> 0 | GP46: =SUM(GI46,EA46,BA46) -> 9.6893471 | GQ46: =SUM(GJ46,EB46,BB46) -> 0 | GR46: =SUM(GK46,EC46,BC46) -> 9.6893471
A47: NAV=Avalanche or snow slide | G47: =SUM(B47:F47) -> 0 | K47: 71.95646 | M47: =SUM(H47:L47) -> 71.95646 | S47: =SUM(N47:R47) -> 0 | Y47: =SUM(T47:X47) -> 0 | AE47: =SUM(Z47:AD47) -> 0 | AK47: =SUM(AF47:AJ47) -> 0 | AQ47: =SUM(AL47:AP47) -> 0 | AW47: =SUM(AR47:AV47) -> 0 | AX47: =SUM(AR47, AF47, Z47,T47,N47,H47,B47,AL47) -> 0 | AY47: =SUM(AS47,AG47,AA47,U47,O47,I47,C47,AM47) -> 0 | AZ47: =SUM(AT47, AH47, AB47,V47,P47,J47,D47, AN47) -> 0 | BA47: =SUM(E47,K47,Q47,W47,AC47,AI47,AO47,AU47) -> 71.95646 | BB47: =SUM(F47,L47,R47,X47,AD47,AJ47,AP47,AV47) -> 0 | BC47: =SUM(AX47:BB47) -> 71.95646 | BG47: 9.1571036 | BI47: =SUM(BD47:BH47) -> 9.1571036 | BO47: =SUM(BJ47:BN47) -> 0 | BU47: =SUM(BP47:BT47) -> 0 | CA47: =SUM(BV47:BZ47) -> 0 | CE47: 9.2181897 | CG47: =SUM(CB47:CF47) -> 9.2181897 | CM47: =SUM(CH47:CL47) -> 0 | CS47: =SUM(CN47:CR47) -> 0 | CY47: =SUM(CT47:CX47) -> 0 | DE47: =SUM(CZ47:DD47) -> 0 | DK47: =SUM(DF47:DJ47) -> 0 | DQ47: =SUM(DL47:DP47) -> 0 | DW47: =SUM(DR47:DV47) -> 0 | DX47: =SUM(DR47,DL47,DF47,CZ47,CT47,CN47,CH47,CB47,BV47,BP47,BJ47,BD47) -> 0 | DY47: =SUM(DS47,DM47,DG47,DA47,CU47,CO47,CI47,CC47,BW47,BQ47,BK47,BE47) -> 0 | DZ47: =SUM(DT47,DN47,DH47,DB47,CV47,CP47,CJ47,CD47,BX47,BR47,BL47,BF47) -> 0 | EA47: =SUM(DU47,DO47,DI47,DC47,CW47,CQ47,CK47,CE47,BY47,BS47,BM47,BG47) -> 18.375293 | EB47: =SUM(BH47,BN47,BT47,BZ47,CF47,CL47,CR47,CX47,DD47,DJ47,DP47,DV47) -> 0 | EC47: =SUM(DX47:EB47) -> 18.375293 | EI47: =SUM(ED47:EH47) -> 0 | EM47: 2.8611715 | EO47: =SUM(EJ47:EN47) -> 2.8611715 | EU47: =SUM(EP47:ET47) -> 0 | EY47: 8.1454302 | FA47: =SUM(EV47:EZ47) -> 8.1454302 | FG47: =SUM(FB47:FF47) -> 0 | FM47: =SUM(FH47:FL47) -> 0 | FS47: =SUM(FN47:FR47) -> 0 | FY47: =SUM(FT47:FX47) -> 0 | GE47: =SUM(FZ47:GD47) -> 0 | GF47: =SUM(FZ47,FT47,FN47,FH47,FB47,EV47,EP47,EJ47,ED47) -> 0 | GG47: =SUM(GA47,FU47,FO47,FI47,FC47,EW47,EQ47,EK47,EE47) -> 0 | GH47: =SUM(GB47,FV47,FP47,FJ47,FD47,EX47,ER47,EL47,EF47) -> 0 | GI47: =SUM(GC47,FW47,FQ47,FK47,FE47,EY47,ES47,EM47,EG47) -> 11.006602 | GJ47: =SUM(EH47,EN47,ET47,EZ47,FF47,FL47,FR47,FX47,GD47) -> 0 | GK47: =SUM(GF47:GJ47) -> 11.006602 | GM47: =SUM(GF47,DX47,AX47) -> 0 | GN47: =SUM(GG47,DY47,AY47) -> 0 | GO47: =SUM(GH47,DZ47,AZ47) -> 0 | GP47: =SUM(GI47,EA47,BA47) -> 101.33836 | GQ47: =SUM(GJ47,EB47,BB47) -> 0 | GR47: =SUM(GK47,EC47,BC47) -> 101.33836
A48: NB=Fire | E48: 25.438236 | G48: =SUM(B48:F48) -> 25.438236 | K48: 20056.421 | M48: =SUM(H48:L48) -> 20056.421 | Q48: 52.199656 | S48: =SUM(N48:R48) -> 52.199656 | Y48: =SUM(T48:X48) -> 0 | AC48: 46.801 | AE48: =SUM(Z48:AD48) -> 46.801 | AI48: 86.993578 | AK48: =SUM(AF48:AJ48) -> 86.993578 | AO48: 1.1010821 | AQ48: =SUM(AL48:AP48) -> 1.1010821 | AW48: =SUM(AR48:AV48) -> 0 | AX48: =SUM(AR48, AF48, Z48,T48,N48,H48,B48,AL48) -> 0 | AY48: =SUM(AS48,AG48,AA48,U48,O48,I48,C48,AM48) -> 0 | AZ48: =SUM(AT48, AH48, AB48,V48,P48,J48,D48, AN48) -> 0 | BA48: =SUM(E48,K48,Q48,W48,AC48,AI48,AO48,AU48) -> 20268.955 | BB48: =SUM(F48,L48,R48,X48,AD48,AJ48,AP48,AV48) -> 0 | BC48: =SUM(AX48:BB48) -> 20268.955 | BG48: 53548.681 | BI48: =SUM(BD48:BH48) -> 53548.681 | BM48: 43844.459 | BO48: =SUM(BJ48:BN48) -> 43844.459 | BS48: 1405.8101 | BU48: =SUM(BP48:BT48) -> 1405.8101 | BY48: 55818.221 | CA48: =SUM(BV48:BZ48) -> 55818.221 | CE48: 680.37413 | CG48: =SUM(CB48:CF48) -> 680.37413 | CK48: 236.72086 | CL48: 15.939657 | CM48: =SUM(CH48:CL48) -> 252.66051 | CQ48: 2811.846 | CS48: =SUM(CN48:CR48) -> 2811.846 | CW48: 499.58571 | CY48: =SUM(CT48:CX48) -> 499.58571 | DC48: 146.45529 | DE48: =SUM(CZ48:DD48) -> 146.45529 | DI48: 919.4673 | DK48: =SUM(DF48:DJ48) -> 919.4673 | DO48: 576.67645 | DQ48: =SUM(DL48:DP48) -> 576.67645 | DU48: 666.72755 | DW48: =SUM(DR48:DV48) -> 666.72755 | DX48: =SUM(DR48,DL48,DF48,CZ48,CT48,CN48,CH48,CB48,BV48,BP48,BJ48,BD48) -> 0 | DY48: =SUM(DS48,DM48,DG48,DA48,CU48,CO48,CI48,CC48,BW48,BQ48,BK48,BE48) -> 0 | DZ48: =SUM(DT48,DN48,DH48,DB48,CV48,CP48,CJ48,CD48,BX48,BR48,BL48,BF48) -> 0 | EA48: =SUM(DU48,DO48,DI48,DC48,CW48,CQ48,CK48,CE48,BY48,BS48,BM48,BG48) -> 161155.02 | EB48: =SUM(BH48,BN48,BT48,BZ48,CF48,CL48,CR48,CX48,DD48,DJ48,DP48,DV48) -> 15.939657 | EC48: =SUM(DX48:EB48) -> 161170.96 | EG48: 33579.425 | EI48: =SUM(ED48:EH48) -> 33579.425 | EM48: 31.281594 | EO48: =SUM(EJ48:EN48) -> 31.281594 | ES48: 36914.533 | EU48: =SUM(EP48:ET48) -> 36914.533 | EY48: 5285.4968 | FA48: =SUM(EV48:EZ48) -> 5285.4968 | FE48: 33414.959 | FG48: =SUM(FB48:FF48) -> 33414.959 | FK48: 32.902955 | FM48: =SUM(FH48:FL48) -> 32.902955 | FQ48: 5677.589 | FS48: =SUM(FN48:FR48) -> 5677.589 | FW48: 2385.6884 | FY48: =SUM(FT48:FX48) -> 2385.6884 | GC48: 3392.7145 | GE48: =SUM(FZ48:GD48) -> 3392.7145 | GF48: =SUM(FZ48,FT48,FN48,FH48,FB48,EV48,EP48,EJ48,ED48) -> 0 | GG48: =SUM(GA48,FU48,FO48,FI48,FC48,EW48,EQ48,EK48,EE48) -> 0 | GH48: =SUM(GB48,FV48,FP48,FJ48,FD48,EX48,ER48,EL48,EF48) -> 0 | GI48: =SUM(GC48,FW48,FQ48,FK48,FE48,EY48,ES48,EM48,EG48) -> 120714.59 | GJ48: =SUM(EH48,EN48,ET48,EZ48,FF48,FL48,FR48,FX48,GD48) -> 0 | GK48: =SUM(GF48:GJ48) -> 120714.59 | GM48: =SUM(GF48,DX48,AX48) -> 0 | GN48: =SUM(GG48,DY48,AY48) -> 0 | GO48: =SUM(GH48,DZ48,AZ48) -> 0 | GP48: =SUM(GI48,EA48,BA48) -> 302138.57 | GQ48: =SUM(GJ48,EB48,BB48) -> 15.939657 | GR48: =SUM(GK48,EC48,BC48) -> 302154.51
A49: NCA=Aspen decline | G49: =SUM(B49:F49) -> 0 | M49: =SUM(H49:L49) -> 0 | S49: =SUM(N49:R49) -> 0 | Y49: =SUM(T49:X49) -> 0 | AE49: =SUM(Z49:AD49) -> 0 | AK49: =SUM(AF49:AJ49) -> 0 | AQ49: =SUM(AL49:AP49) -> 0 | AW49: =SUM(AR49:AV49) -> 0 | AX49: =SUM(AR49, AF49, Z49,T49,N49,H49,B49,AL49) -> 0 | AY49: =SUM(AS49,AG49,AA49,U49,O49,I49,C49,AM49) -> 0 | AZ49: =SUM(AT49, AH49, AB49,V49,P49,J49,D49, AN49) -> 0 | BA49: =SUM(E49,K49,Q49,W49,AC49,AI49,AO49,AU49) -> 0 | BB49: =SUM(F49,L49,R49,X49,AD49,AJ49,AP49,AV49) -> 0 | BC49: =SUM(AX49:BB49) -> 0 | BI49: =SUM(BD49:BH49) -> 0 | BO49: =SUM(BJ49:BN49) -> 0 | BU49: =SUM(BP49:BT49) -> 0 | CA49: =SUM(BV49:BZ49) -> 0 | CG49: =SUM(CB49:CF49) -> 0 | CM49: =SUM(CH49:CL49) -> 0 | CS49: =SUM(CN49:CR49) -> 0 | CY49: =SUM(CT49:CX49) -> 0 | DE49: =SUM(CZ49:DD49) -> 0 | DK49: =SUM(DF49:DJ49) -> 0 | DQ49: =SUM(DL49:DP49) -> 0 | DW49: =SUM(DR49:DV49) -> 0 | DX49: =SUM(DR49,DL49,DF49,CZ49,CT49,CN49,CH49,CB49,BV49,BP49,BJ49,BD49) -> 0 | DY49: =SUM(DS49,DM49,DG49,DA49,CU49,CO49,CI49,CC49,BW49,BQ49,BK49,BE49) -> 0 | DZ49: =SUM(DT49,DN49,DH49,DB49,CV49,CP49,CJ49,CD49,BX49,BR49,BL49,BF49) -> 0 | EA49: =SUM(DU49,DO49,DI49,DC49,CW49,CQ49,CK49,CE49,BY49,BS49,BM49,BG49) -> 0 | EB49: =SUM(BH49,BN49,BT49,BZ49,CF49,CL49,CR49,CX49,DD49,DJ49,DP49,DV49) -> 0 | EC49: =SUM(DX49:EB49) -> 0 | EI49: =SUM(ED49:EH49) -> 0 | EO49: =SUM(EJ49:EN49) -> 0 | EU49: =SUM(EP49:ET49) -> 0 | FA49: =SUM(EV49:EZ49) -> 0 | FG49: =SUM(FB49:FF49) -> 0 | FM49: =SUM(FH49:FL49) -> 0 | FS49: =SUM(FN49:FR49) -> 0 | FY49: =SUM(FT49:FX49) -> 0 | GE49: =SUM(FZ49:GD49) -> 0 | GF49: =SUM(FZ49,FT49,FN49,FH49,FB49,EV49,EP49,EJ49,ED49) -> 0 | GG49: =SUM(GA49,FU49,FO49,FI49,FC49,EW49,EQ49,EK49,EE49) -> 0 | GH49: =SUM(GB49,FV49,FP49,FJ49,FD49,EX49,ER49,EL49,EF49) -> 0 | GI49: =SUM(GC49,FW49,FQ49,FK49,FE49,EY49,ES49,EM49,EG49) -> 0 | GJ49: =SUM(EH49,EN49,ET49,EZ49,FF49,FL49,FR49,FX49,GD49) -> 0 | GK49: =SUM(GF49:GJ49) -> 0 | GM49: =SUM(GF49,DX49,AX49) -> 0 | GN49: =SUM(GG49,DY49,AY49) -> 0 | GO49: =SUM(GH49,DZ49,AZ49) -> 0 | GP49: =SUM(GI49,EA49,BA49) -> 0 | GQ49: =SUM(GJ49,EB49,BB49) -> 0 | GR49: =SUM(GK49,EC49,BC49) -> 0
A50: NCB=Birch decline | G50: =SUM(B50:F50) -> 0 | M50: =SUM(H50:L50) -> 0 | S50: =SUM(N50:R50) -> 0 | Y50: =SUM(T50:X50) -> 0 | AE50: =SUM(Z50:AD50) -> 0 | AK50: =SUM(AF50:AJ50) -> 0 | AQ50: =SUM(AL50:AP50) -> 0 | AW50: =SUM(AR50:AV50) -> 0 | AX50: =SUM(AR50, AF50, Z50,T50,N50,H50,B50,AL50) -> 0 | AY50: =SUM(AS50,AG50,AA50,U50,O50,I50,C50,AM50) -> 0 | AZ50: =SUM(AT50, AH50, AB50,V50,P50,J50,D50, AN50) -> 0 | BA50: =SUM(E50,K50,Q50,W50,AC50,AI50,AO50,AU50) -> 0 | BB50: =SUM(F50,L50,R50,X50,AD50,AJ50,AP50,AV50) -> 0 | BC50: =SUM(AX50:BB50) -> 0 | BI50: =SUM(BD50:BH50) -> 0 | BO50: =SUM(BJ50:BN50) -> 0 | BU50: =SUM(BP50:BT50) -> 0 | CA50: =SUM(BV50:BZ50) -> 0 | CG50: =SUM(CB50:CF50) -> 0 | CM50: =SUM(CH50:CL50) -> 0 | CS50: =SUM(CN50:CR50) -> 0 | CY50: =SUM(CT50:CX50) -> 0 | DE50: =SUM(CZ50:DD50) -> 0 | DK50: =SUM(DF50:DJ50) -> 0 | DQ50: =SUM(DL50:DP50) -> 0 | DW50: =SUM(DR50:DV50) -> 0 | DX50: =SUM(DR50,DL50,DF50,CZ50,CT50,CN50,CH50,CB50,BV50,BP50,BJ50,BD50) -> 0 | DY50: =SUM(DS50,DM50,DG50,DA50,CU50,CO50,CI50,CC50,BW50,BQ50,BK50,BE50) -> 0 | DZ50: =SUM(DT50,DN50,DH50,DB50,CV50,CP50,CJ50,CD50,BX50,BR50,BL50,BF50) -> 0 | EA50: =SUM(DU50,DO50,DI50,DC50,CW50,CQ50,CK50,CE50,BY50,BS50,BM50,BG50) -> 0 | EB50: =SUM(BH50,BN50,BT50,BZ50,CF50,CL50,CR50,CX50,DD50,DJ50,DP50,DV50) -> 0 | EC50: =SUM(DX50:EB50) -> 0 | EI50: =SUM(ED50:EH50) -> 0 | EO50: =SUM(EJ50:EN50) -> 0 | EU50: =SUM(EP50:ET50) -> 0 | FA50: =SUM(EV50:EZ50) -> 0 | FG50: =SUM(FB50:FF50) -> 0 | FM50: =SUM(FH50:FL50) -> 0 | FS50: =SUM(FN50:FR50) -> 0 | FY50: =SUM(FT50:FX50) -> 0 | GC50: 128.35183 | GE50: =SUM(FZ50:GD50) -> 128.35183 | GF50: =SUM(FZ50,FT50,FN50,FH50,FB50,EV50,EP50,EJ50,ED50) -> 0 | GG50: =SUM(GA50,FU50,FO50,FI50,FC50,EW50,EQ50,EK50,EE50) -> 0 | GH50: =SUM(GB50,FV50,FP50,FJ50,FD50,EX50,ER50,EL50,EF50) -> 0 | GI50: =SUM(GC50,FW50,FQ50,FK50,FE50,EY50,ES50,EM50,EG50) -> 128.35183 | GJ50: =SUM(EH50,EN50,ET50,EZ50,FF50,FL50,FR50,FX50,GD50) -> 0 | GK50: =SUM(GF50:GJ50) -> 128.35183 | GM50: =SUM(GF50,DX50,AX50) -> 0 | GN50: =SUM(GG50,DY50,AY50) -> 0 | GO50: =SUM(GH50,DZ50,AZ50) -> 0 | GP50: =SUM(GI50,EA50,BA50) -> 128.35183 | GQ50: =SUM(GJ50,EB50,BB50) -> 0 | GR50: =SUM(GK50,EC50,BC50) -> 128.35183
A51: NCY=Yellow cedar decline | G51: =SUM(B51:F51) -> 0 | H51: 1000.0998 | I51: 983.31138 | J51: 54.680739 | K51: 23 | M51: =SUM(H51:L51) -> 2061.0919 | S51: =SUM(N51:R51) -> 0 | U51: 658.96446 | Y51: =SUM(T51:X51) -> 658.96446 | AE51: =SUM(Z51:AD51) -> 0 | AK51: =SUM(AF51:AJ51) -> 0 | AQ51: =SUM(AL51:AP51) -> 0 | AS51: 3859.6068 | AT51: 2406.5516 | AU51: 1739.8824 | AW51: =SUM(AR51:AV51) -> 8006.0408 | AX51: =SUM(AR51, AF51, Z51,T51,N51,H51,B51,AL51) -> 1000.0998 | AY51: =SUM(AS51,AG51,AA51,U51,O51,I51,C51,AM51) -> 5501.8826 | AZ51: =SUM(AT51, AH51, AB51,V51,P51,J51,D51, AN51) -> 2461.2323 | BA51: =SUM(E51,K51,Q51,W51,AC51,AI51,AO51,AU51) -> 1762.8824 | BB51: =SUM(F51,L51,R51,X51,AD51,AJ51,AP51,AV51) -> 0 | BC51: =SUM(AX51:BB51) -> 10726.097 | BI51: =SUM(BD51:BH51) -> 0 | BO51: =SUM(BJ51:BN51) -> 0 | BU51: =SUM(BP51:BT51) -> 0 | CA51: =SUM(BV51:BZ51) -> 0 | CG51: =SUM(CB51:CF51) -> 0 | CM51: =SUM(CH51:CL51) -> 0 | CS51: =SUM(CN51:CR51) -> 0 | CY51: =SUM(CT51:CX51) -> 0 | DE51: =SUM(CZ51:DD51) -> 0 | DK51: =SUM(DF51:DJ51) -> 0 | DQ51: =SUM(DL51:DP51) -> 0 | DW51: =SUM(DR51:DV51) -> 0 | DX51: =SUM(DR51,DL51,DF51,CZ51,CT51,CN51,CH51,CB51,BV51,BP51,BJ51,BD51) -> 0 | DY51: =SUM(DS51,DM51,DG51,DA51,CU51,CO51,CI51,CC51,BW51,BQ51,BK51,BE51) -> 0 | DZ51: =SUM(DT51,DN51,DH51,DB51,CV51,CP51,CJ51,CD51,BX51,BR51,BL51,BF51) -> 0 | EA51: =SUM(DU51,DO51,DI51,DC51,CW51,CQ51,CK51,CE51,BY51,BS51,BM51,BG51) -> 0 | EB51: =SUM(BH51,BN51,BT51,BZ51,CF51,CL51,CR51,CX51,DD51,DJ51,DP51,DV51) -> 0 | EC51: =SUM(DX51:EB51) -> 0 | EI51: =SUM(ED51:EH51) -> 0 | EJ51: 106.05306 | EK51: 11.500247 | EL51: 120.0718 | EM51: 19.977851 | EO51: =SUM(EJ51:EN51) -> 257.60296 | EU51: =SUM(EP51:ET51) -> 0 | FA51: =SUM(EV51:EZ51) -> 0 | FG51: =SUM(FB51:FF51) -> 0 | FM51: =SUM(FH51:FL51) -> 0 | FS51: =SUM(FN51:FR51) -> 0 | FY51: =SUM(FT51:FX51) -> 0 | GE51: =SUM(FZ51:GD51) -> 0 | GF51: =SUM(FZ51,FT51,FN51,FH51,FB51,EV51,EP51,EJ51,ED51) -> 106.05306 | GG51: =SUM(GA51,FU51,FO51,FI51,FC51,EW51,EQ51,EK51,EE51) -> 11.500247 | GH51: =SUM(GB51,FV51,FP51,FJ51,FD51,EX51,ER51,EL51,EF51) -> 120.0718 | GI51: =SUM(GC51,FW51,FQ51,FK51,FE51,EY51,ES51,EM51,EG51) -> 19.977851 | GJ51: =SUM(EH51,EN51,ET51,EZ51,FF51,FL51,FR51,FX51,GD51) -> 0 | GK51: =SUM(GF51:GJ51) -> 257.60296 | GM51: =SUM(GF51,DX51,AX51) -> 1106.1528 | GN51: =SUM(GG51,DY51,AY51) -> 5513.3829 | GO51: =SUM(GH51,DZ51,AZ51) -> 2581.3041 | GP51: =SUM(GI51,EA51,BA51) -> 1782.8602 | GQ51: =SUM(GJ51,EB51,BB51) -> 0 | GR51: =SUM(GK51,EC51,BC51) -> 10983.7
A52: NW=Windthrow | G52: =SUM(B52:F52) -> 0 | J52: 4.7005969 | K52: 2.1530609 | M52: =SUM(H52:L52) -> 6.8536578 | Q52: 0.25 | S52: =SUM(N52:R52) -> 0.25 | W52: 215.55641 | Y52: =SUM(T52:X52) -> 215.55641 | AE52: =SUM(Z52:AD52) -> 0 | AI52: 0.25 | AK52: =SUM(AF52:AJ52) -> 0.25 | AO52: 6.5139569 | AQ52: =SUM(AL52:AP52) -> 6.5139569 | AW52: =SUM(AR52:AV52) -> 0 | AX52: =SUM(AR52, AF52, Z52,T52,N52,H52,B52,AL52) -> 0 | AY52: =SUM(AS52,AG52,AA52,U52,O52,I52,C52,AM52) -> 0 | AZ52: =SUM(AT52, AH52, AB52,V52,P52,J52,D52, AN52) -> 4.7005969 | BA52: =SUM(E52,K52,Q52,W52,AC52,AI52,AO52,AU52) -> 224.72343 | BB52: =SUM(F52,L52,R52,X52,AD52,AJ52,AP52,AV52) -> 0 | BC52: =SUM(AX52:BB52) -> 229.42403 | BI52: =SUM(BD52:BH52) -> 0 | BL52: 47.061916 | BO52: =SUM(BJ52:BN52) -> 47.061916 | BU52: =SUM(BP52:BT52) -> 0 | BX52: 81.335773 | BY52: 16.915712 | CA52: =SUM(BV52:BZ52) -> 98.251485 | CE52: 65.782803 | CG52: =SUM(CB52:CF52) -> 65.782803 | CM52: =SUM(CH52:CL52) -> 0 | CQ52: 3.1932379 | CS52: =SUM(CN52:CR52) -> 3.1932379 | CW52: 118.57758 | CY52: =SUM(CT52:CX52) -> 118.57758 | DC52: 318.41083 | DE52: =SUM(CZ52:DD52) -> 318.41083 | DG52: 2.6747477 | DI52: 677.85788 | DK52: =SUM(DF52:DJ52) -> 680.53262 | DM52: 38.530129 | DN52: 18.768171 | DO52: 885.38429 | DQ52: =SUM(DL52:DP52) -> 942.68259 | DT52: 6.8801868 | DU52: 254.76225 | DW52: =SUM(DR52:DV52) -> 261.64244 | DX52: =SUM(DR52,DL52,DF52,CZ52,CT52,CN52,CH52,CB52,BV52,BP52,BJ52,BD52) -> 0 | DY52: =SUM(DS52,DM52,DG52,DA52,CU52,CO52,CI52,CC52,BW52,BQ52,BK52,BE52) -> 41.204876 | DZ52: =SUM(DT52,DN52,DH52,DB52,CV52,CP52,CJ52,CD52,BX52,BR52,BL52,BF52) -> 154.04605 | EA52: =SUM(DU52,DO52,DI52,DC52,CW52,CQ52,CK52,CE52,BY52,BS52,BM52,BG52) -> 2340.8846 | EB52: =SUM(BH52,BN52,BT52,BZ52,CF52,CL52,CR52,CX52,DD52,DJ52,DP52,DV52) -> 0 | EC52: =SUM(DX52:EB52) -> 2536.1355 | EI52: =SUM(ED52:EH52) -> 0 | EM52: 30.366629 | EO52: =SUM(EJ52:EN52) -> 30.366629 | EU52: =SUM(EP52:ET52) -> 0 | EY52: 49.042738 | FA52: =SUM(EV52:EZ52) -> 49.042738 | FE52: 1.9548638 | FG52: =SUM(FB52:FF52) -> 1.9548638 | FK52: 87.673562 | FM52: =SUM(FH52:FL52) -> 87.673562 | FS52: =SUM(FN52:FR52) -> 0 | FW52: 271.34242 | FY52: =SUM(FT52:FX52) -> 271.34242 | GC52: 43.323128 | GE52: =SUM(FZ52:GD52) -> 43.323128 | GF52: =SUM(FZ52,FT52,FN52,FH52,FB52,EV52,EP52,EJ52,ED52) -> 0 | GG52: =SUM(GA52,FU52,FO52,FI52,FC52,EW52,EQ52,EK52,EE52) -> 0 | GH52: =SUM(GB52,FV52,FP52,FJ52,FD52,EX52,ER52,EL52,EF52) -> 0 | GI52: =SUM(GC52,FW52,FQ52,FK52,FE52,EY52,ES52,EM52,EG52) -> 483.70334 | GJ52: =SUM(EH52,EN52,ET52,EZ52,FF52,FL52,FR52,FX52,GD52) -> 0 | GK52: =SUM(GF52:GJ52) -> 483.70334 | GM52: =SUM(GF52,DX52,AX52) -> 0 | GN52: =SUM(GG52,DY52,AY52) -> 41.204876 | GO52: =SUM(GH52,DZ52,AZ52) -> 158.74664 | GP52: =SUM(GI52,EA52,BA52) -> 3049.3114 | GQ52: =SUM(GJ52,EB52,BB52) -> 0 | GR52: =SUM(GK52,EC52,BC52) -> 3249.2629
A53: ND=Drought | E53: 0.25 | G53: =SUM(B53:F53) -> 0.25 | I53: 243.81666 | M53: =SUM(H53:L53) -> 243.81666 | S53: =SUM(N53:R53) -> 0 | Y53: =SUM(T53:X53) -> 0 | AC53: 0.5 | AE53: =SUM(Z53:AD53) -> 0.5 | AK53: =SUM(AF53:AJ53) -> 0 | AQ53: =SUM(AL53:AP53) -> 0 | AW53: =SUM(AR53:AV53) -> 0 | AX53: =SUM(AR53, AF53, Z53,T53,N53,H53,B53,AL53) -> 0 | AY53: =SUM(AS53,AG53,AA53,U53,O53,I53,C53,AM53) -> 243.81666 | AZ53: =SUM(AT53, AH53, AB53,V53,P53,J53,D53, AN53) -> 0 | BA53: =SUM(E53,K53,Q53,W53,AC53,AI53,AO53,AU53) -> 0.75 | BB53: =SUM(F53,L53,R53,X53,AD53,AJ53,AP53,AV53) -> 0 | BC53: =SUM(AX53:BB53) -> 244.56666 | BE53: 35.822604 | BI53: =SUM(BD53:BH53) -> 35.822604 | BO53: =SUM(BJ53:BN53) -> 0 | BU53: =SUM(BP53:BT53) -> 0 | CA53: =SUM(BV53:BZ53) -> 0 | CG53: =SUM(CB53:CF53) -> 0 | CM53: =SUM(CH53:CL53) -> 0 | CO53: 388.27536 | CS53: =SUM(CN53:CR53) -> 388.27536 | CY53: =SUM(CT53:CX53) -> 0 | DE53: =SUM(CZ53:DD53) -> 0 | DK53: =SUM(DF53:DJ53) -> 0 | DQ53: =SUM(DL53:DP53) -> 0 | DW53: =SUM(DR53:DV53) -> 0 | DX53: =SUM(DR53,DL53,DF53,CZ53,CT53,CN53,CH53,CB53,BV53,BP53,BJ53,BD53) -> 0 | DY53: =SUM(DS53,DM53,DG53,DA53,CU53,CO53,CI53,CC53,BW53,BQ53,BK53,BE53) -> 424.09796 | DZ53: =SUM(DT53,DN53,DH53,DB53,CV53,CP53,CJ53,CD53,BX53,BR53,BL53,BF53) -> 0 | EA53: =SUM(DU53,DO53,DI53,DC53,CW53,CQ53,CK53,CE53,BY53,BS53,BM53,BG53) -> 0 | EB53: =SUM(BH53,BN53,BT53,BZ53,CF53,CL53,CR53,CX53,DD53,DJ53,DP53,DV53) -> 0 | EC53: =SUM(DX53:EB53) -> 424.09796 | EI53: =SUM(ED53:EH53) -> 0 | EM53: 19.041892 | EO53: =SUM(EJ53:EN53) -> 19.041892 | EU53: =SUM(EP53:ET53) -> 0 | FA53: =SUM(EV53:EZ53) -> 0 | FG53: =SUM(FB53:FF53) -> 0 | FM53: =SUM(FH53:FL53) -> 0 | FS53: =SUM(FN53:FR53) -> 0 | FY53: =SUM(FT53:FX53) -> 0 | GE53: =SUM(FZ53:GD53) -> 0 | GF53: =SUM(FZ53,FT53,FN53,FH53,FB53,EV53,EP53,EJ53,ED53) -> 0 | GG53: =SUM(GA53,FU53,FO53,FI53,FC53,EW53,EQ53,EK53,EE53) -> 0 | GH53: =SUM(GB53,FV53,FP53,FJ53,FD53,EX53,ER53,EL53,EF53) -> 0 | GI53: =SUM(GC53,FW53,FQ53,FK53,FE53,EY53,ES53,EM53,EG53) -> 19.041892 | GJ53: =SUM(EH53,EN53,ET53,EZ53,FF53,FL53,FR53,FX53,GD53) -> 0 | GK53: =SUM(GF53:GJ53) -> 19.041892 | GM53: =SUM(GF53,DX53,AX53) -> 0 | GN53: =SUM(GG53,DY53,AY53) -> 667.91462 | GO53: =SUM(GH53,DZ53,AZ53) -> 0 | GP53: =SUM(GI53,EA53,BA53) -> 19.791892 | GQ53: =SUM(GJ53,EB53,BB53) -> 0 | GR53: =SUM(GK53,EC53,BC53) -> 687.70651
A54: NF=Flooding | E54: 31.797245 | G54: =SUM(B54:F54) -> 31.797245 | K54: 80.945701 | M54: =SUM(H54:L54) -> 80.945701 | Q54: 21.627101 | S54: =SUM(N54:R54) -> 21.627101 | Y54: =SUM(T54:X54) -> 0 | AC54: 28.915864 | AE54: =SUM(Z54:AD54) -> 28.915864 | AI54: 73.073043 | AK54: =SUM(AF54:AJ54) -> 73.073043 | AO54: 10.477635 | AQ54: =SUM(AL54:AP54) -> 10.477635 | AT54: 40.266264 | AU54: 29.201887 | AW54: =SUM(AR54:AV54) -> 69.468151 | AX54: =SUM(AR54, AF54, Z54,T54,N54,H54,B54,AL54) -> 0 | AY54: =SUM(AS54,AG54,AA54,U54,O54,I54,C54,AM54) -> 0 | AZ54: =SUM(AT54, AH54, AB54,V54,P54,J54,D54, AN54) -> 40.266264 | BA54: =SUM(E54,K54,Q54,W54,AC54,AI54,AO54,AU54) -> 276.03848 | BB54: =SUM(F54,L54,R54,X54,AD54,AJ54,AP54,AV54) -> 0 | BC54: =SUM(AX54:BB54) -> 316.30474 | BG54: 27.232707 | BI54: =SUM(BD54:BH54) -> 27.232707 | BO54: =SUM(BJ54:BN54) -> 0 | BU54: =SUM(BP54:BT54) -> 0 | BY54: 21.201951 | CA54: =SUM(BV54:BZ54) -> 21.201951 | CG54: =SUM(CB54:CF54) -> 0 | CM54: =SUM(CH54:CL54) -> 0 | CS54: =SUM(CN54:CR54) -> 0 | CW54: 5.1486948 | CY54: =SUM(CT54:CX54) -> 5.1486948 | DC54: 6.1689769 | DE54: =SUM(CZ54:DD54) -> 6.1689769 | DI54: 17.352511 | DK54: =SUM(DF54:DJ54) -> 17.352511 | DQ54: =SUM(DL54:DP54) -> 0 | DU54: 3.4362147 | DW54: =SUM(DR54:DV54) -> 3.4362147 | DX54: =SUM(DR54,DL54,DF54,CZ54,CT54,CN54,CH54,CB54,BV54,BP54,BJ54,BD54) -> 0 | DY54: =SUM(DS54,DM54,DG54,DA54,CU54,CO54,CI54,CC54,BW54,BQ54,BK54,BE54) -> 0 | DZ54: =SUM(DT54,DN54,DH54,DB54,CV54,CP54,CJ54,CD54,BX54,BR54,BL54,BF54) -> 0 | EA54: =SUM(DU54,DO54,DI54,DC54,CW54,CQ54,CK54,CE54,BY54,BS54,BM54,BG54) -> 80.541055 | EB54: =SUM(BH54,BN54,BT54,BZ54,CF54,CL54,CR54,CX54,DD54,DJ54,DP54,DV54) -> 0 | EC54: =SUM(DX54:EB54) -> 80.541055 | EF54: 14.659644 | EG54: 68.704838 | EI54: =SUM(ED54:EH54) -> 83.364482 | EK54: 88.060996 | EM54: 310.96658 | EO54: =SUM(EJ54:EN54) -> 399.02757 | ES54: 52.39187 | EU54: =SUM(EP54:ET54) -> 52.39187 | EW54: 28.669614 | EX54: 28.849826 | EY54: 140.64039 | FA54: =SUM(EV54:EZ54) -> 198.15983 | FC54: 5.8467126 | FE54: 131.7782 | FG54: =SUM(FB54:FF54) -> 137.62491 | FM54: =SUM(FH54:FL54) -> 0 | FS54: =SUM(FN54:FR54) -> 0 | FW54: 156.69121 | FY54: =SUM(FT54:FX54) -> 156.69121 | FZ54: 2813.7201 | GB54: 47.786826 | GC54: 153.21933 | GE54: =SUM(FZ54:GD54) -> 3014.7263 | GF54: =SUM(FZ54,FT54,FN54,FH54,FB54,EV54,EP54,EJ54,ED54) -> 2813.7201 | GG54: =SUM(GA54,FU54,FO54,FI54,FC54,EW54,EQ54,EK54,EE54) -> 122.57732 | GH54: =SUM(GB54,FV54,FP54,FJ54,FD54,EX54,ER54,EL54,EF54) -> 91.296296 | GI54: =SUM(GC54,FW54,FQ54,FK54,FE54,EY54,ES54,EM54,EG54) -> 1014.3924 | GJ54: =SUM(EH54,EN54,ET54,EZ54,FF54,FL54,FR54,FX54,GD54) -> 0 | GK54: =SUM(GF54:GJ54) -> 4041.9862 | GM54: =SUM(GF54,DX54,AX54) -> 2813.7201 | GN54: =SUM(GG54,DY54,AY54) -> 122.57732 | GO54: =SUM(GH54,DZ54,AZ54) -> 131.56256 | GP54: =SUM(GI54,EA54,BA54) -> 1370.9719 | GQ54: =SUM(GJ54,EB54,BB54) -> 0 | GR54: =SUM(GK54,EC54,BC54) -> 4438.832
A55: NGK=Shoot/Bud Frost Kill | G55: =SUM(B55:F55) -> 0 | M55: =SUM(H55:L55) -> 0 | S55: =SUM(N55:R55) -> 0 | Y55: =SUM(T55:X55) -> 0 | AE55: =SUM(Z55:AD55) -> 0 | AK55: =SUM(AF55:AJ55) -> 0 | AQ55: =SUM(AL55:AP55) -> 0 | AW55: =SUM(AR55:AV55) -> 0 | AX55: =SUM(AR55, AF55, Z55,T55,N55,H55,B55,AL55) -> 0 | AY55: =SUM(AS55,AG55,AA55,U55,O55,I55,C55,AM55) -> 0 | AZ55: =SUM(AT55, AH55, AB55,V55,P55,J55,D55, AN55) -> 0 | BA55: =SUM(E55,K55,Q55,W55,AC55,AI55,AO55,AU55) -> 0 | BB55: =SUM(F55,L55,R55,X55,AD55,AJ55,AP55,AV55) -> 0 | BC55: =SUM(AX55:BB55) -> 0 | BI55: =SUM(BD55:BH55) -> 0 | BO55: =SUM(BJ55:BN55) -> 0 | BU55: =SUM(BP55:BT55) -> 0 | CA55: =SUM(BV55:BZ55) -> 0 | CG55: =SUM(CB55:CF55) -> 0 | CM55: =SUM(CH55:CL55) -> 0 | CS55: =SUM(CN55:CR55) -> 0 | CY55: =SUM(CT55:CX55) -> 0 | DE55: =SUM(CZ55:DD55) -> 0 | DK55: =SUM(DF55:DJ55) -> 0 | DQ55: =SUM(DL55:DP55) -> 0 | DW55: =SUM(DR55:DV55) -> 0 | DX55: =SUM(DR55,DL55,DF55,CZ55,CT55,CN55,CH55,CB55,BV55,BP55,BJ55,BD55) -> 0 | DY55: =SUM(DS55,DM55,DG55,DA55,CU55,CO55,CI55,CC55,BW55,BQ55,BK55,BE55) -> 0 | DZ55: =SUM(DT55,DN55,DH55,DB55,CV55,CP55,CJ55,CD55,BX55,BR55,BL55,BF55) -> 0 | EA55: =SUM(DU55,DO55,DI55,DC55,CW55,CQ55,CK55,CE55,BY55,BS55,BM55,BG55) -> 0 | EB55: =SUM(BH55,BN55,BT55,BZ55,CF55,CL55,CR55,CX55,DD55,DJ55,DP55,DV55) -> 0 | EC55: =SUM(DX55:EB55) -> 0 | EI55: =SUM(ED55:EH55) -> 0 | EO55: =SUM(EJ55:EN55) -> 0 | EU55: =SUM(EP55:ET55) -> 0 | FA55: =SUM(EV55:EZ55) -> 0 | FG55: =SUM(FB55:FF55) -> 0 | FM55: =SUM(FH55:FL55) -> 0 | FS55: =SUM(FN55:FR55) -> 0 | FY55: =SUM(FT55:FX55) -> 0 | GE55: =SUM(FZ55:GD55) -> 0 | GF55: =SUM(FZ55,FT55,FN55,FH55,FB55,EV55,EP55,EJ55,ED55) -> 0 | GG55: =SUM(GA55,FU55,FO55,FI55,FC55,EW55,EQ55,EK55,EE55) -> 0 | GH55: =SUM(GB55,FV55,FP55,FJ55,FD55,EX55,ER55,EL55,EF55) -> 0 | GI55: =SUM(GC55,FW55,FQ55,FK55,FE55,EY55,ES55,EM55,EG55) -> 0 | GJ55: =SUM(EH55,EN55,ET55,EZ55,FF55,FL55,FR55,FX55,GD55) -> 0 | GK55: =SUM(GF55:GJ55) -> 0 | GM55: =SUM(GF55,DX55,AX55) -> 0 | GN55: =SUM(GG55,DY55,AY55) -> 0 | GO55: =SUM(GH55,DZ55,AZ55) -> 0 | GP55: =SUM(GI55,EA55,BA55) -> 0 | GQ55: =SUM(GJ55,EB55,BB55) -> 0 | GR55: =SUM(GK55,EC55,BC55) -> 0
A56: NH=Hail | G56: =SUM(B56:F56) -> 0 | M56: =SUM(H56:L56) -> 0 | S56: =SUM(N56:R56) -> 0 | Y56: =SUM(T56:X56) -> 0 | AE56: =SUM(Z56:AD56) -> 0 | AK56: =SUM(AF56:AJ56) -> 0 | AQ56: =SUM(AL56:AP56) -> 0 | AW56: =SUM(AR56:AV56) -> 0 | AX56: =SUM(AR56, AF56, Z56,T56,N56,H56,B56,AL56) -> 0 | AY56: =SUM(AS56,AG56,AA56,U56,O56,I56,C56,AM56) -> 0 | AZ56: =SUM(AT56, AH56, AB56,V56,P56,J56,D56, AN56) -> 0 | BA56: =SUM(E56,K56,Q56,W56,AC56,AI56,AO56,AU56) -> 0 | BB56: =SUM(F56,L56,R56,X56,AD56,AJ56,AP56,AV56) -> 0 | BC56: =SUM(AX56:BB56) -> 0 | BI56: =SUM(BD56:BH56) -> 0 | BO56: =SUM(BJ56:BN56) -> 0 | BU56: =SUM(BP56:BT56) -> 0 | CA56: =SUM(BV56:BZ56) -> 0 | CG56: =SUM(CB56:CF56) -> 0 | CM56: =SUM(CH56:CL56) -> 0 | CS56: =SUM(CN56:CR56) -> 0 | CY56: =SUM(CT56:CX56) -> 0 | DE56: =SUM(CZ56:DD56) -> 0 | DK56: =SUM(DF56:DJ56) -> 0 | DQ56: =SUM(DL56:DP56) -> 0 | DW56: =SUM(DR56:DV56) -> 0 | DX56: =SUM(DR56,DL56,DF56,CZ56,CT56,CN56,CH56,CB56,BV56,BP56,BJ56,BD56) -> 0 | DY56: =SUM(DS56,DM56,DG56,DA56,CU56,CO56,CI56,CC56,BW56,BQ56,BK56,BE56) -> 0 | DZ56: =SUM(DT56,DN56,DH56,DB56,CV56,CP56,CJ56,CD56,BX56,BR56,BL56,BF56) -> 0 | EA56: =SUM(DU56,DO56,DI56,DC56,CW56,CQ56,CK56,CE56,BY56,BS56,BM56,BG56) -> 0 | EB56: =SUM(BH56,BN56,BT56,BZ56,CF56,CL56,CR56,CX56,DD56,DJ56,DP56,DV56) -> 0 | EC56: =SUM(DX56:EB56) -> 0 | EI56: =SUM(ED56:EH56) -> 0 | EO56: =SUM(EJ56:EN56) -> 0 | EU56: =SUM(EP56:ET56) -> 0 | FA56: =SUM(EV56:EZ56) -> 0 | FG56: =SUM(FB56:FF56) -> 0 | FM56: =SUM(FH56:FL56) -> 0 | FS56: =SUM(FN56:FR56) -> 0 | FY56: =SUM(FT56:FX56) -> 0 | GE56: =SUM(FZ56:GD56) -> 0 | GF56: =SUM(FZ56,FT56,FN56,FH56,FB56,EV56,EP56,EJ56,ED56) -> 0 | GG56: =SUM(GA56,FU56,FO56,FI56,FC56,EW56,EQ56,EK56,EE56) -> 0 | GH56: =SUM(GB56,FV56,FP56,FJ56,FD56,EX56,ER56,EL56,EF56) -> 0 | GI56: =SUM(GC56,FW56,FQ56,FK56,FE56,EY56,ES56,EM56,EG56) -> 0 | GJ56: =SUM(EH56,EN56,ET56,EZ56,FF56,FL56,FR56,FX56,GD56) -> 0 | GK56: =SUM(GF56:GJ56) -> 0 | GM56: =SUM(GF56,DX56,AX56) -> 0 | GN56: =SUM(GG56,DY56,AY56) -> 0 | GO56: =SUM(GH56,DZ56,AZ56) -> 0 | GP56: =SUM(GI56,EA56,BA56) -> 0 | GQ56: =SUM(GJ56,EB56,BB56) -> 0 | GR56: =SUM(GK56,EC56,BC56) -> 0
A57: NS=Slide | G57: =SUM(B57:F57) -> 0 | K57: 42.788278 | M57: =SUM(H57:L57) -> 42.788278 | S57: =SUM(N57:R57) -> 0 | W57: 251.39405 | Y57: =SUM(T57:X57) -> 251.39405 | AC57: 1221.4057 | AE57: =SUM(Z57:AD57) -> 1221.4057 | AG57: 0.59906238 | AH57: 7.7269347 | AI57: 18.23023 | AK57: =SUM(AF57:AJ57) -> 26.556227 | AO57: 67.077271 | AQ57: =SUM(AL57:AP57) -> 67.077271 | AU57: 65.532008 | AW57: =SUM(AR57:AV57) -> 65.532008 | AX57: =SUM(AR57, AF57, Z57,T57,N57,H57,B57,AL57) -> 0 | AY57: =SUM(AS57,AG57,AA57,U57,O57,I57,C57,AM57) -> 0.59906238 | AZ57: =SUM(AT57, AH57, AB57,V57,P57,J57,D57, AN57) -> 7.7269347 | BA57: =SUM(E57,K57,Q57,W57,AC57,AI57,AO57,AU57) -> 1666.4275 | BB57: =SUM(F57,L57,R57,X57,AD57,AJ57,AP57,AV57) -> 0 | BC57: =SUM(AX57:BB57) -> 1674.7535 | BG57: 8.887443 | BI57: =SUM(BD57:BH57) -> 8.887443 | BO57: =SUM(BJ57:BN57) -> 0 | BU57: =SUM(BP57:BT57) -> 0 | CA57: =SUM(BV57:BZ57) -> 0 | CG57: =SUM(CB57:CF57) -> 0 | CM57: =SUM(CH57:CL57) -> 0 | CR57: 8.707077 | CS57: =SUM(CN57:CR57) -> 8.707077 | CY57: =SUM(CT57:CX57) -> 0 | DB57: 3.9943135 | DC57: 72.407182 | DE57: =SUM(CZ57:DD57) -> 76.401496 | DI57: 63.210924 | DK57: =SUM(DF57:DJ57) -> 63.210924 | DO57: 65.06159 | DQ57: =SUM(DL57:DP57) -> 65.06159 | DU57: 31.526476 | DW57: =SUM(DR57:DV57) -> 31.526476 | DX57: =SUM(DR57,DL57,DF57,CZ57,CT57,CN57,CH57,CB57,BV57,BP57,BJ57,BD57) -> 0 | DY57: =SUM(DS57,DM57,DG57,DA57,CU57,CO57,CI57,CC57,BW57,BQ57,BK57,BE57) -> 0 | DZ57: =SUM(DT57,DN57,DH57,DB57,CV57,CP57,CJ57,CD57,BX57,BR57,BL57,BF57) -> 3.9943135 | EA57: =SUM(DU57,DO57,DI57,DC57,CW57,CQ57,CK57,CE57,BY57,BS57,BM57,BG57) -> 241.09362 | EB57: =SUM(BH57,BN57,BT57,BZ57,CF57,CL57,CR57,CX57,DD57,DJ57,DP57,DV57) -> 8.707077 | EC57: =SUM(DX57:EB57) -> 253.79501 | EG57: 3.0518974 | EI57: =SUM(ED57:EH57) -> 3.0518974 | EM57: 45.725303 | EO57: =SUM(EJ57:EN57) -> 45.725303 | ES57: 301.25844 | EU57: =SUM(EP57:ET57) -> 301.25844 | FA57: =SUM(EV57:EZ57) -> 0 | FG57: =SUM(FB57:FF57) -> 0 | FM57: =SUM(FH57:FL57) -> 0 | FS57: =SUM(FN57:FR57) -> 0 | FW57: 13.644656 | FY57: =SUM(FT57:FX57) -> 13.644656 | GE57: =SUM(FZ57:GD57) -> 0 | GF57: =SUM(FZ57,FT57,FN57,FH57,FB57,EV57,EP57,EJ57,ED57) -> 0 | GG57: =SUM(GA57,FU57,FO57,FI57,FC57,EW57,EQ57,EK57,EE57) -> 0 | GH57: =SUM(GB57,FV57,FP57,FJ57,FD57,EX57,ER57,EL57,EF57) -> 0 | GI57: =SUM(GC57,FW57,FQ57,FK57,FE57,EY57,ES57,EM57,EG57) -> 363.6803 | GJ57: =SUM(EH57,EN57,ET57,EZ57,FF57,FL57,FR57,FX57,GD57) -> 0 | GK57: =SUM(GF57:GJ57) -> 363.6803 | GM57: =SUM(GF57,DX57,AX57) -> 0 | GN57: =SUM(GG57,DY57,AY57) -> 0.59906238 | GO57: =SUM(GH57,DZ57,AZ57) -> 11.721248 | GP57: =SUM(GI57,EA57,BA57) -> 2271.2014 | GQ57: =SUM(GJ57,EB57,BB57) -> 8.707077 | GR57: =SUM(GK57,EC57,BC57) -> 2292.2288
A58: NR=Redbelt | G58: =SUM(B58:F58) -> 0 | M58: =SUM(H58:L58) -> 0 | S58: =SUM(N58:R58) -> 0 | Y58: =SUM(T58:X58) -> 0 | AE58: =SUM(Z58:AD58) -> 0 | AK58: =SUM(AF58:AJ58) -> 0 | AQ58: =SUM(AL58:AP58) -> 0 | AW58: =SUM(AR58:AV58) -> 0 | AX58: =SUM(AR58, AF58, Z58,T58,N58,H58,B58,AL58) -> 0 | AY58: =SUM(AS58,AG58,AA58,U58,O58,I58,C58,AM58) -> 0 | AZ58: =SUM(AT58, AH58, AB58,V58,P58,J58,D58, AN58) -> 0 | BA58: =SUM(E58,K58,Q58,W58,AC58,AI58,AO58,AU58) -> 0 | BB58: =SUM(F58,L58,R58,X58,AD58,AJ58,AP58,AV58) -> 0 | BC58: =SUM(AX58:BB58) -> 0 | BI58: =SUM(BD58:BH58) -> 0 | BO58: =SUM(BJ58:BN58) -> 0 | BU58: =SUM(BP58:BT58) -> 0 | CA58: =SUM(BV58:BZ58) -> 0 | CG58: =SUM(CB58:CF58) -> 0 | CM58: =SUM(CH58:CL58) -> 0 | CS58: =SUM(CN58:CR58) -> 0 | CY58: =SUM(CT58:CX58) -> 0 | DE58: =SUM(CZ58:DD58) -> 0 | DK58: =SUM(DF58:DJ58) -> 0 | DQ58: =SUM(DL58:DP58) -> 0 | DW58: =SUM(DR58:DV58) -> 0 | DX58: =SUM(DR58,DL58,DF58,CZ58,CT58,CN58,CH58,CB58,BV58,BP58,BJ58,BD58) -> 0 | DY58: =SUM(DS58,DM58,DG58,DA58,CU58,CO58,CI58,CC58,BW58,BQ58,BK58,BE58) -> 0 | DZ58: =SUM(DT58,DN58,DH58,DB58,CV58,CP58,CJ58,CD58,BX58,BR58,BL58,BF58) -> 0 | EA58: =SUM(DU58,DO58,DI58,DC58,CW58,CQ58,CK58,CE58,BY58,BS58,BM58,BG58) -> 0 | EB58: =SUM(BH58,BN58,BT58,BZ58,CF58,CL58,CR58,CX58,DD58,DJ58,DP58,DV58) -> 0 | EC58: =SUM(DX58:EB58) -> 0 | EI58: =SUM(ED58:EH58) -> 0 | EO58: =SUM(EJ58:EN58) -> 0 | EU58: =SUM(EP58:ET58) -> 0 | FA58: =SUM(EV58:EZ58) -> 0 | FG58: =SUM(FB58:FF58) -> 0 | FM58: =SUM(FH58:FL58) -> 0 | FS58: =SUM(FN58:FR58) -> 0 | FY58: =SUM(FT58:FX58) -> 0 | GC58: 880.17586 | GE58: =SUM(FZ58:GD58) -> 880.17586 | GF58: =SUM(FZ58,FT58,FN58,FH58,FB58,EV58,EP58,EJ58,ED58) -> 0 | GG58: =SUM(GA58,FU58,FO58,FI58,FC58,EW58,EQ58,EK58,EE58) -> 0 | GH58: =SUM(GB58,FV58,FP58,FJ58,FD58,EX58,ER58,EL58,EF58) -> 0 | GI58: =SUM(GC58,FW58,FQ58,FK58,FE58,EY58,ES58,EM58,EG58) -> 880.17586 | GJ58: =SUM(EH58,EN58,ET58,EZ58,FF58,FL58,FR58,FX58,GD58) -> 0 | GK58: =SUM(GF58:GJ58) -> 880.17586 | GM58: =SUM(GF58,DX58,AX58) -> 0 | GN58: =SUM(GG58,DY58,AY58) -> 0 | GO58: =SUM(GH58,DZ58,AZ58) -> 0 | GP58: =SUM(GI58,EA58,BA58) -> 880.17586 | GQ58: =SUM(GJ58,EB58,BB58) -> 0 | GR58: =SUM(GK58,EC58,BC58) -> 880.17586
A59: NY=Snow/Ice | G59: =SUM(B59:F59) -> 0 | M59: =SUM(H59:L59) -> 0 | S59: =SUM(N59:R59) -> 0 | Y59: =SUM(T59:X59) -> 0 | AE59: =SUM(Z59:AD59) -> 0 | AK59: =SUM(AF59:AJ59) -> 0 | AQ59: =SUM(AL59:AP59) -> 0 | AW59: =SUM(AR59:AV59) -> 0 | AX59: =SUM(AR59, AF59, Z59,T59,N59,H59,B59,AL59) -> 0 | AY59: =SUM(AS59,AG59,AA59,U59,O59,I59,C59,AM59) -> 0 | AZ59: =SUM(AT59, AH59, AB59,V59,P59,J59,D59, AN59) -> 0 | BA59: =SUM(E59,K59,Q59,W59,AC59,AI59,AO59,AU59) -> 0 | BB59: =SUM(F59,L59,R59,X59,AD59,AJ59,AP59,AV59) -> 0 | BC59: =SUM(AX59:BB59) -> 0 | BI59: =SUM(BD59:BH59) -> 0 | BO59: =SUM(BJ59:BN59) -> 0 | BU59: =SUM(BP59:BT59) -> 0 | CA59: =SUM(BV59:BZ59) -> 0 | CG59: =SUM(CB59:CF59) -> 0 | CM59: =SUM(CH59:CL59) -> 0 | CS59: =SUM(CN59:CR59) -> 0 | CY59: =SUM(CT59:CX59) -> 0 | DE59: =SUM(CZ59:DD59) -> 0 | DK59: =SUM(DF59:DJ59) -> 0 | DQ59: =SUM(DL59:DP59) -> 0 | DW59: =SUM(DR59:DV59) -> 0 | DX59: =SUM(DR59,DL59,DF59,CZ59,CT59,CN59,CH59,CB59,BV59,BP59,BJ59,BD59) -> 0 | DY59: =SUM(DS59,DM59,DG59,DA59,CU59,CO59,CI59,CC59,BW59,BQ59,BK59,BE59) -> 0 | DZ59: =SUM(DT59,DN59,DH59,DB59,CV59,CP59,CJ59,CD59,BX59,BR59,BL59,BF59) -> 0 | EA59: =SUM(DU59,DO59,DI59,DC59,CW59,CQ59,CK59,CE59,BY59,BS59,BM59,BG59) -> 0 | EB59: =SUM(BH59,BN59,BT59,BZ59,CF59,CL59,CR59,CX59,DD59,DJ59,DP59,DV59) -> 0 | EC59: =SUM(DX59:EB59) -> 0 | EI59: =SUM(ED59:EH59) -> 0 | EO59: =SUM(EJ59:EN59) -> 0 | EU59: =SUM(EP59:ET59) -> 0 | FA59: =SUM(EV59:EZ59) -> 0 | FG59: =SUM(FB59:FF59) -> 0 | FM59: =SUM(FH59:FL59) -> 0 | FS59: =SUM(FN59:FR59) -> 0 | FW59: 0.5 | FY59: =SUM(FT59:FX59) -> 0.5 | GE59: =SUM(FZ59:GD59) -> 0 | GF59: =SUM(FZ59,FT59,FN59,FH59,FB59,EV59,EP59,EJ59,ED59) -> 0 | GG59: =SUM(GA59,FU59,FO59,FI59,FC59,EW59,EQ59,EK59,EE59) -> 0 | GH59: =SUM(GB59,FV59,FP59,FJ59,FD59,EX59,ER59,EL59,EF59) -> 0 | GI59: =SUM(GC59,FW59,FQ59,FK59,FE59,EY59,ES59,EM59,EG59) -> 0.5 | GJ59: =SUM(EH59,EN59,ET59,EZ59,FF59,FL59,FR59,FX59,GD59) -> 0 | GK59: =SUM(GF59:GJ59) -> 0.5 | GM59: =SUM(GF59,DX59,AX59) -> 0 | GN59: =SUM(GG59,DY59,AY59) -> 0 | GO59: =SUM(GH59,DZ59,AZ59) -> 0 | GP59: =SUM(GI59,EA59,BA59) -> 0.5 | GQ59: =SUM(GJ59,EB59,BB59) -> 0 | GR59: =SUM(GK59,EC59,BC59) -> 0.5
A60: Total Abiotics= | B60: =SUM(B46:B59) -> 0 | C60: =SUM(C46:C59) -> 0 | D60: =SUM(D46:D59) -> 0 | E60: =SUM(E46:E59) -> 57.485481 | F60: =SUM(F46:F59) -> 0 | G60: =SUM(G46:G59) -> 57.485481 | H60: =SUM(H46:H59) -> 1000.0998 | I60: =SUM(I46:I59) -> 1227.128 | ... GK60: =SUM(GK46:GK59) -> 126910.33 | GM60: =SUM(GM46:GM59) -> 3919.873 | GN60: =SUM(GN46:GN59) -> 6345.6788 | GO60: =SUM(GO46:GO59) -> 2883.3346 | GP60: =SUM(GP46:GP59) -> 311752.76 | GQ60: =SUM(GQ46:GQ59) -> 24.646734 | GR60: =SUM(GR46:GR59) -> 324926.29
A62: Diseases
A63: DF= Unknown Disease | G63: =SUM(B63:F63) -> 0 | M63: =SUM(H63:L63) -> 0 | S63: =SUM(N63:R63) -> 0 | Y63: =SUM(T63:X63) -> 0 | AE63: =SUM(Z63:AD63) -> 0 | AK63: =SUM(AF63:AJ63) -> 0 | AQ63: =SUM(AL63:AP63) -> 0 | AW63: =SUM(AR63:AV63) -> 0 | AX63: =SUM(AR63, AF63, Z63,T63,N63,H63,B63,AL63) -> 0 | AY63: =SUM(AS63, AG63, AA63,U63,O63,I63,C63,AM63) -> 0 | AZ63: =SUM(AT63, AH63, AB63,V63,P63,J63,D63, AN63) -> 0 | BA63: =SUM(AU63, AI63,AC63,W63,Q63,K63,E63, AO63) -> 0 | BB63: =SUM(F63,L63,R63,X63,AD63,AJ63,AP63,AV63) -> 0 | BC63: =SUM(AX63:BB63) -> 0 | BI63: =SUM(BD63:BH63) -> 0 | BO63: =SUM(BJ63:BN63) -> 0 | BU63: =SUM(BP63:BT63) -> 0 | CA63: =SUM(BV63:BZ63) -> 0 | CG63: =SUM(CB63:CF63) -> 0 | CM63: =SUM(CH63:CL63) -> 0 | CS63: =SUM(CN63:CR63) -> 0 | CY63: =SUM(CT63:CX63) -> 0 | DE63: =SUM(CZ63:DD63) -> 0 | DK63: =SUM(DF63:DJ63) -> 0 | DQ63: =SUM(DL63:DP63) -> 0 | DW63: =SUM(DR63:DV63) -> 0 | DX63: =SUM(DR63,DL63,DF63,CZ63,CT63,CN63,CH63,CB63,BV63,BP63,BJ63,BD63) -> 0 | DY63: =SUM(DS63,DM63,DG63,DA63,CU63,CO63,CI63,CC63,BW63,BQ63,BK63,BE63) -> 0 | DZ63: =SUM(DT63,DN63,DH63,DB63,CV63,CP63,CJ63,CD63,BX63,BR63,BL63,BF63) -> 0 | EA63: =SUM(DU63,DO63,DI63,DC63,CW63,CQ63,CK63,CE63,BY63,BS63,BM63,BG63) -> 0 | EB63: =SUM(BH63,BN63,BT63,BZ63,CF63,CL63,CR63,CX63,DD63,DJ63,DP63,DV63) -> 0 | EC63: =SUM(DX63:EB63) -> 0 | EI63: =SUM(ED63:EH63) -> 0 | EO63: =SUM(EJ63:EN63) -> 0 | EU63: =SUM(EP63:ET63) -> 0 | FA63: =SUM(EV63:EZ63) -> 0 | FG63: =SUM(FB63:FF63) -> 0 | FM63: =SUM(FH63:FL63) -> 0 | FS63: =SUM(FN63:FR63) -> 0 | FY63: =SUM(FT63:FX63) -> 0 | GE63: =SUM(FZ63:GD63) -> 0 | GF63: =SUM(FZ63,FT63,FN63,FH63,FB63,EV63,EP63,EJ63,ED63) -> 0 | GG63: =SUM(GA63,FU63,FO63,FI63,FC63,EW63,EQ63,EK63,EE63) -> 0 | GH63: =SUM(GB63,FV63,FP63,FJ63,FD63,EX63,ER63,EL63,EF63) -> 0 | GI63: =SUM(GC63,FW63,FQ63,FK63,FE63,EY63,ES63,EM63,EG63) -> 0 | GJ63: =SUM(EH63,EN63,ET63,EZ63,FF63,FL63,FR63,FX63,GD63) -> 0 | GK63: =SUM(GF63:GJ63) -> 0 | GM63: =SUM(GF63,DX63,AX63) -> 0 | GN63: =SUM(GG63,DY63,AY63) -> 0 | GO63: =SUM(GH63,DZ63,AZ63) -> 0 | GP63: =SUM(GI63,EA63,BA63) -> 0 | GQ63: =SUM(GJ63,EB63,BB63) -> 0 | GR63: =SUM(GK63,EC63,BC63) -> 0
A64: DFL=Pine Needle Cast | G64: =SUM(B64:F64) -> 0 | M64: =SUM(H64:L64) -> 0 | S64: =SUM(N64:R64) -> 0 | Y64: =SUM(T64:X64) -> 0 | AE64: =SUM(Z64:AD64) -> 0 | AK64: =SUM(AF64:AJ64) -> 0 | AQ64: =SUM(AL64:AP64) -> 0 | AW64: =SUM(AR64:AV64) -> 0 | AX64: =SUM(AR64, AF64, Z64,T64,N64,H64,B64,AL64) -> 0 | AY64: =SUM(AS64, AG64, AA64,U64,O64,I64,C64,AM64) -> 0 | AZ64: =SUM(AT64, AH64, AB64,V64,P64,J64,D64, AN64) -> 0 | BA64: =SUM(AU64, AI64,AC64,W64,Q64,K64,E64, AO64) -> 0 | BB64: =SUM(F64,L64,R64,X64,AD64,AJ64,AP64,AV64) -> 0 | BC64: =SUM(AX64:BB64) -> 0 | BI64: =SUM(BD64:BH64) -> 0 | BO64: =SUM(BJ64:BN64) -> 0 | BU64: =SUM(BP64:BT64) -> 0 | CA64: =SUM(BV64:BZ64) -> 0 | CG64: =SUM(CB64:CF64) -> 0 | CM64: =SUM(CH64:CL64) -> 0 | CO64: 8.715058 | CP64: 11.498909 | CS64: =SUM(CN64:CR64) -> 20.213967 | CY64: =SUM(CT64:CX64) -> 0 | DE64: =SUM(CZ64:DD64) -> 0 | DK64: =SUM(DF64:DJ64) -> 0 | DQ64: =SUM(DL64:DP64) -> 0 | DW64: =SUM(DR64:DV64) -> 0 | DX64: =SUM(DR64,DL64,DF64,CZ64,CT64,CN64,CH64,CB64,BV64,BP64,BJ64,BD64) -> 0 | DY64: =SUM(DS64,DM64,DG64,DA64,CU64,CO64,CI64,CC64,BW64,BQ64,BK64,BE64) -> 8.715058 | DZ64: =SUM(DT64,DN64,DH64,DB64,CV64,CP64,CJ64,CD64,BX64,BR64,BL64,BF64) -> 11.498909 | EA64: =SUM(DU64,DO64,DI64,DC64,CW64,CQ64,CK64,CE64,BY64,BS64,BM64,BG64) -> 0 | EB64: =SUM(BH64,BN64,BT64,BZ64,CF64,CL64,CR64,CX64,DD64,DJ64,DP64,DV64) -> 0 | EC64: =SUM(DX64:EB64) -> 20.213967 | EE64: 38.013265 | EI64: =SUM(ED64:EH64) -> 38.013265 | EO64: =SUM(EJ64:EN64) -> 0 | EQ64: 1056.009 | ER64: 449.55698 | ES64: 219.24499 | EU64: =SUM(EP64:ET64) -> 1724.811 | EX64: 0.73004371 | FA64: =SUM(EV64:EZ64) -> 0.73004371 | FD64: 1169.8665 | FE64: 30.850345 | FG64: =SUM(FB64:FF64) -> 1200.7169 | FM64: =SUM(FH64:FL64) -> 0 | FS64: =SUM(FN64:FR64) -> 0 | FY64: =SUM(FT64:FX64) -> 0 | GE64: =SUM(FZ64:GD64) -> 0 | GF64: =SUM(FZ64,FT64,FN64,FH64,FB64,EV64,EP64,EJ64,ED64) -> 0 | GG64: =SUM(GA64,FU64,FO64,FI64,FC64,EW64,EQ64,EK64,EE64) -> 1094.0222 | GH64: =SUM(GB64,FV64,FP64,FJ64,FD64,EX64,ER64,EL64,EF64) -> 1620.1536 | GI64: =SUM(GC64,FW64,FQ64,FK64,FE64,EY64,ES64,EM64,EG64) -> 250.09534 | GJ64: =SUM(EH64,EN64,ET64,EZ64,FF64,FL64,FR64,FX64,GD64) -> 0 | GK64: =SUM(GF64:GJ64) -> 2964.2711 | GM64: =SUM(GF64,DX64,AX64) -> 0 | GN64: =SUM(GG64,DY64,AY64) -> 1102.7373 | GO64: =SUM(GH64,DZ64,AZ64) -> 1631.6525 | GP64: =SUM(GI64,EA64,BA64) -> 250.09534 | GQ64: =SUM(GJ64,EB64,BB64) -> 0 | GR64: =SUM(GK64,EC64,BC64) -> 2984.4851
A65: DRA=Armillaria Root Disease | E65: 1.5 | G65: =SUM(B65:F65) -> 1.5 | K65: 0.5 | M65: =SUM(H65:L65) -> 0.5 | S65: =SUM(N65:R65) -> 0 | Y65: =SUM(T65:X65) -> 0 | AE65: =SUM(Z65:AD65) -> 0 | AG65: 83.936403 | AK65: =SUM(AF65:AJ65) -> 83.936403 | AO65: 0.75 | AQ65: =SUM(AL65:AP65) -> 0.75 | AW65: =SUM(AR65:AV65) -> 0 | AX65: =SUM(AR65, AF65, Z65,T65,N65,H65,B65,AL65) -> 0 | AY65: =SUM(AS65, AG65, AA65,U65,O65,I65,C65,AM65) -> 83.936403 | AZ65: =SUM(AT65, AH65, AB65,V65,P65,J65,D65, AN65) -> 0 | BA65: =SUM(AU65, AI65,AC65,W65,Q65,K65,E65, AO65) -> 2.75 | BB65: =SUM(F65,L65,R65,X65,AD65,AJ65,AP65,AV65) -> 0 | BC65: =SUM(AX65:BB65) -> 86.686403 | BI65: =SUM(BD65:BH65) -> 0 | BO65: =SUM(BJ65:BN65) -> 0 | BU65: =SUM(BP65:BT65) -> 0 | CA65: =SUM(BV65:BZ65) -> 0 | CG65: =SUM(CB65:CF65) -> 0 | CM65: =SUM(CH65:CL65) -> 0 | CS65: =SUM(CN65:CR65) -> 0 | CY65: =SUM(CT65:CX65) -> 0 | DE65: =SUM(CZ65:DD65) -> 0 | DK65: =SUM(DF65:DJ65) -> 0 | DQ65: =SUM(DL65:DP65) -> 0 | DW65: =SUM(DR65:DV65) -> 0 | DX65: =SUM(DR65,DL65,DF65,CZ65,CT65,CN65,CH65,CB65,BV65,BP65,BJ65,BD65) -> 0 | DY65: =SUM(DS65,DM65,DG65,DA65,CU65,CO65,CI65,CC65,BW65,BQ65,BK65,BE65) -> 0 | DZ65: =SUM(DT65,DN65,DH65,DB65,CV65,CP65,CJ65,CD65,BX65,BR65,BL65,BF65) -> 0 | EA65: =SUM(DU65,DO65,DI65,DC65,CW65,CQ65,CK65,CE65,BY65,BS65,BM65,BG65) -> 0 | EB65: =SUM(BH65,BN65,BT65,BZ65,CF65,CL65,CR65,CX65,DD65,DJ65,DP65,DV65) -> 0 | EC65: =SUM(DX65:EB65) -> 0 | EI65: =SUM(ED65:EH65) -> 0 | EO65: =SUM(EJ65:EN65) -> 0 | EU65: =SUM(EP65:ET65) -> 0 | FA65: =SUM(EV65:EZ65) -> 0 | FG65: =SUM(FB65:FF65) -> 0 | FM65: =SUM(FH65:FL65) -> 0 | FS65: =SUM(FN65:FR65) -> 0 | FY65: =SUM(FT65:FX65) -> 0 | GE65: =SUM(FZ65:GD65) -> 0 | GF65: =SUM(FZ65,FT65,FN65,FH65,FB65,EV65,EP65,EJ65,ED65) -> 0 | GG65: =SUM(GA65,FU65,FO65,FI65,FC65,EW65,EQ65,EK65,EE65) -> 0 | GH65: =SUM(GB65,FV65,FP65,FJ65,FD65,EX65,ER65,EL65,EF65) -> 0 | GI65: =SUM(GC65,FW65,FQ65,FK65,FE65,EY65,ES65,EM65,EG65) -> 0 | GJ65: =SUM(EH65,EN65,ET65,EZ65,FF65,FL65,FR65,FX65,GD65) -> 0 | GK65: =SUM(GF65:GJ65) -> 0 | GM65: =SUM(GF65,DX65,AX65) -> 0 | GN65: =SUM(GG65,DY65,AY65) -> 83.936403 | GO65: =SUM(GH65,DZ65,AZ65) -> 0 | GP65: =SUM(GI65,EA65,BA65) -> 2.75 | GQ65: =SUM(GJ65,EB65,BB65) -> 0 | GR65: =SUM(GK65,EC65,BC65) -> 86.686403
A66: DFB=Delphinella needle cast | G66: =SUM(B66:F66) -> 0 | M66: =SUM(H66:L66) -> 0 | S66: =SUM(N66:R66) -> 0 | Y66: =SUM(T66:X66) -> 0 | AE66: =SUM(Z66:AD66) -> 0 | AK66: =SUM(AF66:AJ66) -> 0 | AQ66: =SUM(AL66:AP66) -> 0 | AW66: =SUM(AR66:AV66) -> 0 | AX66: =SUM(AR66, AF66, Z66,T66,N66,H66,B66,AL66) -> 0 | AY66: =SUM(AS66, AG66, AA66,U66,O66,I66,C66,AM66) -> 0 | AZ66: =SUM(AT66, AH66, AB66,V66,P66,J66,D66, AN66) -> 0 | BA66: =SUM(AU66, AI66,AC66,W66,Q66,K66,E66, AO66) -> 0 | BB66: =SUM(F66,L66,R66,X66,AD66,AJ66,AP66,AV66) -> 0 | BC66: =SUM(AX66:BB66) -> 0 | BI66: =SUM(BD66:BH66) -> 0 | BO66: =SUM(BJ66:BN66) -> 0 | BU66: =SUM(BP66:BT66) -> 0 | CA66: =SUM(BV66:BZ66) -> 0 | CG66: =SUM(CB66:CF66) -> 0 | CM66: =SUM(CH66:CL66) -> 0 | CS66: =SUM(CN66:CR66) -> 0 | CY66: =SUM(CT66:CX66) -> 0 | DE66: =SUM(CZ66:DD66) -> 0 | DK66: =SUM(DF66:DJ66) -> 0 | DQ66: =SUM(DL66:DP66) -> 0 | DW66: =SUM(DR66:DV66) -> 0 | DX66: =SUM(DR66,DL66,DF66,CZ66,CT66,CN66,CH66,CB66,BV66,BP66,BJ66,BD66) -> 0 | DY66: =SUM(DS66,DM66,DG66,DA66,CU66,CO66,CI66,CC66,BW66,BQ66,BK66,BE66) -> 0 | DZ66: =SUM(DT66,DN66,DH66,DB66,CV66,CP66,CJ66,CD66,BX66,BR66,BL66,BF66) -> 0 | EA66: =SUM(DU66,DO66,DI66,DC66,CW66,CQ66,CK66,CE66,BY66,BS66,BM66,BG66) -> 0 | EB66: =SUM(BH66,BN66,BT66,BZ66,CF66,CL66,CR66,CX66,DD66,DJ66,DP66,DV66) -> 0 | EC66: =SUM(DX66:EB66) -> 0 | EI66: =SUM(ED66:EH66) -> 0 | EO66: =SUM(EJ66:EN66) -> 0 | EU66: =SUM(EP66:ET66) -> 0 | FA66: =SUM(EV66:EZ66) -> 0 | FG66: =SUM(FB66:FF66) -> 0 | FM66: =SUM(FH66:FL66) -> 0 | FS66: =SUM(FN66:FR66) -> 0 | FY66: =SUM(FT66:FX66) -> 0 | GE66: =SUM(FZ66:GD66) -> 0 | GF66: =SUM(FZ66,FT66,FN66,FH66,FB66,EV66,EP66,EJ66,ED66) -> 0 | GG66: =SUM(GA66,FU66,FO66,FI66,FC66,EW66,EQ66,EK66,EE66) -> 0 | GH66: =SUM(GB66,FV66,FP66,FJ66,FD66,EX66,ER66,EL66,EF66) -> 0 | GI66: =SUM(GC66,FW66,FQ66,FK66,FE66,EY66,ES66,EM66,EG66) -> 0 | GJ66: =SUM(EH66,EN66,ET66,EZ66,FF66,FL66,FR66,FX66,GD66) -> 0 | GK66: =SUM(GF66:GJ66) -> 0 | GM66: =SUM(GF66,DX66,AX66) -> 0 | GN66: =SUM(GG66,DY66,AY66) -> 0 | GO66: =SUM(GH66,DZ66,AZ66) -> 0 | GP66: =SUM(GI66,EA66,BA66) -> 0 | GQ66: =SUM(GJ66,EB66,BB66) -> 0 | GR66: =SUM(GK66,EC66,BC66) -> 0
A67: DR=Unknown Root Disease | G67: =SUM(B67:F67) -> 0 | M67: =SUM(H67:L67) -> 0 | S67: =SUM(N67:R67) -> 0 | Y67: =SUM(T67:X67) -> 0 | AE67: =SUM(Z67:AD67) -> 0 | AK67: =SUM(AF67:AJ67) -> 0 | AQ67: =SUM(AL67:AP67) -> 0 | AW67: =SUM(AR67:AV67) -> 0 | AX67: =SUM(AR67, AF67, Z67,T67,N67,H67,B67,AL67) -> 0 | AY67: =SUM(AS67, AG67, AA67,U67,O67,I67,C67,AM67) -> 0 | AZ67: =SUM(AT67, AH67, AB67,V67,P67,J67,D67, AN67) -> 0 | BA67: =SUM(AU67, AI67,AC67,W67,Q67,K67,E67, AO67) -> 0 | BB67: =SUM(F67,L67,R67,X67,AD67,AJ67,AP67,AV67) -> 0 | BC67: =SUM(AX67:BB67) -> 0 | BI67: =SUM(BD67:BH67) -> 0 | BO67: =SUM(BJ67:BN67) -> 0 | BU67: =SUM(BP67:BT67) -> 0 | CA67: =SUM(BV67:BZ67) -> 0 | CG67: =SUM(CB67:CF67) -> 0 | CM67: =SUM(CH67:CL67) -> 0 | CS67: =SUM(CN67:CR67) -> 0 | CY67: =SUM(CT67:CX67) -> 0 | DE67: =SUM(CZ67:DD67) -> 0 | DK67: =SUM(DF67:DJ67) -> 0 | DQ67: =SUM(DL67:DP67) -> 0 | DW67: =SUM(DR67:DV67) -> 0 | DX67: =SUM(DR67,DL67,DF67,CZ67,CT67,CN67,CH67,CB67,BV67,BP67,BJ67,BD67) -> 0 | DY67: =SUM(DS67,DM67,DG67,DA67,CU67,CO67,CI67,CC67,BW67,BQ67,BK67,BE67) -> 0 | DZ67: =SUM(DT67,DN67,DH67,DB67,CV67,CP67,CJ67,CD67,BX67,BR67,BL67,BF67) -> 0 | EA67: =SUM(DU67,DO67,DI67,DC67,CW67,CQ67,CK67,CE67,BY67,BS67,BM67,BG67) -> 0 | EB67: =SUM(BH67,BN67,BT67,BZ67,CF67,CL67,CR67,CX67,DD67,DJ67,DP67,DV67) -> 0 | EC67: =SUM(DX67:EB67) -> 0 | EI67: =SUM(ED67:EH67) -> 0 | EO67: =SUM(EJ67:EN67) -> 0 | EU67: =SUM(EP67:ET67) -> 0 | FA67: =SUM(EV67:EZ67) -> 0 | FG67: =SUM(FB67:FF67) -> 0 | FM67: =SUM(FH67:FL67) -> 0 | FS67: =SUM(FN67:FR67) -> 0 | FY67: =SUM(FT67:FX67) -> 0 | GE67: =SUM(FZ67:GD67) -> 0 | GF67: =SUM(FZ67,FT67,FN67,FH67,FB67,EV67,EP67,EJ67,ED67) -> 0 | GG67: =SUM(GA67,FU67,FO67,FI67,FC67,EW67,EQ67,EK67,EE67) -> 0 | GH67: =SUM(GB67,FV67,FP67,FJ67,FD67,EX67,ER67,EL67,EF67) -> 0 | GI67: =SUM(GC67,FW67,FQ67,FK67,FE67,EY67,ES67,EM67,EG67) -> 0 | GJ67: =SUM(EH67,EN67,ET67,EZ67,FF67,FL67,FR67,FX67,GD67) -> 0 | GK67: =SUM(GF67:GJ67) -> 0 | GM67: =SUM(GF67,DX67,AX67) -> 0 | GN67: =SUM(GG67,DY67,AY67) -> 0 | GO67: =SUM(GH67,DZ67,AZ67) -> 0 | GP67: =SUM(GI67,EA67,BA67) -> 0 | GQ67: =SUM(GJ67,EB67,BB67) -> 0 | GR67: =SUM(GK67,EC67,BC67) -> 0
A68: DRL=Laminated Root Disease | C68: 185.14677 | D68: 979.29673 | E68: 10.119695 | G68: =SUM(B68:F68) -> 1174.5632 | K68: 0.75 | M68: =SUM(H68:L68) -> 0.75 | O68: 899.47011 | P68: 6.4875687 | Q68: 6 | S68: =SUM(N68:R68) -> 911.95768 | Y68: =SUM(T68:X68) -> 0 | AC68: 0.5 | AE68: =SUM(Z68:AD68) -> 0.5 | AG68: 83.936403 | AI68: 5 | AK68: =SUM(AF68:AJ68) -> 88.936403 | AM68: 72.075799 | AO68: 2 | AQ68: =SUM(AL68:AP68) -> 74.075799 | AW68: =SUM(AR68:AV68) -> 0 | AX68: =SUM(AR68, AF68, Z68,T68,N68,H68,B68,AL68) -> 0 | AY68: =SUM(AS68, AG68, AA68,U68,O68,I68,C68,AM68) -> 1240.6291 | AZ68: =SUM(AT68, AH68, AB68,V68,P68,J68,D68, AN68) -> 985.7843 | BA68: =SUM(AU68, AI68,AC68,W68,Q68,K68,E68, AO68) -> 24.369695 | BB68: =SUM(F68,L68,R68,X68,AD68,AJ68,AP68,AV68) -> 0 | BC68: =SUM(AX68:BB68) -> 2250.7831 | BI68: =SUM(BD68:BH68) -> 0 | BO68: =SUM(BJ68:BN68) -> 0 | BU68: =SUM(BP68:BT68) -> 0 | CA68: =SUM(BV68:BZ68) -> 0 | CG68: =SUM(CB68:CF68) -> 0 | CM68: =SUM(CH68:CL68) -> 0 | CS68: =SUM(CN68:CR68) -> 0 | CY68: =SUM(CT68:CX68) -> 0 | DE68: =SUM(CZ68:DD68) -> 0 | DK68: =SUM(DF68:DJ68) -> 0 | DQ68: =SUM(DL68:DP68) -> 0 | DW68: =SUM(DR68:DV68) -> 0 | DX68: =SUM(DR68,DL68,DF68,CZ68,CT68,CN68,CH68,CB68,BV68,BP68,BJ68,BD68) -> 0 | DY68: =SUM(DS68,DM68,DG68,DA68,CU68,CO68,CI68,CC68,BW68,BQ68,BK68,BE68) -> 0 | DZ68: =SUM(DT68,DN68,DH68,DB68,CV68,CP68,CJ68,CD68,BX68,BR68,BL68,BF68) -> 0 | EA68: =SUM(DU68,DO68,DI68,DC68,CW68,CQ68,CK68,CE68,BY68,BS68,BM68,BG68) -> 0 | EB68: =SUM(BH68,BN68,BT68,BZ68,CF68,CL68,CR68,CX68,DD68,DJ68,DP68,DV68) -> 0 | EC68: =SUM(DX68:EB68) -> 0 | EI68: =SUM(ED68:EH68) -> 0 | EO68: =SUM(EJ68:EN68) -> 0 | EU68: =SUM(EP68:ET68) -> 0 | FA68: =SUM(EV68:EZ68) -> 0 | FG68: =SUM(FB68:FF68) -> 0 | FM68: =SUM(FH68:FL68) -> 0 | FS68: =SUM(FN68:FR68) -> 0 | FY68: =SUM(FT68:FX68) -> 0 | GE68: =SUM(FZ68:GD68) -> 0 | GF68: =SUM(FZ68,FT68,FN68,FH68,FB68,EV68,EP68,EJ68,ED68) -> 0 | GG68: =SUM(GA68,FU68,FO68,FI68,FC68,EW68,EQ68,EK68,EE68) -> 0 | GH68: =SUM(GB68,FV68,FP68,FJ68,FD68,EX68,ER68,EL68,EF68) -> 0 | GI68: =SUM(GC68,FW68,FQ68,FK68,FE68,EY68,ES68,EM68,EG68) -> 0 | GJ68: =SUM(EH68,EN68,ET68,EZ68,FF68,FL68,FR68,FX68,GD68) -> 0 | GK68: =SUM(GF68:GJ68) -> 0 | GM68: =SUM(GF68,DX68,AX68) -> 0 | GN68: =SUM(GG68,DY68,AY68) -> 1240.6291 | GO68: =SUM(GH68,DZ68,AZ68) -> 985.7843 | GP68: =SUM(GI68,EA68,BA68) -> 24.369695 | GQ68: =SUM(GJ68,EB68,BB68) -> 0 | GR68: =SUM(GK68,EC68,BC68) -> 2250.7831
A69: DMP=Lodgepole Pine Dwarf Mistletoe | G69: =SUM(B69:F69) -> 0 | M69: =SUM(H69:L69) -> 0 | S69: =SUM(N69:R69) -> 0 | Y69: =SUM(T69:X69) -> 0 | AE69: =SUM(Z69:AD69) -> 0 | AK69: =SUM(AF69:AJ69) -> 0 | AQ69: =SUM(AL69:AP69) -> 0 | AW69: =SUM(AR69:AV69) -> 0 | AX69: =SUM(AR69, AF69, Z69,T69,N69,H69,B69,AL69) -> 0 | AY69: =SUM(AS69, AG69, AA69,U69,O69,I69,C69,AM69) -> 0 | AZ69: =SUM(AT69, AH69, AB69,V69,P69,J69,D69, AN69) -> 0 | BA69: =SUM(AU69, AI69,AC69,W69,Q69,K69,E69, AO69) -> 0 | BB69: =SUM(F69,L69,R69,X69,AD69,AJ69,AP69,AV69) -> 0 | BC69: =SUM(AX69:BB69) -> 0 | BI69: =SUM(BD69:BH69) -> 0 | BO69: =SUM(BJ69:BN69) -> 0 | BU69: =SUM(BP69:BT69) -> 0 | CA69: =SUM(BV69:BZ69) -> 0 | CG69: =SUM(CB69:CF69) -> 0 | CM69: =SUM(CH69:CL69) -> 0 | CS69: =SUM(CN69:CR69) -> 0 | CY69: =SUM(CT69:CX69) -> 0 | DE69: =SUM(CZ69:DD69) -> 0 | DK69: =SUM(DF69:DJ69) -> 0 | DQ69: =SUM(DL69:DP69) -> 0 | DW69: =SUM(DR69:DV69) -> 0 | DX69: =SUM(DR69,DL69,DF69,CZ69,CT69,CN69,CH69,CB69,BV69,BP69,BJ69,BD69) -> 0 | DY69: =SUM(DS69,DM69,DG69,DA69,CU69,CO69,CI69,CC69,BW69,BQ69,BK69,BE69) -> 0 | DZ69: =SUM(DT69,DN69,DH69,DB69,CV69,CP69,CJ69,CD69,BX69,BR69,BL69,BF69) -> 0 | EA69: =SUM(DU69,DO69,DI69,DC69,CW69,CQ69,CK69,CE69,BY69,BS69,BM69,BG69) -> 0 | EB69: =SUM(BH69,BN69,BT69,BZ69,CF69,CL69,CR69,CX69,DD69,DJ69,DP69,DV69) -> 0 | EC69: =SUM(DX69:EB69) -> 0 | EI69: =SUM(ED69:EH69) -> 0 | EO69: =SUM(EJ69:EN69) -> 0 | EU69: =SUM(EP69:ET69) -> 0 | FA69: =SUM(EV69:EZ69) -> 0 | FG69: =SUM(FB69:FF69) -> 0 | FM69: =SUM(FH69:FL69) -> 0 | FS69: =SUM(FN69:FR69) -> 0 | FY69: =SUM(FT69:FX69) -> 0 | GE69: =SUM(FZ69:GD69) -> 0 | GF69: =SUM(FZ69,FT69,FN69,FH69,FB69,EV69,EP69,EJ69,ED69) -> 0 | GG69: =SUM(GA69,FU69,FO69,FI69,FC69,EW69,EQ69,EK69,EE69) -> 0 | GH69: =SUM(GB69,FV69,FP69,FJ69,FD69,EX69,ER69,EL69,EF69) -> 0 | GI69: =SUM(GC69,FW69,FQ69,FK69,FE69,EY69,ES69,EM69,EG69) -> 0 | GJ69: =SUM(EH69,EN69,ET69,EZ69,FF69,FL69,FR69,FX69,GD69) -> 0 | GK69: =SUM(GF69:GJ69) -> 0 | GM69: =SUM(GF69,DX69,AX69) -> 0 | GN69: =SUM(GG69,DY69,AY69) -> 0 | GO69: =SUM(GH69,DZ69,AZ69) -> 0 | GP69: =SUM(GI69,EA69,BA69) -> 0 | GQ69: =SUM(GJ69,EB69,BB69) -> 0 | GR69: =SUM(GK69,EC69,BC69) -> 0
A70: DSB=White Pine Blister Rust | G70: =SUM(B70:F70) -> 0 | H70: 2328.4208 | I70: 15.744477 | K70: 2.25 | M70: =SUM(H70:L70) -> 2346.4153 | O70: 26.642406 | Q70: 12.5 | S70: =SUM(N70:R70) -> 39.142406 | Y70: =SUM(T70:X70) -> 0 | AE70: =SUM(Z70:AD70) -> 0 | AI70: 3 | AK70: =SUM(AF70:AJ70) -> 3 | AO70: 5.5 | AQ70: =SUM(AL70:AP70) -> 5.5 | AW70: =SUM(AR70:AV70) -> 0 | AX70: =SUM(AR70, AF70, Z70,T70,N70,H70,B70,AL70) -> 2328.4208 | AY70: =SUM(AS70, AG70, AA70,U70,O70,I70,C70,AM70) -> 42.386883 | AZ70: =SUM(AT70, AH70, AB70,V70,P70,J70,D70, AN70) -> 0 | BA70: =SUM(AU70, AI70,AC70,W70,Q70,K70,E70, AO70) -> 23.25 | BB70: =SUM(F70,L70,R70,X70,AD70,AJ70,AP70,AV70) -> 0 | BC70: =SUM(AX70:BB70) -> 2394.0577 | BI70: =SUM(BD70:BH70) -> 0 | BO70: =SUM(BJ70:BN70) -> 0 | BU70: =SUM(BP70:BT70) -> 0 | CA70: =SUM(BV70:BZ70) -> 0 | CG70: =SUM(CB70:CF70) -> 0 | CM70: =SUM(CH70:CL70) -> 0 | CS70: =SUM(CN70:CR70) -> 0 | CY70: =SUM(CT70:CX70) -> 0 | DC70: 0.5 | DE70: =SUM(CZ70:DD70) -> 0.5 | DI70: 0.25 | DK70: =SUM(DF70:DJ70) -> 0.25 | DO70: 0.5 | DQ70: =SUM(DL70:DP70) -> 0.5 | DU70: 0.25 | DW70: =SUM(DR70:DV70) -> 0.25 | DX70: =SUM(DR70,DL70,DF70,CZ70,CT70,CN70,CH70,CB70,BV70,BP70,BJ70,BD70) -> 0 | DY70: =SUM(DS70,DM70,DG70,DA70,CU70,CO70,CI70,CC70,BW70,BQ70,BK70,BE70) -> 0 | DZ70: =SUM(DT70,DN70,DH70,DB70,CV70,CP70,CJ70,CD70,BX70,BR70,BL70,BF70) -> 0 | EA70: =SUM(DU70,DO70,DI70,DC70,CW70,CQ70,CK70,CE70,BY70,BS70,BM70,BG70) -> 1.5 | EB70: =SUM(BH70,BN70,BT70,BZ70,CF70,CL70,CR70,CX70,DD70,DJ70,DP70,DV70) -> 0 | EC70: =SUM(DX70:EB70) -> 1.5 | EI70: =SUM(ED70:EH70) -> 0 | EO70: =SUM(EJ70:EN70) -> 0 | EU70: =SUM(EP70:ET70) -> 0 | FA70: =SUM(EV70:EZ70) -> 0 | FG70: =SUM(FB70:FF70) -> 0 | FM70: =SUM(FH70:FL70) -> 0 | FS70: =SUM(FN70:FR70) -> 0 | FY70: =SUM(FT70:FX70) -> 0 | GE70: =SUM(FZ70:GD70) -> 0 | GF70: =SUM(FZ70,FT70,FN70,FH70,FB70,EV70,EP70,EJ70,ED70) -> 0 | GG70: =SUM(GA70,FU70,FO70,FI70,FC70,EW70,EQ70,EK70,EE70) -> 0 | GH70: =SUM(GB70,FV70,FP70,FJ70,FD70,EX70,ER70,EL70,EF70) -> 0 | GI70: =SUM(GC70,FW70,FQ70,FK70,FE70,EY70,ES70,EM70,EG70) -> 0 | GJ70: =SUM(EH70,EN70,ET70,EZ70,FF70,FL70,FR70,FX70,GD70) -> 0 | GK70: =SUM(GF70:GJ70) -> 0 | GM70: =SUM(GF70,DX70,AX70) -> 2328.4208 | GN70: =SUM(GG70,DY70,AY70) -> 42.386883 | GO70: =SUM(GH70,DZ70,AZ70) -> 0 | GP70: =SUM(GI70,EA70,BA70) -> 24.75 | GQ70: =SUM(GJ70,EB70,BB70) -> 0 | GR70: =SUM(GK70,EC70,BC70) -> 2395.5577
A71: DSC=Comandra Blister Rust | G71: =SUM(B71:F71) -> 0 | M71: =SUM(H71:L71) -> 0 | S71: =SUM(N71:R71) -> 0 | Y71: =SUM(T71:X71) -> 0 | AE71: =SUM(Z71:AD71) -> 0 | AK71: =SUM(AF71:AJ71) -> 0 | AQ71: =SUM(AL71:AP71) -> 0 | AW71: =SUM(AR71:AV71) -> 0 | AX71: =SUM(AR71, AF71, Z71,T71,N71,H71,B71,AL71) -> 0 | AY71: =SUM(AS71, AG71, AA71,U71,O71,I71,C71,AM71) -> 0 | AZ71: =SUM(AT71, AH71, AB71,V71,P71,J71,D71, AN71) -> 0 | BA71: =SUM(AU71, AI71,AC71,W71,Q71,K71,E71, AO71) -> 0 | BB71: =SUM(F71,L71,R71,X71,AD71,AJ71,AP71,AV71) -> 0 | BC71: =SUM(AX71:BB71) -> 0 | BI71: =SUM(BD71:BH71) -> 0 | BO71: =SUM(BJ71:BN71) -> 0 | BU71: =SUM(BP71:BT71) -> 0 | CA71: =SUM(BV71:BZ71) -> 0 | CG71: =SUM(CB71:CF71) -> 0 | CM71: =SUM(CH71:CL71) -> 0 | CS71: =SUM(CN71:CR71) -> 0 | CY71: =SUM(CT71:CX71) -> 0 | DE71: =SUM(CZ71:DD71) -> 0 | DK71: =SUM(DF71:DJ71) -> 0 | DQ71: =SUM(DL71:DP71) -> 0 | DW71: =SUM(DR71:DV71) -> 0 | DX71: =SUM(DR71,DL71,DF71,CZ71,CT71,CN71,CH71,CB71,BV71,BP71,BJ71,BD71) -> 0 | DY71: =SUM(DS71,DM71,DG71,DA71,CU71,CO71,CI71,CC71,BW71,BQ71,BK71,BE71) -> 0 | DZ71: =SUM(DT71,DN71,DH71,DB71,CV71,CP71,CJ71,CD71,BX71,BR71,BL71,BF71) -> 0 | EA71: =SUM(DU71,DO71,DI71,DC71,CW71,CQ71,CK71,CE71,BY71,BS71,BM71,BG71) -> 0 | EB71: =SUM(BH71,BN71,BT71,BZ71,CF71,CL71,CR71,CX71,DD71,DJ71,DP71,DV71) -> 0 | EC71: =SUM(DX71:EB71) -> 0 | EI71: =SUM(ED71:EH71) -> 0 | EO71: =SUM(EJ71:EN71) -> 0 | EU71: =SUM(EP71:ET71) -> 0 | FA71: =SUM(EV71:EZ71) -> 0 | FG71: =SUM(FB71:FF71) -> 0 | FM71: =SUM(FH71:FL71) -> 0 | FS71: =SUM(FN71:FR71) -> 0 | FY71: =SUM(FT71:FX71) -> 0 | GE71: =SUM(FZ71:GD71) -> 0 | GF71: =SUM(FZ71,FT71,FN71,FH71,FB71,EV71,EP71,EJ71,ED71) -> 0 | GG71: =SUM(GA71,FU71,FO71,FI71,FC71,EW71,EQ71,EK71,EE71) -> 0 | GH71: =SUM(GB71,FV71,FP71,FJ71,FD71,EX71,ER71,EL71,EF71) -> 0 | GI71: =SUM(GC71,FW71,FQ71,FK71,FE71,EY71,ES71,EM71,EG71) -> 0 | GJ71: =SUM(EH71,EN71,ET71,EZ71,FF71,FL71,FR71,FX71,GD71) -> 0 | GK71: =SUM(GF71:GJ71) -> 0 | GM71: =SUM(GF71,DX71,AX71) -> 0 | GN71: =SUM(GG71,DY71,AY71) -> 0 | GO71: =SUM(GH71,DZ71,AZ71) -> 0 | GP71: =SUM(GI71,EA71,BA71) -> 0 | GQ71: =SUM(GJ71,EB71,BB71) -> 0 | GR71: =SUM(GK71,EC71,BC71) -> 0
A72: DFH=Larch Needle Blight | G72: =SUM(B72:F72) -> 0 | M72: =SUM(H72:L72) -> 0 | S72: =SUM(N72:R72) -> 0 | Y72: =SUM(T72:X72) -> 0 | AE72: =SUM(Z72:AD72) -> 0 | AK72: =SUM(AF72:AJ72) -> 0 | AQ72: =SUM(AL72:AP72) -> 0 | AW72: =SUM(AR72:AV72) -> 0 | AX72: =SUM(AR72, AF72, Z72,T72,N72,H72,B72,AL72) -> 0 | AY72: =SUM(AS72, AG72, AA72,U72,O72,I72,C72,AM72) -> 0 | AZ72: =SUM(AT72, AH72, AB72,V72,P72,J72,D72, AN72) -> 0 | BA72: =SUM(AU72, AI72,AC72,W72,Q72,K72,E72, AO72) -> 0 | BB72: =SUM(F72,L72,R72,X72,AD72,AJ72,AP72,AV72) -> 0 | BC72: =SUM(AX72:BB72) -> 0 | BI72: =SUM(BD72:BH72) -> 0 | BO72: =SUM(BJ72:BN72) -> 0 | BU72: =SUM(BP72:BT72) -> 0 | CA72: =SUM(BV72:BZ72) -> 0 | CG72: =SUM(CB72:CF72) -> 0 | CM72: =SUM(CH72:CL72) -> 0 | CS72: =SUM(CN72:CR72) -> 0 | CU72: 8.2731157 | CV72: 19.563995 | CY72: =SUM(CT72:CX72) -> 27.837111 | DA72: 858.7076 | DB72: 89.467534 | DE72: =SUM(CZ72:DD72) -> 948.17513 | DG72: 1564.7154 | DH72: 257.22894 | DK72: =SUM(DF72:DJ72) -> 1821.9443 | DM72: 137.7773 | DN72: 43.62257 | DQ72: =SUM(DL72:DP72) -> 181.39987 | DS72: 283.80298 | DT72: 53.639133 | DW72: =SUM(DR72:DV72) -> 337.44212 | DX72: =SUM(DR72,DL72,DF72,CZ72,CT72,CN72,CH72,CB72,BV72,BP72,BJ72,BD72) -> 0 | DY72: =SUM(DS72,DM72,DG72,DA72,CU72,CO72,CI72,CC72,BW72,BQ72,BK72,BE72) -> 2853.2764 | DZ72: =SUM(DT72,DN72,DH72,DB72,CV72,CP72,CJ72,CD72,BX72,BR72,BL72,BF72) -> 463.52218 | EA72: =SUM(DU72,DO72,DI72,DC72,CW72,CQ72,CK72,CE72,BY72,BS72,BM72,BG72) -> 0 | EB72: =SUM(BH72,BN72,BT72,BZ72,CF72,CL72,CR72,CX72,DD72,DJ72,DP72,DV72) -> 0 | EC72: =SUM(DX72:EB72) -> 3316.7986 | EI72: =SUM(ED72:EH72) -> 0 | EO72: =SUM(EJ72:EN72) -> 0 | EU72: =SUM(EP72:ET72) -> 0 | FA72: =SUM(EV72:EZ72) -> 0 | FG72: =SUM(FB72:FF72) -> 0 | FM72: =SUM(FH72:FL72) -> 0 | FS72: =SUM(FN72:FR72) -> 0 | FY72: =SUM(FT72:FX72) -> 0 | GE72: =SUM(FZ72:GD72) -> 0 | GF72: =SUM(FZ72,FT72,FN72,FH72,FB72,EV72,EP72,EJ72,ED72) -> 0 | GG72: =SUM(GA72,FU72,FO72,FI72,FC72,EW72,EQ72,EK72,EE72) -> 0 | GH72: =SUM(GB72,FV72,FP72,FJ72,FD72,EX72,ER72,EL72,EF72) -> 0 | GI72: =SUM(GC72,FW72,FQ72,FK72,FE72,EY72,ES72,EM72,EG72) -> 0 | GJ72: =SUM(EH72,EN72,ET72,EZ72,FF72,FL72,FR72,FX72,GD72) -> 0 | GK72: =SUM(GF72:GJ72) -> 0 | GM72: =SUM(GF72,DX72,AX72) -> 0 | GN72: =SUM(GG72,DY72,AY72) -> 2853.2764 | GO72: =SUM(GH72,DZ72,AZ72) -> 463.52218 | GP72: =SUM(GI72,EA72,BA72) -> 0 | GQ72: =SUM(GJ72,EB72,BB72) -> 0 | GR72: =SUM(GK72,EC72,BC72) -> 3316.7986
A73: DRB=Blackstain root disease | G73: =SUM(B73:F73) -> 0 | M73: =SUM(H73:L73) -> 0 | S73: =SUM(N73:R73) -> 0 | Y73: =SUM(T73:X73) -> 0 | AE73: =SUM(Z73:AD73) -> 0 | AK73: =SUM(AF73:AJ73) -> 0 | AQ73: =SUM(AL73:AP73) -> 0 | AW73: =SUM(AR73:AV73) -> 0 | AX73: =SUM(AR73, AF73, Z73,T73,N73,H73,B73,AL73) -> 0 | AY73: =SUM(AS73, AG73, AA73,U73,O73,I73,C73,AM73) -> 0 | AZ73: =SUM(AT73, AH73, AB73,V73,P73,J73,D73, AN73) -> 0 | BA73: =SUM(AU73, AI73,AC73,W73,Q73,K73,E73, AO73) -> 0 | BB73: =SUM(F73,L73,R73,X73,AD73,AJ73,AP73,AV73) -> 0 | BC73: =SUM(AX73:BB73) -> 0 | BI73: =SUM(BD73:BH73) -> 0 | BO73: =SUM(BJ73:BN73) -> 0 | BU73: =SUM(BP73:BT73) -> 0 | CA73: =SUM(BV73:BZ73) -> 0 | CG73: =SUM(CB73:CF73) -> 0 | CM73: =SUM(CH73:CL73) -> 0 | CS73: =SUM(CN73:CR73) -> 0 | CY73: =SUM(CT73:CX73) -> 0 | DE73: =SUM(CZ73:DD73) -> 0 | DK73: =SUM(DF73:DJ73) -> 0 | DQ73: =SUM(DL73:DP73) -> 0 | DW73: =SUM(DR73:DV73) -> 0 | DX73: =SUM(DR73,DL73,DF73,CZ73,CT73,CN73,CH73,CB73,BV73,BP73,BJ73,BD73) -> 0 | DY73: =SUM(DS73,DM73,DG73,DA73,CU73,CO73,CI73,CC73,BW73,BQ73,BK73,BE73) -> 0 | DZ73: =SUM(DT73,DN73,DH73,DB73,CV73,CP73,CJ73,CD73,BX73,BR73,BL73,BF73) -> 0 | EA73: =SUM(DU73,DO73,DI73,DC73,CW73,CQ73,CK73,CE73,BY73,BS73,BM73,BG73) -> 0 | EB73: =SUM(BH73,BN73,BT73,BZ73,CF73,CL73,CR73,CX73,DD73,DJ73,DP73,DV73) -> 0 | EC73: =SUM(DX73:EB73) -> 0 | EI73: =SUM(ED73:EH73) -> 0 | EO73: =SUM(EJ73:EN73) -> 0 | EU73: =SUM(EP73:ET73) -> 0 | FA73: =SUM(EV73:EZ73) -> 0 | FG73: =SUM(FB73:FF73) -> 0 | FM73: =SUM(FH73:FL73) -> 0 | FS73: =SUM(FN73:FR73) -> 0 | FY73: =SUM(FT73:FX73) -> 0 | GE73: =SUM(FZ73:GD73) -> 0 | GF73: =SUM(FZ73,FT73,FN73,FH73,FB73,EV73,EP73,EJ73,ED73) -> 0 | GG73: =SUM(GA73,FU73,FO73,FI73,FC73,EW73,EQ73,EK73,EE73) -> 0 | GH73: =SUM(GB73,FV73,FP73,FJ73,FD73,EX73,ER73,EL73,EF73) -> 0 | GI73: =SUM(GC73,FW73,FQ73,FK73,FE73,EY73,ES73,EM73,EG73) -> 0 | GJ73: =SUM(EH73,EN73,ET73,EZ73,FF73,FL73,FR73,FX73,GD73) -> 0 | GK73: =SUM(GF73:GJ73) -> 0 | GM73: =SUM(GF73,DX73,AX73) -> 0 | GN73: =SUM(GG73,DY73,AY73) -> 0 | GO73: =SUM(GH73,DZ73,AZ73) -> 0 | GP73: =SUM(GI73,EA73,BA73) -> 0 | GQ73: =SUM(GJ73,EB73,BB73) -> 0 | GR73: =SUM(GK73,EC73,BC73) -> 0
A74: DFM=Larch Needle Cast | G74: =SUM(B74:F74) -> 0 | M74: =SUM(H74:L74) -> 0 | S74: =SUM(N74:R74) -> 0 | Y74: =SUM(T74:X74) -> 0 | AE74: =SUM(Z74:AD74) -> 0 | AK74: =SUM(AF74:AJ74) -> 0 | AQ74: =SUM(AL74:AP74) -> 0 | AW74: =SUM(AR74:AV74) -> 0 | AX74: =SUM(AR74, AF74, Z74,T74,N74,H74,B74,AL74) -> 0 | AY74: =SUM(AS74, AG74, AA74,U74,O74,I74,C74,AM74) -> 0 | AZ74: =SUM(AT74, AH74, AB74,V74,P74,J74,D74, AN74) -> 0 | BA74: =SUM(AU74, AI74,AC74,W74,Q74,K74,E74, AO74) -> 0 | BB74: =SUM(F74,L74,R74,X74,AD74,AJ74,AP74,AV74) -> 0 | BC74: =SUM(AX74:BB74) -> 0 | BI74: =SUM(BD74:BH74) -> 0 | BO74: =SUM(BJ74:BN74) -> 0 | BU74: =SUM(BP74:BT74) -> 0 | CA74: =SUM(BV74:BZ74) -> 0 | CG74: =SUM(CB74:CF74) -> 0 | CM74: =SUM(CH74:CL74) -> 0 | CS74: =SUM(CN74:CR74) -> 0 | CY74: =SUM(CT74:CX74) -> 0 | DA74: 1.7781743 | DE74: =SUM(CZ74:DD74) -> 1.7781743 | DK74: =SUM(DF74:DJ74) -> 0 | DQ74: =SUM(DL74:DP74) -> 0 | DW74: =SUM(DR74:DV74) -> 0 | DX74: =SUM(DR74,DL74,DF74,CZ74,CT74,CN74,CH74,CB74,BV74,BP74,BJ74,BD74) -> 0 | DY74: =SUM(DS74,DM74,DG74,DA74,CU74,CO74,CI74,CC74,BW74,BQ74,BK74,BE74) -> 1.7781743 | DZ74: =SUM(DT74,DN74,DH74,DB74,CV74,CP74,CJ74,CD74,BX74,BR74,BL74,BF74) -> 0 | EA74: =SUM(DU74,DO74,DI74,DC74,CW74,CQ74,CK74,CE74,BY74,BS74,BM74,BG74) -> 0 | EB74: =SUM(BH74,BN74,BT74,BZ74,CF74,CL74,CR74,CX74,DD74,DJ74,DP74,DV74) -> 0 | EC74: =SUM(DX74:EB74) -> 1.7781743 | EI74: =SUM(ED74:EH74) -> 0 | EO74: =SUM(EJ74:EN74) -> 0 | EU74: =SUM(EP74:ET74) -> 0 | FA74: =SUM(EV74:EZ74) -> 0 | FG74: =SUM(FB74:FF74) -> 0 | FM74: =SUM(FH74:FL74) -> 0 | FS74: =SUM(FN74:FR74) -> 0 | FY74: =SUM(FT74:FX74) -> 0 | GE74: =SUM(FZ74:GD74) -> 0 | GF74: =SUM(FZ74,FT74,FN74,FH74,FB74,EV74,EP74,EJ74,ED74) -> 0 | GG74: =SUM(GA74,FU74,FO74,FI74,FC74,EW74,EQ74,EK74,EE74) -> 0 | GH74: =SUM(GB74,FV74,FP74,FJ74,FD74,EX74,ER74,EL74,EF74) -> 0 | GI74: =SUM(GC74,FW74,FQ74,FK74,FE74,EY74,ES74,EM74,EG74) -> 0 | GJ74: =SUM(EH74,EN74,ET74,EZ74,FF74,FL74,FR74,FX74,GD74) -> 0 | GK74: =SUM(GF74:GJ74) -> 0 | GM74: =SUM(GF74,DX74,AX74) -> 0 | GN74: =SUM(GG74,DY74,AY74) -> 1.7781743 | GO74: =SUM(GH74,DZ74,AZ74) -> 0 | GP74: =SUM(GI74,EA74,BA74) -> 0 | GQ74: =SUM(GJ74,EB74,BB74) -> 0 | GR74: =SUM(GK74,EC74,BC74) -> 1.7781743
A75: DFR=Douglas-fir Needle Cast | C75: 259.52645 | G75: =SUM(B75:F75) -> 259.52645 | M75: =SUM(H75:L75) -> 0 | S75: =SUM(N75:R75) -> 0 | Y75: =SUM(T75:X75) -> 0 | AE75: =SUM(Z75:AD75) -> 0 | AK75: =SUM(AF75:AJ75) -> 0 | AQ75: =SUM(AL75:AP75) -> 0 | AW75: =SUM(AR75:AV75) -> 0 | AX75: =SUM(AR75, AF75, Z75,T75,N75,H75,B75,AL75) -> 0 | AY75: =SUM(AS75, AG75, AA75,U75,O75,I75,C75,AM75) -> 259.52645 | AZ75: =SUM(AT75, AH75, AB75,V75,P75,J75,D75, AN75) -> 0 | BA75: =SUM(AU75, AI75,AC75,W75,Q75,K75,E75, AO75) -> 0 | BB75: =SUM(F75,L75,R75,X75,AD75,AJ75,AP75,AV75) -> 0 | BC75: =SUM(AX75:BB75) -> 259.52645 | BI75: =SUM(BD75:BH75) -> 0 | BO75: =SUM(BJ75:BN75) -> 0 | BU75: =SUM(BP75:BT75) -> 0 | CA75: =SUM(BV75:BZ75) -> 0 | CG75: =SUM(CB75:CF75) -> 0 | CM75: =SUM(CH75:CL75) -> 0 | CS75: =SUM(CN75:CR75) -> 0 | CY75: =SUM(CT75:CX75) -> 0 | DE75: =SUM(CZ75:DD75) -> 0 | DK75: =SUM(DF75:DJ75) -> 0 | DQ75: =SUM(DL75:DP75) -> 0 | DW75: =SUM(DR75:DV75) -> 0 | DX75: =SUM(DR75,DL75,DF75,CZ75,CT75,CN75,CH75,CB75,BV75,BP75,BJ75,BD75) -> 0 | DY75: =SUM(DS75,DM75,DG75,DA75,CU75,CO75,CI75,CC75,BW75,BQ75,BK75,BE75) -> 0 | DZ75: =SUM(DT75,DN75,DH75,DB75,CV75,CP75,CJ75,CD75,BX75,BR75,BL75,BF75) -> 0 | EA75: =SUM(DU75,DO75,DI75,DC75,CW75,CQ75,CK75,CE75,BY75,BS75,BM75,BG75) -> 0 | EB75: =SUM(BH75,BN75,BT75,BZ75,CF75,CL75,CR75,CX75,DD75,DJ75,DP75,DV75) -> 0 | EC75: =SUM(DX75:EB75) -> 0 | EI75: =SUM(ED75:EH75) -> 0 | EO75: =SUM(EJ75:EN75) -> 0 | EU75: =SUM(EP75:ET75) -> 0 | FA75: =SUM(EV75:EZ75) -> 0 | FG75: =SUM(FB75:FF75) -> 0 | FM75: =SUM(FH75:FL75) -> 0 | FS75: =SUM(FN75:FR75) -> 0 | FY75: =SUM(FT75:FX75) -> 0 | GE75: =SUM(FZ75:GD75) -> 0 | GF75: =SUM(FZ75,FT75,FN75,FH75,FB75,EV75,EP75,EJ75,ED75) -> 0 | GG75: =SUM(GA75,FU75,FO75,FI75,FC75,EW75,EQ75,EK75,EE75) -> 0 | GH75: =SUM(GB75,FV75,FP75,FJ75,FD75,EX75,ER75,EL75,EF75) -> 0 | GI75: =SUM(GC75,FW75,FQ75,FK75,FE75,EY75,ES75,EM75,EG75) -> 0 | GJ75: =SUM(EH75,EN75,ET75,EZ75,FF75,FL75,FR75,FX75,GD75) -> 0 | GK75: =SUM(GF75:GJ75) -> 0 | GM75: =SUM(GF75,DX75,AX75) -> 0 | GN75: =SUM(GG75,DY75,AY75) -> 259.52645 | GO75: =SUM(GH75,DZ75,AZ75) -> 0 | GP75: =SUM(GI75,EA75,BA75) -> 0 | GQ75: =SUM(GJ75,EB75,BB75) -> 0 | GR75: =SUM(GK75,EC75,BC75) -> 259.52645
A76: DFS=Redband Needle Blight | G76: =SUM(B76:F76) -> 0 | M76: =SUM(H76:L76) -> 0 | S76: =SUM(N76:R76) -> 0 | Y76: =SUM(T76:X76) -> 0 | AE76: =SUM(Z76:AD76) -> 0 | AK76: =SUM(AF76:AJ76) -> 0 | AQ76: =SUM(AL76:AP76) -> 0 | AW76: =SUM(AR76:AV76) -> 0 | AX76: =SUM(AR76, AF76, Z76,T76,N76,H76,B76,AL76) -> 0 | AY76: =SUM(AS76, AG76, AA76,U76,O76,I76,C76,AM76) -> 0 | AZ76: =SUM(AT76, AH76, AB76,V76,P76,J76,D76, AN76) -> 0 | BA76: =SUM(AU76, AI76,AC76,W76,Q76,K76,E76, AO76) -> 0 | BB76: =SUM(F76,L76,R76,X76,AD76,AJ76,AP76,AV76) -> 0 | BC76: =SUM(AX76:BB76) -> 0 | BI76: =SUM(BD76:BH76) -> 0 | BO76: =SUM(BJ76:BN76) -> 0 | BU76: =SUM(BP76:BT76) -> 0 | CA76: =SUM(BV76:BZ76) -> 0 | CG76: =SUM(CB76:CF76) -> 0 | CM76: =SUM(CH76:CL76) -> 0 | CS76: =SUM(CN76:CR76) -> 0 | CY76: =SUM(CT76:CX76) -> 0 | DE76: =SUM(CZ76:DD76) -> 0 | DK76: =SUM(DF76:DJ76) -> 0 | DQ76: =SUM(DL76:DP76) -> 0 | DW76: =SUM(DR76:DV76) -> 0 | DX76: =SUM(DR76,DL76,DF76,CZ76,CT76,CN76,CH76,CB76,BV76,BP76,BJ76,BD76) -> 0 | DY76: =SUM(DS76,DM76,DG76,DA76,CU76,CO76,CI76,CC76,BW76,BQ76,BK76,BE76) -> 0 | DZ76: =SUM(DT76,DN76,DH76,DB76,CV76,CP76,CJ76,CD76,BX76,BR76,BL76,BF76) -> 0 | EA76: =SUM(DU76,DO76,DI76,DC76,CW76,CQ76,CK76,CE76,BY76,BS76,BM76,BG76) -> 0 | EB76: =SUM(BH76,BN76,BT76,BZ76,CF76,CL76,CR76,CX76,DD76,DJ76,DP76,DV76) -> 0 | EC76: =SUM(DX76:EB76) -> 0 | EE76: 678.54974 | EF76: 611.64389 | EG76: 1262.4372 | EI76: =SUM(ED76:EH76) -> 2552.6309 | EK76: 2593.6209 | EL76: 1334.75 | EM76: 931.74862 | EO76: =SUM(EJ76:EN76) -> 4860.1196 | EU76: =SUM(EP76:ET76) -> 0 | FA76: =SUM(EV76:EZ76) -> 0 | FG76: =SUM(FB76:FF76) -> 0 | FM76: =SUM(FH76:FL76) -> 0 | FS76: =SUM(FN76:FR76) -> 0 | FY76: =SUM(FT76:FX76) -> 0 | GF76: =SUM(FZ76,FT76,FN76,FH76,FB76,EV76,EP76,EJ76,ED76) -> 0 | GG76: =SUM(GA76,FU76,FO76,FI76,FC76,EW76,EQ76,EK76,EE76) -> 3272.1707 | GH76: =SUM(GB76,FV76,FP76,FJ76,FD76,EX76,ER76,EL76,EF76) -> 1946.3939 | GI76: =SUM(GC76,FW76,FQ76,FK76,FE76,EY76,ES76,EM76,EG76) -> 2194.1859 | GJ76: =SUM(EH76,EN76,ET76,EZ76,FF76,FL76,FR76,FX76,GD76) -> 0 | GK76: =SUM(GF76:GJ76) -> 7412.7504 | GM76: =SUM(GF76,DX76,AX76) -> 0 | GN76: =SUM(GG76,DY76,AY76) -> 3272.1707 | GO76: =SUM(GH76,DZ76,AZ76) -> 1946.3939 | GP76: =SUM(GI76,EA76,BA76) -> 2194.1859 | GQ76: =SUM(GJ76,EB76,BB76) -> 0 | GR76: =SUM(GK76,EC76,BC76) -> 7412.7504
A77: DL=Unknown Dieback | G77: =SUM(B77:F77) -> 0 | M77: =SUM(H77:L77) -> 0 | S77: =SUM(N77:R77) -> 0 | Y77: =SUM(T77:X77) -> 0 | AE77: =SUM(Z77:AD77) -> 0 | AK77: =SUM(AF77:AJ77) -> 0 | AQ77: =SUM(AL77:AP77) -> 0 | AW77: =SUM(AR77:AV77) -> 0 | AX77: =SUM(AR77, AF77, Z77,T77,N77,H77,B77,AL77) -> 0 | AY77: =SUM(AS77, AG77, AA77,U77,O77,I77,C77,AM77) -> 0 | AZ77: =SUM(AT77, AH77, AB77,V77,P77,J77,D77, AN77) -> 0 | BA77: =SUM(AU77, AI77,AC77,W77,Q77,K77,E77, AO77) -> 0 | BB77: =SUM(F77,L77,R77,X77,AD77,AJ77,AP77,AV77) -> 0 | BC77: =SUM(AX77:BB77) -> 0 | BI77: =SUM(BD77:BH77) -> 0 | BO77: =SUM(BJ77:BN77) -> 0 | BU77: =SUM(BP77:BT77) -> 0 | CA77: =SUM(BV77:BZ77) -> 0 | CG77: =SUM(CB77:CF77) -> 0 | CM77: =SUM(CH77:CL77) -> 0 | CS77: =SUM(CN77:CR77) -> 0 | CY77: =SUM(CT77:CX77) -> 0 | DE77: =SUM(CZ77:DD77) -> 0 | DK77: =SUM(DF77:DJ77) -> 0 | DQ77: =SUM(DL77:DP77) -> 0 | DW77: =SUM(DR77:DV77) -> 0 | DX77: =SUM(DR77,DL77,DF77,CZ77,CT77,CN77,CH77,CB77,BV77,BP77,BJ77,BD77) -> 0 | DY77: =SUM(DS77,DM77,DG77,DA77,CU77,CO77,CI77,CC77,BW77,BQ77,BK77,BE77) -> 0 | DZ77: =SUM(DT77,DN77,DH77,DB77,CV77,CP77,CJ77,CD77,BX77,BR77,BL77,BF77) -> 0 | EA77: =SUM(DU77,DO77,DI77,DC77,CW77,CQ77,CK77,CE77,BY77,BS77,BM77,BG77) -> 0 | EB77: =SUM(BH77,BN77,BT77,BZ77,CF77,CL77,CR77,CX77,DD77,DJ77,DP77,DV77) -> 0 | EC77: =SUM(DX77:EB77) -> 0 | EI77: =SUM(ED77:EH77) -> 0 | EO77: =SUM(EJ77:EN77) -> 0 | EU77: =SUM(EP77:ET77) -> 0 | FA77: =SUM(EV77:EZ77) -> 0 | FG77: =SUM(FB77:FF77) -> 0 | FM77: =SUM(FH77:FL77) -> 0 | FS77: =SUM(FN77:FR77) -> 0 | FY77: =SUM(FT77:FX77) -> 0 | GE77: =SUM(FZ77:GD77) -> 0 | GF77: =SUM(FZ77,FT77,FN77,FH77,FB77,EV77,EP77,EJ77,ED77) -> 0 | GG77: =SUM(GA77,FU77,FO77,FI77,FC77,EW77,EQ77,EK77,EE77) -> 0 | GH77: =SUM(GB77,FV77,FP77,FJ77,FD77,EX77,ER77,EL77,EF77) -> 0 | GI77: =SUM(GC77,FW77,FQ77,FK77,FE77,EY77,ES77,EM77,EG77) -> 0 | GJ77: =SUM(EH77,EN77,ET77,EZ77,FF77,FL77,FR77,FX77,GD77) -> 0 | GK77: =SUM(GF77:GJ77) -> 0 | GM77: =SUM(GF77,DX77,AX77) -> 0 | GN77: =SUM(GG77,DY77,AY77) -> 0 | GO77: =SUM(GH77,DZ77,AZ77) -> 0 | GP77: =SUM(GI77,EA77,BA77) -> 0 | GQ77: =SUM(GJ77,EB77,BB77) -> 0 | GR77: =SUM(GK77,EC77,BC77) -> 0
A78: DLV=Venturia spp | G78: =SUM(B78:F78) -> 0 | M78: =SUM(H78:L78) -> 0 | S78: =SUM(N78:R78) -> 0 | Y78: =SUM(T78:X78) -> 0 | AE78: =SUM(Z78:AD78) -> 0 | AK78: =SUM(AF78:AJ78) -> 0 | AQ78: =SUM(AL78:AP78) -> 0 | AU78: 195.43378 | AW78: =SUM(AR78:AV78) -> 195.43378 | AX78: =SUM(AR78, AF78, Z78,T78,N78,H78,B78,AL78) -> 0 | AY78: =SUM(AS78, AG78, AA78,U78,O78,I78,C78,AM78) -> 0 | AZ78: =SUM(AT78, AH78, AB78,V78,P78,J78,D78, AN78) -> 0 | BA78: =SUM(AU78, AI78,AC78,W78,Q78,K78,E78, AO78) -> 195.43378 | BB78: =SUM(F78,L78,R78,X78,AD78,AJ78,AP78,AV78) -> 0 | BC78: =SUM(AX78:BB78) -> 195.43378 | BI78: =SUM(BD78:BH78) -> 0 | BO78: =SUM(BJ78:BN78) -> 0 | BU78: =SUM(BP78:BT78) -> 0 | CA78: =SUM(BV78:BZ78) -> 0 | CG78: =SUM(CB78:CF78) -> 0 | CM78: =SUM(CH78:CL78) -> 0 | CS78: =SUM(CN78:CR78) -> 0 | CY78: =SUM(CT78:CX78) -> 0 | DE78: =SUM(CZ78:DD78) -> 0 | DK78: =SUM(DF78:DJ78) -> 0 | DQ78: =SUM(DL78:DP78) -> 0 | DW78: =SUM(DR78:DV78) -> 0 | DX78: =SUM(DR78,DL78,DF78,CZ78,CT78,CN78,CH78,CB78,BV78,BP78,BJ78,BD78) -> 0 | DY78: =SUM(DS78,DM78,DG78,DA78,CU78,CO78,CI78,CC78,BW78,BQ78,BK78,BE78) -> 0 | DZ78: =SUM(DT78,DN78,DH78,DB78,CV78,CP78,CJ78,CD78,BX78,BR78,BL78,BF78) -> 0 | EA78: =SUM(DU78,DO78,DI78,DC78,CW78,CQ78,CK78,CE78,BY78,BS78,BM78,BG78) -> 0 | EB78: =SUM(BH78,BN78,BT78,BZ78,CF78,CL78,CR78,CX78,DD78,DJ78,DP78,DV78) -> 0 | EC78: =SUM(DX78:EB78) -> 0 | EE78: 5375.8886 | EF78: 29.156724 | EG78: 445.46263 | EI78: =SUM(ED78:EH78) -> 5850.5079 | EM78: 165.91916 | EO78: =SUM(EJ78:EN78) -> 165.91916 | ER78: 19.375718 | ES78: 62.362721 | EU78: =SUM(EP78:ET78) -> 81.738439 | FA78: =SUM(EV78:EZ78) -> 0 | FE78: 327.44494 | FG78: =SUM(FB78:FF78) -> 327.44494 | FM78: =SUM(FH78:FL78) -> 0 | FS78: =SUM(FN78:FR78) -> 0 | FY78: =SUM(FT78:FX78) -> 0 | GE78: =SUM(FZ78:GD78) -> 0 | GF78: =SUM(FZ78,FT78,FN78,FH78,FB78,EV78,EP78,EJ78,ED78) -> 0 | GG78: =SUM(GA78,FU78,FO78,FI78,FC78,EW78,EQ78,EK78,EE78) -> 5375.8886 | GH78: =SUM(GB78,FV78,FP78,FJ78,FD78,EX78,ER78,EL78,EF78) -> 48.532442 | GI78: =SUM(GC78,FW78,FQ78,FK78,FE78,EY78,ES78,EM78,EG78) -> 1001.1894 | GJ78: =SUM(EH78,EN78,ET78,EZ78,FF78,FL78,FR78,FX78,GD78) -> 0 | GK78: =SUM(GF78:GJ78) -> 6425.6105 | GM78: =SUM(GF78,DX78,AX78) -> 0 | GN78: =SUM(GG78,DY78,AY78) -> 5375.8886 | GO78: =SUM(GH78,DZ78,AZ78) -> 48.532442 | GP78: =SUM(GI78,EA78,BA78) -> 1196.6232 | GQ78: =SUM(GJ78,EB78,BB78) -> 0 | GR78: =SUM(GK78,EC78,BC78) -> 6621.0442
A79: PDT=Cedar Leaf Blight | G79: =SUM(B79:F79) -> 0 | M79: =SUM(H79:L79) -> 0 | S79: =SUM(N79:R79) -> 0 | Y79: =SUM(T79:X79) -> 0 | AE79: =SUM(Z79:AD79) -> 0 | AK79: =SUM(AF79:AJ79) -> 0 | AQ79: =SUM(AL79:AP79) -> 0 | AW79: =SUM(AR79:AV79) -> 0 | AX79: =SUM(AR79, AF79, Z79,T79,N79,H79,B79,AL79) -> 0 | AY79: =SUM(AS79, AG79, AA79,U79,O79,I79,C79,AM79) -> 0 | AZ79: =SUM(AT79, AH79, AB79,V79,P79,J79,D79, AN79) -> 0 | BA79: =SUM(AU79, AI79,AC79,W79,Q79,K79,E79, AO79) -> 0 | BB79: =SUM(F79,L79,R79,X79,AD79,AJ79,AP79,AV79) -> 0 | BC79: =SUM(AX79:BB79) -> 0 | BI79: =SUM(BD79:BH79) -> 0 | BO79: =SUM(BJ79:BN79) -> 0 | BU79: =SUM(BP79:BT79) -> 0 | CA79: =SUM(BV79:BZ79) -> 0 | CG79: =SUM(CB79:CF79) -> 0 | CM79: =SUM(CH79:CL79) -> 0 | CS79: =SUM(CN79:CR79) -> 0 | CY79: =SUM(CT79:CX79) -> 0 | DE79: =SUM(CZ79:DD79) -> 0 | DK79: =SUM(DF79:DJ79) -> 0 | DQ79: =SUM(DL79:DP79) -> 0 | DW79: =SUM(DR79:DV79) -> 0 | DX79: =SUM(DR79,DL79,DF79,CZ79,CT79,CN79,CH79,CB79,BV79,BP79,BJ79,BD79) -> 0 | DY79: =SUM(DS79,DM79,DG79,DA79,CU79,CO79,CI79,CC79,BW79,BQ79,BK79,BE79) -> 0 | DZ79: =SUM(DT79,DN79,DH79,DB79,CV79,CP79,CJ79,CD79,BX79,BR79,BL79,BF79) -> 0 | EA79: =SUM(DU79,DO79,DI79,DC79,CW79,CQ79,CK79,CE79,BY79,BS79,BM79,BG79) -> 0 | EB79: =SUM(BH79,BN79,BT79,BZ79,CF79,CL79,CR79,CX79,DD79,DJ79,DP79,DV79) -> 0 | EC79: =SUM(DX79:EB79) -> 0 | EI79: =SUM(ED79:EH79) -> 0 | EO79: =SUM(EJ79:EN79) -> 0 | EU79: =SUM(EP79:ET79) -> 0 | FA79: =SUM(EV79:EZ79) -> 0 | FG79: =SUM(FB79:FF79) -> 0 | FM79: =SUM(FH79:FL79) -> 0 | FS79: =SUM(FN79:FR79) -> 0 | FY79: =SUM(FT79:FX79) -> 0 | GE79: =SUM(FZ79:GD79) -> 0 | GF79: =SUM(FZ79,FT79,FN79,FH79,FB79,EV79,EP79,EJ79,ED79) -> 0 | GG79: =SUM(GA79,FU79,FO79,FI79,FC79,EW79,EQ79,EK79,EE79) -> 0 | GH79: =SUM(GB79,FV79,FP79,FJ79,FD79,EX79,ER79,EL79,EF79) -> 0 | GI79: =SUM(GC79,FW79,FQ79,FK79,FE79,EY79,ES79,EM79,EG79) -> 0 | GJ79: =SUM(EH79,EN79,ET79,EZ79,FF79,FL79,FR79,FX79,GD79) -> 0 | GK79: =SUM(GF79:GJ79) -> 0 | GM79: =SUM(GF79,DX79,AX79) -> 0 | GN79: =SUM(GG79,DY79,AY79) -> 0 | GO79: =SUM(GH79,DZ79,AZ79) -> 0 | GP79: =SUM(GI79,EA79,BA79) -> 0 | GQ79: =SUM(GJ79,EB79,BB79) -> 0 | GR79: =SUM(GK79,EC79,BC79) -> 0
A80: Total Diseases= | B80: =SUM(B63:B79) -> 0 | C80: =SUM(C63:C79) -> 444.67322 | D80: =SUM(D63:D79) -> 979.29673 | E80: =SUM(E63:E79) -> 11.619695 | F80: =SUM(F63:F79) -> 0 | G80: =SUM(G63:G79) -> 1435.5896 | H80: =SUM(H63:H79) -> 2328.4208 | I80: =SUM(I63:I79) -> 15.744477 | ... GK80: =SUM(GK63:GK79) -> 16802.632 | GM80: =SUM(GM63:GM79) -> 2328.4208 | GN80: =SUM(GN63:GN79) -> 14232.33 | GO80: =SUM(GO63:GO79) -> 5075.8853 | GP80: =SUM(GP63:GP79) -> 3692.7741 | GQ80: =SUM(GQ63:GQ79) -> 0 | GR80: =SUM(GR63:GR79) -> 25329.41
A82: Animals
A83: AB=Bear | G83: =SUM(B83:F83) -> 0 | M83: =SUM(H83:L83) -> 0 | S83: =SUM(N83:R83) -> 0 | Y83: =SUM(T83:X83) -> 0 | AE83: =SUM(Z83:AD83) -> 0 | AK83: =SUM(AF83:AJ83) -> 0 | AQ83: =SUM(AL83:AP83) -> 0 | AW83: =SUM(AR83:AV83) -> 0 | AX83: =SUM(AR83,Z83,T83,N83,H83,B83,AL83) -> 0 | AY83: =SUM(AS83, AG83, AA83,U83,O83,I83,C83,AM83) -> 0 | AZ83: =SUM(AT83, AH83, AB83,V83,P83,J83,D83, AN83) -> 0 | BA83: =SUM(AU83, AI83,AC83,W83,Q83,K83,E83, AO83) -> 0 | BB83: =SUM(F83,L83,R83,X83,AD83,AJ83,AP83,AV83) -> 0 | BC83: =SUM(AX83:BB83) -> 0 | BI83: =SUM(BD83:BH83) -> 0 | BO83: =SUM(BJ83:BN83) -> 0 | BU83: =SUM(BP83:BT83) -> 0 | CA83: =SUM(BV83:BZ83) -> 0 | CG83: =SUM(CB83:CF83) -> 0 | CM83: =SUM(CH83:CL83) -> 0 | CS83: =SUM(CN83:CR83) -> 0 | CY83: =SUM(CT83:CX83) -> 0 | DE83: =SUM(CZ83:DD83) -> 0 | DG83: 14.787302 | DH83: 41.013589 | DI83: 12.607734 | DK83: =SUM(DF83:DJ83) -> 68.408625 | DQ83: =SUM(DL83:DP83) -> 0 | DS83: 13.238515 | DW83: =SUM(DR83:DV83) -> 13.238515 | DX83: =SUM(DR83,DL83,DF83,CZ83,CT83,CN83,CH83,CB83,BV83,BP83,BJ83,BD83) -> 0 | DY83: =SUM(DS83,DM83,DG83,DA83,CU83,CO83,CI83,CC83,BW83,BQ83,BK83,BE83) -> 28.025817 | DZ83: =SUM(DT83,DN83,DH83,DB83,CV83,CP83,CJ83,CD83,BX83,BR83,BL83,BF83) -> 41.013589 | EA83: =SUM(DU83,DO83,DI83,DC83,CW83,CQ83,CK83,CE83,BY83,BS83,BM83,BG83) -> 12.607734 | EB83: =SUM(BH83,BN83,BT83,BZ83,CF83,CL83,CR83,CX83,DD83,DJ83,DP83,DV83) -> 0 | EC83: =SUM(DX83:EB83) -> 81.64714 | EI83: =SUM(ED83:EH83) -> 0 | EO83: =SUM(EJ83:EN83) -> 0 | EU83: =SUM(EP83:ET83) -> 0 | FA83: =SUM(EV83:EZ83) -> 0 | FG83: =SUM(FB83:FF83) -> 0 | FM83: =SUM(FH83:FL83) -> 0 | FS83: =SUM(FN83:FR83) -> 0 | FY83: =SUM(FT83:FX83) -> 0 | GE83: =SUM(FZ83:GD83) -> 0 | GF83: =SUM(FZ83,FT83,FN83,FH83,FB83,EV83,EP83,EJ83,ED83) -> 0 | GG83: =SUM(GA83,FU83,FO83,FI83,FC83,EW83,EQ83,EK83,EE83) -> 0 | GH83: =SUM(GB83,FV83,FP83,FJ83,FD83,EX83,ER83,EL83,EF83) -> 0 | GI83: =SUM(GC83,FW83,FQ83,FK83,FE83,EY83,ES83,EM83,EG83) -> 0 | GJ83: =SUM(EH83,EN83,ET83,EZ83,FF83,FL83,FR83,FX83,GD83) -> 0 | GK83: =SUM(GF83:GJ83) -> 0 | GM83: =SUM(GF83,DX83,AX83) -> 0 | GN83: =SUM(GG83,DY83,AY83) -> 28.025817 | GO83: =SUM(GH83,DZ83,AZ83) -> 41.013589 | GP83: =SUM(GI83,EA83,BA83) -> 12.607734 | GQ83: =SUM(GJ83,EB83,BB83) -> 0 | GR83: =SUM(GK83,EC83,BC83) -> 81.64714
A84: AP=Porcupine | G84: =SUM(B84:F84) -> 0 | M84: =SUM(H84:L84) -> 0 | S84: =SUM(N84:R84) -> 0 | Y84: =SUM(T84:X84) -> 0 | AE84: =SUM(Z84:AD84) -> 0 | AK84: =SUM(AF84:AJ84) -> 0 | AQ84: =SUM(AO84:AP84) -> 0 | AW84: =SUM(AR84:AV84) -> 0 | AX84: =SUM(AR84,Z84,T84,N84,H84,B84,AL84) -> 0 | AY84: =SUM(AS84, AG84, AA84,U84,O84,I84,C84,AM84) -> 0 | AZ84: =SUM(AT84, AH84, AB84,V84,P84,J84,D84, AN84) -> 0 | BA84: =SUM(AU84, AI84,AC84,W84,Q84,K84,E84, AO84) -> 0 | BB84: =SUM(F84,L84,R84,X84,AD84,AJ84,AP84,AV84) -> 0 | BC84: =SUM(AX84:BB84) -> 0 | BI84: =SUM(BD84:BH84) -> 0 | BO84: =SUM(BJ84:BN84) -> 0 | BU84: =SUM(BP84:BT84) -> 0 | CA84: =SUM(BV84:BZ84) -> 0 | CG84: =SUM(CB84:CF84) -> 0 | CM84: =SUM(CH84:CL84) -> 0 | CS84: =SUM(CN84:CR84) -> 0 | CY84: =SUM(CT84:CX84) -> 0 | DE84: =SUM(CZ84:DD84) -> 0 | DG84: 1.9068398 | DK84: =SUM(DF84:DJ84) -> 1.9068398 | DQ84: =SUM(DL84:DP84) -> 0 | DW84: =SUM(DR84:DV84) -> 0 | DX84: =SUM(DR84,DL84,DF84,CZ84,CT84,CN84,CH84,CB84,BV84,BP84,BJ84,BD84) -> 0 | DY84: =SUM(DS84,DM84,DG84,DA84,CU84,CO84,CI84,CC84,BW84,BQ84,BK84,BE84) -> 1.9068398 | DZ84: =SUM(DT84,DN84,DH84,DB84,CV84,CP84,CJ84,CD84,BX84,BR84,BL84,BF84) -> 0 | EA84: =SUM(DU84,DO84,DI84,DC84,CW84,CQ84,CK84,CE84,BY84,BS84,BM84,BG84) -> 0 | EB84: =SUM(BH84,BN84,BT84,BZ84,CF84,CL84,CR84,CX84,DD84,DJ84,DP84,DV84) -> 0 | EC84: =SUM(DX84:EB84) -> 1.9068398 | EI84: =SUM(ED84:EH84) -> 0 | EM84: 10.937298 | EO84: =SUM(EJ84:EN84) -> 10.937298 | EU84: =SUM(EP84:ET84) -> 0 | FA84: =SUM(EV84:EZ84) -> 0 | FG84: =SUM(FB84:FF84) -> 0 | FM84: =SUM(FH84:FL84) -> 0 | FS84: =SUM(FN84:FR84) -> 0 | FY84: =SUM(FT84:FX84) -> 0 | GE84: =SUM(FZ84:GD84) -> 0 | GF84: =SUM(FZ84,FT84,FN84,FH84,FB84,EV84,EP84,EJ84,ED84) -> 0 | GG84: =SUM(GA84,FU84,FO84,FI84,FC84,EW84,EQ84,EK84,EE84) -> 0 | GH84: =SUM(GB84,FV84,FP84,FJ84,FD84,EX84,ER84,EL84,EF84) -> 0 | GI84: =SUM(GC84,FW84,FQ84,FK84,FE84,EY84,ES84,EM84,EG84) -> 10.937298 | GJ84: =SUM(EH84,EN84,ET84,EZ84,FF84,FL84,FR84,FX84,GD84) -> 0 | GK84: =SUM(GF84:GJ84) -> 10.937298 | GM84: =SUM(GF84,DX84,AX84) -> 0 | GN84: =SUM(GG84,DY84,AY84) -> 1.9068398 | GO84: =SUM(GH84,DZ84,AZ84) -> 0 | GP84: =SUM(GI84,EA84,BA84) -> 10.937298 | GQ84: =SUM(GJ84,EB84,BB84) -> 0 | GR84: =SUM(GK84,EC84,BC84) -> 12.844138
A85: AD=Deer | G85: =SUM(B85:F85) -> 0 | M85: =SUM(H85:L85) -> 0 | S85: =SUM(N85:R85) -> 0 | Y85: =SUM(T85:X85) -> 0 | AE85: =SUM(Z85:AD85) -> 0 | AK85: =SUM(AF85:AJ85) -> 0 | AQ85: =SUM(AO85:AP85) -> 0 | AW85: =SUM(AR85:AV85) -> 0 | AX85: =SUM(AR85,Z85,T85,N85,H85,B85,AL85) -> 0 | AY85: =SUM(AS85, AG85, AA85,U85,O85,I85,C85,AM85) -> 0 | AZ85: =SUM(AT85, AH85, AB85,V85,P85,J85,D85, AN85) -> 0 | BA85: =SUM(AU85, AI85,AC85,W85,Q85,K85,E85, AO85) -> 0 | BB85: =SUM(F85,L85,R85,X85,AD85,AJ85,AP85,AV85) -> 0 | BC85: =SUM(AX85:BB85) -> 0 | BI85: =SUM(BD85:BH85) -> 0 | BO85: =SUM(BJ85:BN85) -> 0 | BU85: =SUM(BP85:BT85) -> 0 | CA85: =SUM(BV85:BZ85) -> 0 | CG85: =SUM(CB85:CF85) -> 0 | CM85: =SUM(CH85:CL85) -> 0 | CS85: =SUM(CN85:CR85) -> 0 | CY85: =SUM(CT85:CX85) -> 0 | DE85: =SUM(CZ85:DD85) -> 0 | DK85: =SUM(DF85:DJ85) -> 0 | DQ85: =SUM(DL85:DP85) -> 0 | DW85: =SUM(DR85:DV85) -> 0 | DX85: =SUM(DR85,DL85,DF85,CZ85,CT85,CN85,CH85,CB85,BV85,BP85,BJ85,BD85) -> 0 | DY85: =SUM(DS85,DM85,DG85,DA85,CU85,CO85,CI85,CC85,BW85,BQ85,BK85,BE85) -> 0 | DZ85: =SUM(DT85,DN85,DH85,DB85,CV85,CP85,CJ85,CD85,BX85,BR85,BL85,BF85) -> 0 | EA85: =SUM(DU85,DO85,DI85,DC85,CW85,CQ85,CK85,CE85,BY85,BS85,BM85,BG85) -> 0 | EB85: =SUM(BH85,BN85,BT85,BZ85,CF85,CL85,CR85,CX85,DD85,DJ85,DP85,DV85) -> 0 | EC85: =SUM(DX85:EB85) -> 0 | EI85: =SUM(ED85:EH85) -> 0 | EO85: =SUM(EJ85:EN85) -> 0 | EU85: =SUM(EP85:ET85) -> 0 | FA85: =SUM(EV85:EZ85) -> 0 | FG85: =SUM(FB85:FF85) -> 0 | FM85: =SUM(FH85:FL85) -> 0 | FS85: =SUM(FN85:FR85) -> 0 | FY85: =SUM(FT85:FX85) -> 0 | GE85: =SUM(FZ85:GD85) -> 0 | GF85: =SUM(FZ85,FT85,FN85,FH85,FB85,EV85,EP85,EJ85,ED85) -> 0 | GG85: =SUM(GA85,FU85,FO85,FI85,FC85,EW85,EQ85,EK85,EE85) -> 0 | GH85: =SUM(GB85,FV85,FP85,FJ85,FD85,EX85,ER85,EL85,EF85) -> 0 | GI85: =SUM(GC85,FW85,FQ85,FK85,FE85,EY85,ES85,EM85,EG85) -> 0 | GJ85: =SUM(EH85,EN85,ET85,EZ85,FF85,FL85,FR85,FX85,GD85) -> 0 | GK85: =SUM(GF85:GJ85) -> 0 | GM85: =SUM(GF85,DX85,AX85) -> 0 | GN85: =SUM(GG85,DY85,AY85) -> 0 | GO85: =SUM(GH85,DZ85,AZ85) -> 0 | GP85: =SUM(GI85,EA85,BA85) -> 0 | GQ85: =SUM(GJ85,EB85,BB85) -> 0 | GR85: =SUM(GK85,EC85,BC85) -> 0
A86: Total Animals= | B86: =SUM(B83:B85) -> 0 | C86: =SUM(C83:C85) -> 0 | D86: =SUM(D83:D85) -> 0 | E86: =SUM(E83:E85) -> 0 | F86: =SUM(F83:F85) -> 0 | G86: =SUM(G83:G85) -> 0 | H86: =SUM(H83:H85) -> 0 | I86: =SUM(I83:I85) -> 0 | ... BB86: =SUM(BB83:BB85) -> 0 | BC86: =SUM(AX86:BB86) -> 0 | BD86: =SUM(BD83:BD85) -> 0 | BE86: =SUM(BE83:BE85) -> 0 | BF86: =SUM(BF83:BF85) -> 0 | BG86: =SUM(BG83:BG85) -> 0 | BH86: =SUM(BH83:BH85) -> 0 | BI86: =SUM(BI83:BI85) -> 0 | BJ86: =SUM(BJ83:BJ85) -> 0 | BK86: =SUM(BK83:BK85) -> 0 | ... GK86: =SUM(GK83:GK85) -> 10.937298 | GM86: =SUM(GM83:GM85) -> 0 | GN86: =SUM(GN83:GN85) -> 29.932657 | GO86: =SUM(GO83:GO85) -> 41.013589 | GP86: =SUM(GP83:GP85) -> 23.545033 | GQ86: =SUM(GQ83:GQ85) -> 0 | GR86: =SUM(GR83:GR85) -> 94.491278
A88: Total Other= | B88: =SUM(B86,B80,B60) -> 0 | C88: =SUM(C86,C80,C60) -> 444.67322 | D88: =SUM(D86,D80,D60) -> 979.29673 | E88: =SUM(E86,E80,E60) -> 69.105176 | F88: =SUM(F86,F80,F60) -> 0 | G88: =SUM(G86,G80,G60) -> 1493.0751 | H88: =SUM(H86,H80,H60) -> 3328.5206 | I88: =SUM(I86,I80,I60) -> 1242.8725 | ... GK88: =SUM(GK86,GK80,GK60) -> 143723.9 | GM88: =SUM(GM86,GM80,GM60) -> 6248.2938 | GN88: =SUM(GN86,GN80,GN60) -> 20607.941 | GO88: =SUM(GO86,GO80,GO60) -> 8000.2334 | GP88: =SUM(GP86,GP80,GP60) -> 315469.08 | GQ88: =SUM(GQ86,GQ80,GQ60) -> 24.646734 | GR88: =SUM(GR86,GR80,GR60) -> 350350.2
A90: Total Region = | B90: =SUM(B88,B43,B17) -> 263.79156 | C90: =SUM(C88,C43,C17) -> 11168.552 | D90: =SUM(D88,D43,D17) -> 2626.1532 | E90: =SUM(E88,E43,E17) -> 465.1071 | F90: =SUM(F88,F43,F17) -> 0 | G90: =SUM(G88,G43,G17) -> 14523.604 | H90: =SUM(H88,H43,H17) -> 11179.061 | I90: =SUM(I88,I43,I17) -> 2437.4074 | ... DW90: =SUM(DW88,DW43,DW17) -> 28716.833 | DX90: =SUM(DX88,DX88,DX88,DX43,DX17) -> 399433.43 | DY90: =SUM(DY88,DY88,DY88,DY43,DY17) -> 855848.1 | DZ90: =SUM(DZ88,DZ88,DZ88,DZ43,DZ17) -> 211191.97 | EA90: =SUM(EA88,EA88,EA88,EA43,EA17) -> 521923.61 | EB90: =SUM(EB88,EB88,EB88,EB43,EB17) -> 2963.7198 | EC90: =SUM(EC88,EC88,EC88,EC43,EC17) -> 1991360.8 | ED90: =SUM(ED88,ED43,ED17) -> 327176.06 | EE90: =SUM(EE88,EE43,EE17) -> 105087.14 | EF90: =SUM(EF88,EF43,EF17) -> 46159.282 | EG90: =SUM(EG88,EG43,EG17) -> 85825.03 | EH90: =SUM(EH88,EH43,EH17) -> 1212.6783 | EI90: =SUM(EI88,EI43,EI17) -> 565460.2 | EJ90: =SUM(EJ88,EJ43,EJ17) -> 24841.783 | EK90: =SUM(EK88,EK43,EK17) -> 17450.433 | ... GK90: =SUM(GK88,GK43,GK17) -> 9375133.6 | GM90: =SUM(GM88,GM43,GM17) -> 4110773.6 | GN90: =SUM(GN88,GN43,GN17) -> 4049450 | GO90: =SUM(GO88,GO43,GO17) -> 2050049.4 | GP90: =SUM(GP88,GP43,GP17) -> 966965.24 | GQ90: =SUM(GQ88,GQ43,GQ17) -> 17897.102 | GR90: =SUM(GM90:GQ90) -> 11195135
ED174: RNI | EE174: RNI | EF174: DVA | EG174: DLV | EH174: DLV | EI174: 374.6347
ED175: RNI | EE175: RNI | EF175: DVA | EG175: IBB | EH175: IBB | EI175: 7206.9075
ED176: RNI | EE176: RNI | EF176: DVA | EG176: IBM | EH176: IBM | EI176: 149594.58
ED177: RNI | EE177: RNI | EF177: DVA | EG177: IBS | EH177: IBS | EI177: 2659.1821
ED178: RNI | EE178: RNI | EF178: DVA | EG178: IDX | EH178: IDX | EI178: 1960.8018
ED179: RNI | EE179: RNI | EF179: DVA | EG179: NF | EH179: NF
EF180: DVA Total
ED181: RNI Total | EE181: RNI Total

Sheet All reg
A1: 2010 Aerial Overview Summary for British Columbia
B3: COASTAL FOREST REGION TOTAL | I3: SIFR REGION | P3: NIFR REGION | W3: GRAND TOTAL
B4: Trace | C4: Light | D4: Moderate | E4: Severe | F4: Very Sev | G4: Total | I4: Trace | J4: Light | K4: Moderate | L4: Severe | M4: Very Sev | N4: TOTAL | P4: Trace | Q4: Light | R4: Moderate | S4: Severe | T4: Very Sev | U4: TOTAL | W4: Trace | X4: Light | Y4: Moderate | Z4: Severe | AA4: Very Sev | AB4: TOTAL
A5: Bark Beetles
A6: IBM=Mountain Pine Beetle | B6: =Master!AX6 -> 6526.4025 | C6: =Master!AY6 -> 13295.807 | D6: =Master!AZ6 -> 1502.416 | E6: =Master!BA6 -> 532.64584 | F6: =Master!BB6 -> 0 | G6: =Master!BC6 -> 21857.271 | I6: =Master!DX6 -> 217767.16 | J6: =Master!DY6 -> 243744.49 | K6: =Master!DZ6 -> 80492.712 | L6: =Master!EA6 -> 15119.902 | M6: =Master!EB6 -> 2784.9829 | N6: =Master!EC6 -> 559909.25 | P6: =Master!GF6 -> 2161519.8 | Q6: =Master!GG6 -> 1558565.5 | R6: =Master!GH6 -> 1431031.8 | S6: =Master!GI6 -> 503720.01 | T6: =Master!GJ6 -> 14982.676 | U6: =Master!GK6 -> 5669819.9 | W6: =Master!GM6 -> 2385813.4 | X6: =Master!GN6 -> 1815605.8 | Y6: =Master!GO6 -> 1513026.9 | Z6: =Master!GP6 -> 519372.56 | AA6: =Master!GQ6 -> 17767.659 | AB6: =Master!GR6 -> 6251586.4
A7: IBS=Spruce Beetle | B7: =Master!AX7 -> 18.752111 | C7: =Master!AY7 -> 17.494955 | D7: =Master!AZ7 -> 0 | E7: =Master!BA7 -> 10.213607 | F7: =Master!BB7 -> 0 | G7: =Master!BC7 -> 46.460673 | I7: =Master!DX7 -> 5442.3707 | J7: =Master!DY7 -> 11393.831 | K7: =Master!DZ7 -> 11116.708 | L7: =Master!EA7 -> 1900.464 | M7: =Master!EB7 -> 89.190053 | N7: =Master!EC7 -> 29942.564 | P7: =Master!GF7 -> 0 | Q7: =Master!GG7 -> 13.045481 | R7: =Master!GH7 -> 62.559032 | S7: =Master!GI7 -> 30.963241 | T7: =Master!GJ7 -> 0 | U7: =Master!GK7 -> 106.56775 | W7: =Master!GM7 -> 5461.1228 | X7: =Master!GN7 -> 11424.372 | Y7: =Master!GO7 -> 11179.267 | Z7: =Master!GP7 -> 1941.6408 | AA7: =Master!GQ7 -> 89.190053 | AB7: =Master!GR7 -> 30095.593
A8: IBB=Western Balsam Bark Beetle | B8: =Master!AX8 -> 2240.1451 | C8: =Master!AY8 -> 2161.3729 | D8: =Master!AZ8 -> 34.379448 | E8: =Master!BA8 -> 31.5 | F8: =Master!BB8 -> 0 | G8: =Master!BC8 -> 4467.3974 | I8: =Master!DX8 -> 171177.51 | J8: =Master!DY8 -> 11780.648 | K8: =Master!DZ8 -> 193.88415 | L8: =Master!EA8 -> 143.59293 | M8: =Master!EB8 -> 0 | N8: =Master!EC8 -> 183295.63 | P8: =Master!GF8 -> 1534200.2 | Q8: =Master!GG8 -> 49921.414 | R8: =Master!GH8 -> 40.719536 | S8: =Master!GI8 -> 469.53398 | T8: =Master!GJ8 -> 0 | U8: =Master!GK8 -> 1584631.9 | W8: =Master!GM8 -> 1707617.9 | X8: =Master!GN8 -> 63863.435 | Y8: =Master!GO8 -> 268.98313 | Z8: =Master!GP8 -> 644.62691 | AA8: =Master!GQ8 -> 0 | AB8: =Master!GR8 -> 1772394.9
A9: IBD=Douglas-fir Beetle | B9: =Master!AX9 -> 16.537979 | C9: =Master!AY9 -> 2649.8946 | D9: =Master!AZ9 -> 574.61767 | E9: =Master!BA9 -> 315.70259 | F9: =Master!BB9 -> 0 | G9: =Master!BC9 -> 3556.7528 | I9: =Master!DX9 -> 5046.3937 | J9: =Master!DY9 -> 3903.1167 | K9: =Master!DZ9 -> 1712.82 | L9: =Master!EA9 -> 710.59883 | M9: =Master!EB9 -> 15.606702 | N9: =Master!EC9 -> 11388.536 | P9: =Master!GF9 -> 570.00112 | Q9: =Master!GG9 -> 232.56281 | R9: =Master!GH9 -> 0 | S9: =Master!GI9 -> 40.75 | T9: =Master!GJ9 -> 0 | U9: =Master!GK9 -> 843.31393 | W9: =Master!GM9 -> 5632.9328 | X9: =Master!GN9 -> 6785.5741 | Y9: =Master!GO9 -> 2287.4376 | Z9: =Master!GP9 -> 1067.0514 | AA9: =Master!GQ9 -> 15.606702 | AB9: =Master!GR9 -> 15788.603
A10: IBF = Fir engraver Beetle | B10: =Master!AX10 -> 0 | C10: =Master!AY10 -> 0 | D10: =Master!AZ10 -> 0 | E10: =Master!BA10 -> 0 | F10: =Master!BB10 -> 0 | G10: =Master!BC10 -> 0 | I10: =Master!DX10 -> 0 | J10: =Master!DY10 -> 0 | K10: =Master!DZ10 -> 0 | L10: =Master!EA10 -> 0 | M10: =Master!EB10 -> 0 | N10: =Master!EC10 -> 0 | P10: =Master!GF10 -> 0 | Q10: =Master!GG10 -> 0 | R10: =Master!GH10 -> 0 | S10: =Master!GI10 -> 0 | T10: =Master!GJ10 -> 0 | U10: =Master!GK10 -> 0 | W10: =Master!GM10 -> 0 | X10: =Master!GN10 -> 0 | Y10: =Master!GO10 -> 0 | Z10: =Master!GP10 -> 0 | AA10: =Master!GQ10 -> 0 | AB10: =Master!GR10 -> 0
A11: IBP = Twig Beetle | B11: =Master!AX11 -> 0 | C11: =Master!AY11 -> 0 | D11: =Master!AZ11 -> 0 | E11: =Master!BA11 -> 0 | F11: =Master!BB11 -> 0 | G11: =Master!BC11 -> 0 | I11: =Master!DX11 -> 0 | J11: =Master!DY11 -> 0 | K11: =Master!DZ11 -> 0 | L11: =Master!EA11 -> 0 | M11: =Master!EB11 -> 0 | N11: =Master!EC11 -> 0 | P11: =Master!GF11 -> 0 | Q11: =Master!GG11 -> 0 | R11: =Master!GH11 -> 0 | S11: =Master!GI11 -> 0 | T11: =Master!GJ11 -> 0 | U11: =Master!GK11 -> 0 | W11: =Master!GM11 -> 0 | X11: =Master!GN11 -> 0 | Y11: =Master!GO11 -> 0 | Z11: =Master!GP11 -> 0 | AA11: =Master!GQ11 -> 0 | AB11: =Master!GR11 -> 0
A12: IBI=Engraver Beetle (Ips species) | B12: =Master!AX12 -> 0 | C12: =Master!AY12 -> 0 | D12: =Master!AZ12 -> 0 | E12: =Master!BA12 -> 0 | F12: =Master!BB12 -> 0 | G12: =Master!BC12 -> 0 | I12: =Master!DX12 -> 0 | J12: =Master!DY12 -> 0 | K12: =Master!DZ12 -> 0 | L12: =Master!EA12 -> 0 | M12: =Master!EB12 -> 0 | N12: =Master!EC12 -> 0 | P12: =Master!GF12 -> 0 | Q12: =Master!GG12 -> 0 | R12: =Master!GH12 -> 0 | S12: =Master!GI12 -> 0 | T12: =Master!GJ12 -> 0 | U12: =Master!GK12 -> 0 | W12: =Master!GM12 -> 0 | X12: =Master!GN12 -> 0 | Y12: =Master!GO12 -> 0 | Z12: =Master!GP12 -> 0 | AA12: =Master!GQ12 -> 0 | AB12: =Master!GR12 -> 0
A13: IBW=Western Pine Beetle | B13: =Master!AX13 -> 0 | C13: =Master!AY13 -> 0 | D13: =Master!AZ13 -> 0 | E13: =Master!BA13 -> 0 | F13: =Master!BB13 -> 0 | G13: =Master!BC13 -> 0 | I13: =Master!DX13 -> 0 | J13: =Master!DY13 -> 0 | K13: =Master!DZ13 -> 0 | L13: =Master!EA13 -> 0 | M13: =Master!EB13 -> 0 | N13: =Master!EC13 -> 0 | P13: =Master!GF13 -> 0 | Q13: =Master!GG13 -> 0 | R13: =Master!GH13 -> 0 | S13: =Master!GI13 -> 0 | T13: =Master!GJ13 -> 0 | U13: =Master!GK13 -> 0 | W13: =Master!GM13 -> 0 | X13: =Master!GN13 -> 0 | Y13: =Master!GO13 -> 0 | Z13: =Master!GP13 -> 0 | AA13: =Master!GQ13 -> 0 | AB13: =Master!GR13 -> 0
A14: IBL=Lodgepole Pine Beetle | B14: =Master!AX14 -> 0 | C14: =Master!AY14 -> 0 | D14: =Master!AZ14 -> 0 | E14: =Master!BA14 -> 0 | F14: =Master!BB14 -> 0 | G14: =Master!BC14 -> 0 | I14: =Master!DX14 -> 0 | J14: =Master!DY14 -> 0 | K14: =Master!DZ14 -> 0 | L14: =Master!EA14 -> 0 | M14: =Master!EB14 -> 0 | N14: =Master!EC14 -> 0 | P14: =Master!GF14 -> 0 | Q14: =Master!GG14 -> 0 | R14: =Master!GH14 -> 0 | S14: =Master!GI14 -> 0 | T14: =Master!GJ14 -> 0 | U14: =Master!GK14 -> 0 | W14: =Master!GM14 -> 0 | X14: =Master!GN14 -> 0 | Y14: =Master!GO14 -> 0 | Z14: =Master!GP14 -> 0 | AA14: =Master!GQ14 -> 0 | AB14: =Master!GR14 -> 0
A15: IBT=Red Turpentine Beetle | B15: =Master!AX15 -> 0 | C15: =Master!AY15 -> 0 | D15: =Master!AZ15 -> 0 | E15: =Master!BA15 -> 0 | F15: =Master!BB15 -> 0 | G15: =Master!BC15 -> 0 | I15: =Master!DX15 -> 0 | J15: =Master!DY15 -> 0 | K15: =Master!DZ15 -> 0 | L15: =Master!EA15 -> 0 | M15: =Master!EB15 -> 0 | N15: =Master!EC15 -> 0 | P15: =Master!GF15 -> 0 | Q15: =Master!GG15 -> 0 | R15: =Master!GH15 -> 0 | S15: =Master!GI15 -> 0 | T15: =Master!GJ15 -> 0 | U15: =Master!GK15 -> 0 | W15: =Master!GM15 -> 0 | X15: =Master!GN15 -> 0 | Y15: =Master!GO15 -> 0 | Z15: =Master!GP15 -> 0 | AA15: =Master!GQ15 -> 0 | AB15: =Master!GR15 -> 0
A16: IB=Unknown Beetle | B16: =Master!AX16 -> 0 | C16: =Master!AY16 -> 0 | D16: =Master!AZ16 -> 0 | E16: =Master!BA16 -> 0 | F16: =Master!BB16 -> 0 | G16: =Master!BC16 -> 0 | I16: =Master!DX16 -> 0 | J16: =Master!DY16 -> 0 | K16: =Master!DZ16 -> 0 | L16: =Master!EA16 -> 0 | M16: =Master!EB16 -> 0 | N16: =Master!EC16 -> 0 | P16: =Master!GF16 -> 0 | Q16: =Master!GG16 -> 0 | R16: =Master!GH16 -> 0 | S16: =Master!GI16 -> 0 | T16: =Master!GJ16 -> 0 | U16: =Master!GK16 -> 0 | W16: =Master!GM16 -> 0 | X16: =Master!GN16 -> 0 | Y16: =Master!GO16 -> 0 | Z16: =Master!GP16 -> 0 | AA16: =Master!GQ16 -> 0 | AB16: =Master!GR16 -> 0
A17: Total All BB= | B17: =Master!AX17 -> 8801.8377 | C17: =Master!AY17 -> 18124.569 | D17: =Master!AZ17 -> 2111.4131 | E17: =Master!BA17 -> 890.06204 | F17: =Master!BB17 -> 0 | G17: =Master!BC17 -> 29927.882 | I17: =Master!DX17 -> 399433.43 | J17: =Master!DY17 -> 270822.09 | K17: =Master!DZ17 -> 93516.124 | L17: =Master!EA17 -> 17874.557 | M17: =Master!EB17 -> 2889.7796 | N17: =Master!EC17 -> 784535.99 | P17: =Master!GF17 -> 3696290.1 | Q17: =Master!GG17 -> 1608732.6 | R17: =Master!GH17 -> 1431135.1 | S17: =Master!GI17 -> 504261.26 | T17: =Master!GJ17 -> 14982.676 | U17: =Master!GK17 -> 7255401.6 | W17: =Master!GM17 -> 4104525.3 | X17: =Master!GN17 -> 1897679.2 | Y17: =Master!GO17 -> 1526762.6 | Z17: =Master!GP17 -> 523025.88 | AA17: =Master!GQ17 -> 17872.456 | AB17: =Master!GR17 -> 8069865.5
A19: Defoliators
A20: ID=Defoliators | B20: =Master!AX20 -> 0 | C20: =Master!AY20 -> 541.12312 | D20: =Master!AZ20 -> 1676.6027 | E20: =Master!BA20 -> 3391.5881 | F20: =Master!BB20 -> 0 | G20: =Master!BC20 -> 5609.314 | I20: =Master!DX20 -> 0 | J20: =Master!DY20 -> 31.145551 | K20: =Master!DZ20 -> 0 | L20: =Master!EA20 -> 0 | M20: =Master!EB20 -> 0 | N20: =Master!EC20 -> 31.145551 | P20: =Master!GF20 -> 0 | Q20: =Master!GG20 -> 15915.193 | R20: =Master!GH20 -> 12637.438 | S20: =Master!GI20 -> 4763.562 | T20: =Master!GJ20 -> 0 | U20: =Master!GK20 -> 33316.193 | W20: =Master!GM20 -> 0 | X20: =Master!GN20 -> 16487.462 | Y20: =Master!GO20 -> 14314.041 | Z20: =Master!GP20 -> 8155.1502 | AA20: =Master!GQ20 -> 0 | AB20: =Master!GR20 -> 38956.652
A21: IDH=Western Blackheaded Budworm | B21: =Master!AX21 -> 0 | C21: =Master!AY21 -> 43515.252 | D21: =Master!AZ21 -> 20303.871 | E21: =Master!BA21 -> 23677.62 | F21: =Master!BB21 -> 0 | G21: =Master!BC21 -> 87496.743 | I21: =Master!DX21 -> 0 | J21: =Master!DY21 -> 154.99048 | K21: =Master!DZ21 -> 0 | L21: =Master!EA21 -> 0 | M21: =Master!EB21 -> 0 | N21: =Master!EC21 -> 154.99048 | P21: =Master!GF21 -> 0 | Q21: =Master!GG21 -> 3172.0715 | R21: =Master!GH21 -> 2403.9844 | S21: =Master!GI21 -> 12.89835 | T21: =Master!GJ21 -> 0 | U21: =Master!GK21 -> 5588.9543 | W21: =Master!GM21 -> 0 | X21: =Master!GN21 -> 46842.314 | Y21: =Master!GO21 -> 22707.856 | Z21: =Master!GP21 -> 23690.519 | AA21: =Master!GQ21 -> 0 | AB21: =Master!GR21 -> 93240.688
A22: IDB=2-Year Budworm | B22: =Master!AX22 -> 0 | C22: =Master!AY22 -> 0 | D22: =Master!AZ22 -> 0 | E22: =Master!BA22 -> 0 | F22: =Master!BB22 -> 0 | G22: =Master!BC22 -> 0 | I22: =Master!DX22 -> 0 | J22: =Master!DY22 -> 46688.65 | K22: =Master!DZ22 -> 24005.104 | L22: =Master!EA22 -> 0 | M22: =Master!EB22 -> 0 | N22: =Master!EC22 -> 70693.754 | P22: =Master!GF22 -> 0 | Q22: =Master!GG22 -> 25103.587 | R22: =Master!GH22 -> 1286.4555 | S22: =Master!GI22 -> 0 | T22: =Master!GJ22 -> 0 | U22: =Master!GK22 -> 26390.043 | W22: =Master!GM22 -> 0 | X22: =Master!GN22 -> 71792.238 | Y22: =Master!GO22 -> 25291.559 | Z22: =Master!GP22 -> 0 | AA22: =Master!GQ22 -> 0 | AB22: =Master!GR22 -> 97083.797
A23: IDE=Spruce Budworm | B23: =Master!AX23 -> 0 | C23: =Master!AY23 -> 0 | D23: =Master!AZ23 -> 0 | E23: =Master!BA23 -> 0 | F23: =Master!BB23 -> 0 | G23: =Master!BC23 -> 0 | I23: =Master!DX23 -> 0 | J23: =Master!DY23 -> 0 | K23: =Master!DZ23 -> 0 | L23: =Master!EA23 -> 0 | M23: =Master!EB23 -> 0 | N23: =Master!EC23 -> 0 | P23: =Master!GF23 -> 0 | Q23: =Master!GG23 -> 0 | R23: =Master!GH23 -> 0 | S23: =Master!GI23 -> 0 | T23: =Master!GJ23 -> 0 | U23: =Master!GK23 -> 0 | W23: =Master!GM23 -> 0 | X23: =Master!GN23 -> 0 | Y23: =Master!GO23 -> 0 | Z23: =Master!GP23 -> 0 | AA23: =Master!GQ23 -> 0 | AB23: =Master!GR23 -> 0
A24: IDL=Western Hemlock Looper | B24: =Master!AX24 -> 0 | C24: =Master!AY24 -> 275.47261 | D24: =Master!AZ24 -> 6.5963038 | E24: =Master!BA24 -> 0 | F24: =Master!BB24 -> 0 | G24: =Master!BC24 -> 282.06892 | I24: =Master!DX24 -> 0 | J24: =Master!DY24 -> 3010.2532 | K24: =Master!DZ24 -> 25.262752 | L24: =Master!EA24 -> 0 | M24: =Master!EB24 -> 0 | N24: =Master!EC24 -> 3035.5159 | P24: =Master!GF24 -> 0 | Q24: =Master!GG24 -> 0 | R24: =Master!GH24 -> 0 | S24: =Master!GI24 -> 0 | T24: =Master!GJ24 -> 0 | U24: =Master!GK24 -> 0 | W24: =Master!GM24 -> 0 | X24: =Master!GN24 -> 3285.7258 | Y24: =Master!GO24 -> 31.859056 | Z24: =Master!GP24 -> 0 | AA24: =Master!GQ24 -> 0 | AB24: =Master!GR24 -> 3317.5848
A25: IDC=Larch Casebearer | B25: =Master!AX24 -> 0 | C25: =Master!AY24 -> 275.47261 | D25: =Master!AZ24 -> 6.5963038 | E25: =Master!BA24 -> 0 | F25: =Master!BB24 -> 0 | G25: =Master!BC24 -> 282.06892 | I25: =Master!DX24 -> 0 | J25: =Master!DY24 -> 3010.2532 | K25: =Master!DZ24 -> 25.262752 | L25: =Master!EA24 -> 0 | M25: =Master!EB24 -> 0 | N25: =Master!EC24 -> 3035.5159 | P25: =Master!GF24 -> 0 | Q25: =Master!GG24 -> 0 | R25: =Master!GH24 -> 0 | S25: =Master!GI24 -> 0 | T25: =Master!GJ24 -> 0 | U25: =Master!GK24 -> 0 | W25: =Master!GM24 -> 0 | X25: =Master!GN24 -> 3285.7258 | Y25: =Master!GO24 -> 31.859056 | Z25: =Master!GP24 -> 0 | AA25: =Master!GQ24 -> 0 | AB25: =Master!GR24 -> 3317.5848
A26: IDS=Conifer Sawflies | B26: =Master!AX25 -> 0 | C26: =Master!AY25 -> 0 | D26: =Master!AZ25 -> 0 | E26: =Master!BA25 -> 0 | F26: =Master!BB25 -> 0 | G26: =Master!BC25 -> 0 | I26: =Master!DX25 -> 0 | J26: =Master!DY25 -> 5.6542756 | K26: =Master!DZ25 -> 0 | L26: =Master!EA25 -> 0 | M26: =Master!EB25 -> 0 | N26: =Master!EC25 -> 5.6542756 | P26: =Master!GF25 -> 0 | Q26: =Master!GG25 -> 0 | R26: =Master!GH25 -> 0 | S26: =Master!GI25 -> 0 | T26: =Master!GJ25 -> 0 | U26: =Master!GK25 -> 0 | W26: =Master!GM25 -> 0 | X26: =Master!GN25 -> 5.6542756 | Y26: =Master!GO25 -> 0 | Z26: =Master!GP25 -> 0 | AA26: =Master!GQ25 -> 0 | AB26: =Master!GR25 -> 5.6542756
A27: IDK=Northern Tent Caterpillar | B27: =Master!AX27 -> 0 | C27: =Master!AY27 -> 0 | D27: =Master!AZ27 -> 0 | E27: =Master!BA27 -> 0 | F27: =Master!BB27 -> 0 | G27: =Master!BC27 -> 0 | I27: =Master!DX27 -> 0 | J27: =Master!DY27 -> 0 | K27: =Master!DZ27 -> 0 | L27: =Master!EA27 -> 0 | M27: =Master!EB27 -> 0 | N27: =Master!EC27 -> 0 | P27: =Master!GF27 -> 0 | Q27: =Master!GG27 -> 0 | R27: =Master!GH27 -> 0 | S27: =Master!GI27 -> 0 | T27: =Master!GJ27 -> 0 | U27: =Master!GK27 -> 0 | W27: =Master!GM27 -> 0 | X27: =Master!GN27 -> 0 | Y27: =Master!GO27 -> 0 | Z27: =Master!GP27 -> 0 | AA27: =Master!GQ27 -> 0 | AB27: =Master!GR27 -> 0
A28: IDF=Forest Tent Caterpillar | B28: =Master!AX28 -> 0 | C28: =Master!AY28 -> 0 | D28: =Master!AZ28 -> 0 | E28: =Master!BA28 -> 16.017692 | F28: =Master!BB28 -> 0 | G28: =Master!BC28 -> 16.017692 | I28: =Master!DX28 -> 0 | J28: =Master!DY28 -> 20372.935 | K28: =Master!DZ28 -> 16294.9 | L28: =Master!EA28 -> 1175.8838 | M28: =Master!EB28 -> 0 | N28: =Master!EC28 -> 37843.72 | P28: =Master!GF28 -> 0 | Q28: =Master!GG28 -> 52474.812 | R28: =Master!GH28 -> 37739.64 | S28: =Master!GI28 -> 4551.4243 | T28: =Master!GJ28 -> 0 | U28: =Master!GK28 -> 94765.876 | W28: =Master!GM28 -> 0 | X28: =Master!GN28 -> 72847.748 | Y28: =Master!GO28 -> 54034.54 | Z28: =Master!GP28 -> 5743.3259 | AA28: =Master!GQ28 -> 0 | AB28: =Master!GR28 -> 132625.61
A29: IDW=Western Spruce Budworm | B29: =Master!AX29 -> 0 | C29: =Master!AY29 -> 712.04323 | D29: =Master!AZ29 -> 304.47766 | E29: =Master!BA29 -> 0 | F29: =Master!BB29 -> 0 | G29: =Master!BC29 -> 1016.5209 | I29: =Master!DX29 -> 0 | J29: =Master!DY29 -> 448768.92 | K29: =Master!DZ29 -> 50296.629 | L29: =Master!EA29 -> 38.8568 | M29: =Master!EB29 -> 0 | N29: =Master!EC29 -> 499104.4 | P29: =Master!GF29 -> 0 | Q29: =Master!GG29 -> 0 | R29: =Master!GH29 -> 0 | S29: =Master!GI29 -> 0 | T29: =Master!GJ29 -> 0 | U29: =Master!GK29 -> 0 | W29: =Master!GM29 -> 0 | X29: =Master!GN29 -> 449480.96 | Y29: =Master!GO29 -> 50601.107 | Z29: =Master!GP29 -> 38.8568 | AA29: =Master!GQ29 -> 0 | AB29: =Master!GR29 -> 500120.92
A30: IDN=Birch Leaf Miner | B30: =Master!AX30 -> 0 | C30: =Master!AY30 -> 0 | D30: =Master!AZ30 -> 0 | E30: =Master!BA30 -> 0 | F30: =Master!BB30 -> 0 | G30: =Master!BC30 -> 0 | I30: =Master!DX30 -> 0 | J30: =Master!DY30 -> 3071.4881 | K30: =Master!DZ30 -> 5313.2474 | L30: =Master!EA30 -> 33.37311 | M30: =Master!EB30 -> 0 | N30: =Master!EC30 -> 8418.1086 | P30: =Master!GF30 -> 0 | Q30: =Master!GG30 -> 0 | R30: =Master!GH30 -> 0 | S30: =Master!GI30 -> 0 | T30: =Master!GJ30 -> 0 | U30: =Master!GK30 -> 0 | W30: =Master!GM30 -> 0 | X30: =Master!GN30 -> 3071.4881 | Y30: =Master!GO30 -> 5313.2474 | Z30: =Master!GP30 -> 33.37311 | AA30: =Master!GQ30 -> 0 | AB30: =Master!GR30 -> 8418.1086
A31: IDU=Satin Moth | B31: =Master!AX31 -> 0 | C31: =Master!AY31 -> 0 | D31: =Master!AZ31 -> 0 | E31: =Master!BA31 -> 0 | F31: =Master!BB31 -> 0 | G31: =Master!BC31 -> 0 | I31: =Master!DX31 -> 0 | J31: =Master!DY31 -> 0 | K31: =Master!DZ31 -> 0 | L31: =Master!EA31 -> 9.1431585 | M31: =Master!EB31 -> 0 | N31: =Master!EC31 -> 9.1431585 | P31: =Master!GF31 -> 0 | Q31: =Master!GG31 -> 0 | R31: =Master!GH31 -> 0 | S31: =Master!GI31 -> 0 | T31: =Master!GJ31 -> 0 | U31: =Master!GK31 -> 0 | W31: =Master!GM31 -> 0 | X31: =Master!GN31 -> 0 | Y31: =Master!GO31 -> 0 | Z31: =Master!GP31 -> 9.1431585 | AA31: =Master!GQ31 -> 0 | AB31: =Master!GR31 -> 9.1431585
A32: IAB=Balsam Woolly Adelgid | B32: =Master!AX32 -> 0 | C32: =Master!AY32 -> 0 | D32: =Master!AZ32 -> 0 | E32: =Master!BA32 -> 0 | F32: =Master!BB32 -> 0 | G32: =Master!BC32 -> 0 | I32: =Master!DX32 -> 0 | J32: =Master!DY32 -> 0 | K32: =Master!DZ32 -> 0 | L32: =Master!EA32 -> 0 | M32: =Master!EB32 -> 0 | N32: =Master!EC32 -> 0 | P32: =Master!GF32 -> 0 | Q32: =Master!GG32 -> 0 | R32: =Master!GH32 -> 0 | S32: =Master!GI32 -> 0 | T32: =Master!GJ32 -> 0 | U32: =Master!GK32 -> 0 | W32: =Master!GM32 -> 0 | X32: =Master!GN32 -> 0 | Y32: =Master!GO32 -> 0 | Z32: =Master!GP32 -> 0 | AA32: =Master!GQ32 -> 0 | AB32: =Master!GR32 -> 0
A33: IAS=Green Spruce Aphid | B33: =Master!AX33 -> 0 | C33: =Master!AY33 -> 0 | D33: =Master!AZ33 -> 0 | E33: =Master!BA33 -> 0 | F33: =Master!BB33 -> 0 | G33: =Master!BC33 -> 0 | I33: =Master!DX33 -> 0 | J33: =Master!DY33 -> 0 | K33: =Master!DZ33 -> 0 | L33: =Master!EA33 -> 0 | M33: =Master!EB33 -> 0 | N33: =Master!EC33 -> 0 | P33: =Master!GF33 -> 0 | Q33: =Master!GG33 -> 0 | R33: =Master!GH33 -> 0 | S33: =Master!GI33 -> 0 | T33: =Master!GJ33 -> 0 | U33: =Master!GK33 -> 0 | W33: =Master!GM33 -> 0 | X33: =Master!GN33 -> 0 | Y33: =Master!GO33 -> 0 | Z33: =Master!GP33 -> 0 | AA33: =Master!GQ33 -> 0 | AB33: =Master!GR33 -> 0
A34: IDI=Pine needle sheathminer | B34: =Master!AX34 -> 0 | C34: =Master!AY34 -> 0 | D34: =Master!AZ34 -> 0 | E34: =Master!BA34 -> 0 | F34: =Master!BB34 -> 0 | G34: =Master!BC34 -> 0 | I34: =Master!DX34 -> 0 | J34: =Master!DY34 -> 0 | K34: =Master!DZ34 -> 0 | L34: =Master!EA34 -> 0 | M34: =Master!EB34 -> 0 | N34: =Master!EC34 -> 0 | P34: =Master!GF34 -> 0 | Q34: =Master!GG34 -> 0 | R34: =Master!GH34 -> 0 | S34: =Master!GI34 -> 0 | T34: =Master!GJ34 -> 0 | U34: =Master!GK34 -> 0 | W34: =Master!GM34 -> 0 | X34: =Master!GN34 -> 0 | Y34: =Master!GO34 -> 0 | Z34: =Master!GP34 -> 0 | AA34: =Master!GQ34 -> 0 | AB34: =Master!GR34 -> 0
