Workbook
Name fhdata_Query: #REF!
Name PARKS_Query: #REF!
Name sum_data: #REF!
Name sum_data: #REF!

Sheet Annual Report
A1: 2010 Aerial Overview Summary for British Columbia
E2: Provincial
B3: CFR | C3: SIFR | D3: NIFR | E3: Total
A5: Bark Beetles
A6: IBM=Mountain Pine Beetle | B6: =Master!BC6 -> 21857.271 | C6: =Master!EC6 -> 559909.25 | D6: =Master!GK6 -> 5669819.9 | E6: =SUM(B6:D6) -> 6251586.4
A7: IBS=Spruce Beetle | B7: =Master!BC7 -> 46.460673 | C7: =Master!EC7 -> 29942.564 | D7: =Master!GK7 -> 106.56775 | E7: =SUM(B7:D7) -> 30095.593
A8: IBB=Western Balsam Bark Beetle | B8: =Master!BC8 -> 4467.3974 | C8: =Master!EC8 -> 183295.63 | D8: =Master!GK8 -> 1584631.9 | E8: =SUM(B8:D8) -> 1772394.9
A9: IBD=Douglas-fir Beetle | B9: =Master!BC9 -> 3556.7528 | C9: =Master!EC9 -> 11388.536 | D9: =Master!GK9 -> 843.31393 | E9: =SUM(B9:D9) -> 15788.603
A10: IBF=Fir engraver beetle | B10: =Master!BC10 -> 0 | C10: =Master!EC10 -> 0 | D10: =Master!GK10 -> 0 | E10: =SUM(B10:D10) -> 0
A11: IBP=Twig beetle | B11: =Master!BC11 -> 0 | C11: =Master!EC11 -> 0 | D11: =Master!GK11 -> 0 | E11: =SUM(B11:D11) -> 0
A12: IBI=Engraver Beetle (Ips species) | B12: =Master!BC12 -> 0 | C12: =Master!EC12 -> 0 | D12: =Master!GK12 -> 0 | E12: =SUM(B12:D12) -> 0
A13: IBW=Western Pine Beetle | B13: =Master!BC13 -> 0 | C13: =Master!EC13 -> 0 | D13: =Master!GK13 -> 0 | E13: =SUM(B13:D13) -> 0
A14: IBL=Lodgepole Pine Beetle | B14: =Master!BC14 -> 0 | C14: =Master!EC14 -> 0 | D14: =Master!GK14 -> 0 | E14: =SUM(B14:D14) -> 0
A15: IBT=Red Turpentine Beetle | B15: =Master!BC15 -> 0 | C15: =Master!EC15 -> 0 | D15: =Master!GK15 -> 0 | E15: =SUM(B15:D15) -> 0
A16: IB=Unknown Beetle | B16: =Master!BC16 -> 0 | C16: =Master!EC16 -> 0 | D16: =Master!GK16 -> 0 | E16: =SUM(B16:D16) -> 0
A17: Total All BB= | B17: =Master!BC17 -> 29927.882 | C17: =Master!EC17 -> 784535.99 | D17: =Master!GK17 -> 7255401.6 | E17: =SUM(B17:D17) -> 8069865.5
A19: Defoliators
A20: ID=Defoliators | B20: =Master!BC20 -> 5609.314 | C20: =Master!EC20 -> 31.145551 | D20: =Master!GK20 -> 33316.193 | E20: =SUM(B20:D20) -> 38956.652
A21: IDH=Western Blackheaded Budworm | B21: =Master!BC21 -> 87496.743 | C21: =Master!EC21 -> 154.99048 | D21: =Master!GK21 -> 5588.9543 | E21: =SUM(B21:D21) -> 93240.688
A22: IDB=2-Year Budworm | B22: =Master!BC22 -> 0 | C22: =Master!EC22 -> 70693.754 | D22: =Master!GK22 -> 26390.043 | E22: =SUM(B22:D22) -> 97083.797
A23: IDE=Spruce Budworm | B23: =Master!BC23 -> 0 | C23: =Master!EC23 -> 0 | D23: =Master!GK23 -> 0 | E23: =SUM(B23:D23) -> 0
A24: IDL=Western Hemlock Looper | B24: =Master!BC24 -> 282.06892 | C24: =Master!EC24 -> 3035.5159 | D24: =Master!GK24 -> 0 | E24: =SUM(B24:D24) -> 3317.5848
A25: IDC=Larch Casebearer | B25: =Master!BC25 -> 0 | C25: =Master!EC25 -> 5.6542756 | D25: =Master!GK25 -> 0 | E25: =SUM(B25:D25) -> 5.6542756
A26: IDS=Conifer Sawflies | B26: =Master!BC26 -> 0 | C26: =Master!EC26 -> 0 | D26: =Master!GK26 -> 0 | E26: =SUM(B26:D26) -> 0
A27: IDK=Northern Tent Caterpillar | B27: =Master!BC27 -> 0 | C27: =Master!EC27 -> 0 | D27: =Master!GK27 -> 0 | E27: =SUM(B27:D27) -> 0
A28: IDF=Forest Tent Caterpillar | B28: =Master!BC28 -> 16.017692 | C28: =Master!EC28 -> 37843.72 | D28: =Master!GK28 -> 94765.876 | E28: =SUM(B28:D28) -> 132625.61
A29: IDW=Western Spruce Budworm | B29: =Master!BC29 -> 1016.5209 | C29: =Master!EC29 -> 499104.4 | D29: =Master!GK29 -> 0 | E29: =SUM(B29:D29) -> 500120.92
A30: IDN=Birch Leaf Miner | B30: =Master!BC30 -> 0 | C30: =Master!EC30 -> 8418.1086 | D30: =Master!GK30 -> 0 | E30: =SUM(B30:D30) -> 8418.1086
A31: IDU=Satin Moth | B31: =Master!BC31 -> 0 | C31: =Master!EC31 -> 9.1431585 | D31: =Master!GK31 -> 0 | E31: =SUM(B31:D31) -> 9.1431585
... A43: Total Defoliators= | B43: =Master!BC43 -> 95810.033 | C43: =Master!EC43 -> 703101.59 | D43: =Master!GK43 -> 1976008.1 | E43: =SUM(B43:D43) -> 2774919.7
A45: Other
A46: N | B46: =Master!BC46 -> 0 | C46: =Master!EC46 -> 0 | D46: =Master!GK46 -> 9.6893471 | E46: =SUM(B46:D46) -> 9.6893471
A47: NAV=Avalanche or snow slide | B47: =Master!BC47 -> 71.95646 | C47: =Master!EC47 -> 18.375293 | D47: =Master!GK47 -> 11.006602 | E47: =SUM(B47:D47) -> 101.33836
A48: NB=Fire | B48: =Master!BC48 -> 20268.955 | C48: =Master!EC48 -> 161170.96 | D48: =Master!GK48 -> 120714.59 | E48: =SUM(B48:D48) -> 302154.51
A49: NCA=Aspen decline | B49: =Master!BC49 -> 0 | C49: =Master!EC49 -> 0 | D49: =Master!GK49 -> 0 | E49: =SUM(B49:D49) -> 0
A50: NCB=Birch decline | B50: =Master!BC50 -> 0 | C50: =Master!EC50 -> 0 | D50: =Master!GK50 -> 128.35183 | E50: =SUM(B50:D50) -> 128.35183
A51: NCY=Yellow cedar decline | B51: =Master!BC51 -> 10726.097 | C51: =Master!EC51 -> 0 | D51: =Master!GK51 -> 257.60296 | E51: =SUM(B51:D51) -> 10983.7
A52: NW=Windthrow | B52: =Master!BC52 -> 229.42403 | C52: =Master!EC52 -> 2536.1355 | D52: =Master!GK52 -> 483.70334 | E52: =SUM(B52:D52) -> 3249.2629
A53: ND=Drought | B53: =Master!BC53 -> 244.56666 | C53: =Master!EC53 -> 424.09796 | D53: =Master!GK53 -> 19.041892 | E53: =SUM(B53:D53) -> 687.70651
A54: NF=Flooding | B54: =Master!BC54 -> 316.30474 | C54: =Master!EC54 -> 80.541055 | D54: =Master!GK54 -> 4041.9862 | E54: =SUM(B54:D54) -> 4438.832
...

Sheet Master
A1: 2010 Aerial Overview Summary for British Columbia
B2: COASTAL FOREST REGION | BD2: SOUTHERN INTERIOR FOREST REGION | ED2: NORTHERN INTERIOR FOREST REGION
B3: Chilliwack | C3: DCK | H3: North Island - Central Coast | K3: DNI | N3: South Island | P3: DSI | T3: Haida Gwaii | V3: DQC | Z3: Squamish | AA3: DSQ | AF3: Sunshine Coast | AH3: DSC | AL3: Campbell River | AN3: DCR | AR3: North Coast | AT3: DNC | AX3: COASTAL FOREST REGION TOTAL | BD3: Chilcotin FD | BF3: DCH | BJ3: Central Cariboo | BL3: DCC | BP3: 100 Mile House | BR3: DMH | BV3: Quesnel | BW3: DQU | CB3: Headwaters | CD3: DHW | CH3: Kamloops | CJ3: DKA | CN3: Cascades | CO3: DCS | CT3: Okanagan-Shuswap | CV3: DOS | CZ3: Arrow-Boundary | DB3: DAB | DF3: Rocky Mountain | DH3: DRM | DL3: Columbia | DM3: DCO | DR3: Kootenay Lake | DT3: DKL | DX3: SIFR REGION | ED3: Skeena-Stikine | EF3: DSS | EJ3: Kalum | EK3: DKM | EP3: Nadina | EQ3: DND | EV3: Prince George FD | EX3: DPG | FB3: Vanderhoof | FD3: DVA | FH3: Ft. St. James | FJ3: DJA | FN3: Mackenzie | FP3: DMK | FT3: Peace | FU3: DPC | FZ3: Ft. Nelson | GA3: DFN | GF3: NIFR REGION | GM3: GRAND TOTAL
B4: Trace | C4: Light | D4: Moderate | E4: Severe | F4: Very Sev | G4: Total | H4: Trace | I4: Light | J4: Moderate | K4: Severe | L4: Very Sev | M4: Total | N4: Trace | O4: Light | P4: Moderate | Q4: Severe | R4: Very Sev | S4: Total | T4: Trace | U4: Light | V4: Moderate | W4: Severe | X4: Very Sev | Y4: Total | Z4: Trace | AA4: Light | AB4: Moderate | AC4: Severe | AD4: Very Sev | AE4: Total | AF4: Trace | AG4: Light | AH4: Moderate | AI4: Severe | AJ4: Very Sev | AK4: Total | AL4: Trace | AM4: Light | AN4: Moderate | AO4: Severe | AP4: Very Sev | AQ4: Total | AR4: Trace | AS4: Light | AT4: Moderate | AU4: Severe | AV4: Very Sev | AW4: Total | AX4: Trace | AY4: Light | AZ4: Moderate | BA4: Severe | BB4: Ver Sev | BC4: Total | BD4: Trace | BE4: Light | BF4: Moderate | BG4: Severe | BH4: Very Sev | BI4: Total | BJ4: Trace | BK4: Light | BL4: Moderate | BM4: Severe | BN4: Very Sev | BO4: Total | BP4: Trace | BQ4: Light | BR4: Moderate | BS4: Severe | BT4: Very Sev | BU4: Total | BV4: Trace | BW4: Light | BX4: Moderate | BY4: Severe | BZ4: Very Sev | CA4: Total | CB4: Trace | CC4: Light | CD4: Moderate | CE4: Severe | CF4: Very Sev | CG4: Total | CH4: Trace | CI4: Light | CJ4: Moderate | CK4: Severe | CL4: Very Sev | CM4: Total | CN4: Trace | CO4: Light | CP4: Moderate | CQ4: Severe | CR4: Very Sev | CS4: Total | CT4: Trace | CU4: Light | CV4: Moderate | CW4: Severe | CX4: Very Sev | CY4: Total | CZ4: Trace | DA4: Light | DB4: Moderate | DC4: Severe | DD4: Very Sev | DE4: Total | DF4: Trace | DG4: Light | DH4: Moderate | DI4: Severe | DJ4: Very Sev | DK4: Total | DL4: Trace | DM4: Light | DN4: Moderate | DO4: Severe | DP4: Very Sev | DQ4: Total | DR4: Trace | DS4: Light | DT4: Moderate | DU4: Severe | DV4: Very Sev | DW4: Total | DX4: Trace | DY4: Light | DZ4: Moderate | EA4: Severe | EB4: Very Sev | EC4: TOTAL | ED4: Trace | EE4: Light | EF4: Moderate | EG4: Severe | EH4: Very Sev | EI4: Total | EJ4: Trace | EK4: Light | EL4: Moderate | EM4: Severe | EN4: Very Sev | EO4: Total | EP4: Trace | EQ4: Light | ER4: Moderate | ES4: Severe | ET4: Very Sev | EU4: Total | EV4: Trace | EW4: Light | EX4: Moderate | EY4: Severe | EZ4: Very Sev | FA4: Total | FB4: Trace | FC4: Light | FD4: Moderate | FE4: Severe | FF4: Very Sev | FG4: Total | FH4: Trace | FI4: Light | FJ4: Moderate | FK4: Severe | FL4: Very Sev | FM4: Total | FN4: Trace | FO4: Light | FP4: Moderate | FQ4: Severe | FR4: Very Sev | FS4: Total | FT4: Trace | FU4: Light | FV4: Moderate | FW4: Severe | FX4: Very Sev | FY4: Total | FZ4: Trace | GA4: Light | GB4: Moderate | GC4: Severe | GD4: Very Sev | GE4: Total | GF4: Trace | GG4: Light | GH4: Moderate | GI4: Severe | GJ4: Very Sev | GK4: TOTAL | GM4: Trace | GN4: Light | GO4: Moderate | GP4: Severe | GQ4: Very Sev | GR4: TOTAL
A5: Bark Beetles
A6: IBM=Mountain Pine Beetle | B6: 186.44282 | C6: 8411.7217 | D6: 1261.6891 | E6: 330.60115 | G6: =SUM(B6:F6) -> 10190.455 | H6: 6260.5165 | I6: 633.43915 | K6: 8.5 | M6: =SUM(H6:L6) -> 6902.4556 | Q6: 0.25 | S6: =SUM(N6:R6) -> 0.25 | Y6: =SUM(T6:X6) -> 0 | Z6: 79.443188 | AA6: 4249.3578 | AB6: 240.72682 | AC6: 41.052736 | AE6: =SUM(Z6:AD6) -> 4610.5805 | AG6: 1.2882007 | AI6: 3.25 | AK6: =SUM(AF6:AJ6) -> 4.5382007 | AQ6: =SUM(AL6:AP6) -> 0 | AU6: 148.99195 | AW6: =SUM(AR6:AV6) -> 148.99195 | AX6: =SUM(B6,H6,N6,T6,Z6,AF6,AL6) -> 6526.4025 | AY6: =SUM(AS6,AG6,AA6,U6,O6,I6,C6, AM6) -> 13295.807 | AZ6: =SUM(AT6,AH6,AB6,V6,P6,J6, AN6,D6) -> 1502.416 | BA6: =SUM(AU6,AO6,AI6,AC6,W6,Q6,K6,E6) -> 532.64584 | BB6: =SUM(AV6,AP6,AJ6,AD6,X6,R6,L6,F6) -> 0 | BC6: =SUM(AX6:BB6) -> 21857.271 | BD6: 76154.739 | BE6: 26512.169 | BF6: 1150.5508 | BG6: 113.46899 | BI6: =SUM(BD6:BH6) -> 103930.93 | BJ6: 11051.372 | BK6: 4189.178 | BL6: 870.10558 | BM6: 21.071105 | BN6: 539.00544 | BO6: =SUM(BJ6:BN6) -> 16670.733 | BP6: 5480.6901 | BQ6: 3570.7463 | BR6: 311.35469 | BS6: 2 | BU6: =SUM(BP6:BT6) -> 9364.7911 | BV6: 6683.4307 | BW6: 2432.1294 | BX6: 145.42087 | BY6: 5.5 | CA6: =SUM(BV6:BZ6) -> 9266.481 | CB6: 51143.635 | CC6: 17663.534 | CD6: 11519.235 | CE6: 2690.6069 | CF6: 1637.0976 | CG6: =SUM(CB6:CF6) -> 84654.109 | CH6: 4330.6181 | CI6: 4164.8257 | CJ6: 816.16723 | CK6: 41.46761 | CL6: 0.73001317 | CM6: =SUM(CH6:CL6) -> 9353.8087 | CN6: 31864.797 | CO6: 83638.149 | CP6: 19115.064 | CQ6: 2756.3545 | CR6: 380.11681 | CS6: =SUM(CN6:CR6) -> 137754.48 | CT6: 14142.827 | CU6: 55611.963 | CV6: 11293.553 | CW6: 1513.5521 | CX6: 205.65951 | CY6: =SUM(CT6:CX6) -> 82767.555 | CZ6: 5462.6571 | DA6: 8481.9428 | DB6: 4726.8803 | DC6: 406.19576 | DE6: =SUM(CZ6:DD6) -> 19077.676 | DF6: 5056.2097 | DG6: 21566.879 | DH6: 19810.244 | DI6: 5627.8977 | DK6: =SUM(DF6:DJ6) -> 52061.23 | DL6: 2062.0629 | DM6: 6780.3626 | DN6: 3152.5277 | DO6: 724.16471 | DQ6: =SUM(DL6:DP6) -> 12719.118 | DR6: 4334.1207 | DS6: 9132.6145 | DT6: 7581.6089 | DU6: 1217.6222 | DV6: 22.37348 | DW6: =SUM(DR6:DV6) -> 22288.34 | DX6: =SUM(DR6,DL6,DF6,CZ6,CT6,CN6,CH6,CB6,BV6,BP6,BJ6,BD6) -> 217767.16 | DY6: =SUM(DS6,DM6,DG6,DA6,CU6,CO6,CI6,CC6,BW6,BQ6,BK6,BE6) -> 243744.49 | DZ6: =SUM(DT6,DN6,DH6,DB6,CV6,CP6,CJ6,CD6,BX6,BR6,BL6,BF6) -> 80492.712 | EA6: =SUM(DU6,DO6,DI6,DC6,CW6,CQ6,CK6,CE6,BY6,BS6,BM6,BG6) -> 15119.902 | EB6: =SUM(DV6,DP6,DJ6,DD6,CX6,CR6,CL6,CF6,BZ6,BT6,BN6,BH6) -> 2784.9829 | EC6: =SUM(DX6:EB6) -> 559909.25 | ED6: 21993.465 | EE6: 84895.739 | EF6: 11502.953 | EG6: 4705.481 | EH6: 1212.6783 | EI6: =SUM(ED6:EH6) -> 124310.32 | EJ6: 2123.2294 | EK6: 3192.6521 | EL6: 651.93789 | EM6: 76.75 | EO6: =SUM(EJ6:EN6) -> 6044.5694 | EP6: 641341.96 | EQ6: 149463.69 | ER6: 16692.905 | ES6: 5021.5461 | ET6: 426.89347 | EU6: =SUM(EP6:ET6) -> 812946.99 | EV6: 145296.83 | EW6: 24329.37 | EX6: 995.18922 | EY6: 135.46919 | FA6: =SUM(EV6:EZ6) -> 170756.86 | FB6: 63232.28 | FC6: 2245.6005 | FD6: 16.059781 | FE6: 50.451846 | FG6: =SUM(FB6:FF6) -> 65544.392 | FH6: 495101.54 | FI6: 289016.69 | FJ6: 181851.05 | FK6: 1862.0739 | FM6: =SUM(FH6:FL6) -> 967831.35 | FN6: 236075.75 | FO6: 346274.81 | FP6: 701871.82 | FQ6: 354713.11 | FR6: 6639.6739 | FS6: =SUM(FN6:FR6) -> 1645575.2 | FT6: 555566.26 | FU6: 658488.27 | FV6: 517059.06 | FW6: 137099.62 | FX6: 6703.4304 | FY6: =SUM(FT6:FX6) -> 1874916.6 | FZ6: 788.5359 | GA6: 658.71907 | GB6: 390.82499 | GC6: 55.510577 | GE6: =SUM(FZ6:GD6) -> 1893.5905 | GF6: =SUM(FZ6,FT6,FN6,FH6,FB6,EV6,EP6,EJ6,ED6) -> 2161519.8 | GG6: =SUM(GA6,FU6,FO6,FI6,FC6,EW6,EQ6,EK6,EE6) -> 1558565.5 | GH6: =SUM(GB6,FV6,FP6,FJ6,FD6,EX6,ER6,EL6,EF6) -> 1431031.8 | GI6: =SUM(GC6,FW6,FQ6,FK6,FE6,EY6,ES6,EM6,EG6) -> 503720.01 | GJ6: =SUM(GD6,FX6,FR6,FL6,FF6,EZ6,ET6,EN6,EH6) -> 14982.676 | GK6: =SUM(GF6:GJ6) -> 5669819.9 | GM6: =SUM(GF6,DX6,AX6) -> 2385813.4 | GN6: =SUM(GG6,DY6,AY6) -> 1815605.8 | GO6: =SUM(GH6,DZ6,AZ6) -> 1513026.9 | GP6: =SUM(GI6,EA6,BA6) -> 519372.56 | GQ6: =SUM(GJ6,EB6,BB6) -> 17767.659 | GR6: =SUM(GM6:GQ6) -> 6251586.4
A7: IBS=Spruce Beetle | G7: =SUM(B7:F7) -> 0 | H7: 18.752111 | I7: 13.407878 | K7: 4.5 | M7: =SUM(H7:L7) -> 36.659989 | S7: =SUM(N7:R7) -> 0 | Y7: =SUM(T7:X7) -> 0 | AE7: =SUM(Z7:AD7) -> 0 | AG7: 4.0870765 | AI7: 4.9636072 | AK7: =SUM(AF7:AJ7) -> 9.0506838 | AO7: 0.75 | AQ7: =SUM(AL7:AP7) -> 0.75 | AW7: =SUM(AR7:AV7) -> 0 | AX7: =SUM(AR7,AF7,Z7,T7,N7,H7,B7,AL7) -> 18.752111 | AY7: =SUM(AS7,AG7,AA7,U7,O7,I7,C7, AM7) -> 17.494955 | AZ7: =SUM(AT7,AH7,AB7,V7,P7,J7, AN7,D7) -> 0 | BA7: =SUM(AU7,AO7,AI7,AC7,W7,Q7,K7) -> 10.213607 | BB7: =SUM(F7,L7,R7,X7,AD7,AJ7,AP7,AV7) -> 0 | BC7: =SUM(AX7:BB7) -> 46.460673 | BD7: 20.023334 | BE7: 6.2835678 | BG7: 3.5 | BI7: =SUM(BD7:BH7) -> 29.806902 | BJ7: 4131.1927 | BK7: 6816.3842 | BL7: 4514.3372 | BM7: 1057.6488 | BO7: =SUM(BJ7:BN7) -> 16519.563 | BP7: 637.969 | BQ7: 3165.2562 | BR7: 4817.5289 | BS7: 539.36436 | BT7: 38.231208 | BU7: =SUM(BP7:BT7) -> 9198.3497 | BV7: 6.5968096 | BW7: 84.122256 | BY7: 3 | CA7: =SUM(BV7:BZ7) -> 93.719065 | CB7: 146.97666 | CC7: 106.54812 | CD7: 303.38068 | CE7: 4 | CG7: =SUM(CB7:CF7) -> 560.90545 | CH7: 448.94906 | CI7: 927.45676 | CJ7: 695.02511 | CK7: 165.54098 | CL7: 50.958845 | CM7: =SUM(CH7:CL7) -> 2287.9308 | CO7: 45.142347 | CP7: 495.85769 | CQ7: 61.885223 | CS7: =SUM(CN7:CR7) -> 602.88526 | CU7: 34.2046 | CV7: 83.254289 | CW7: 12.503719 | CY7: =SUM(CT7:CX7) -> 129.96261 | DC7: 0.25 | DE7: =SUM(CZ7:DD7) -> 0.25 | DF7: 50.663063 | DG7: 208.43321 | DH7: 207.32436 | DI7: 52.020893 | DK7: =SUM(DF7:DJ7) -> 518.44153 | DO7: 0.75 | DQ7: =SUM(DL7:DP7) -> 0.75 | DW7: =SUM(DR7:DV7) -> 0 | DX7: =SUM(DR7,DL7,DF7,CZ7,CT7,CN7,CH7,CB7,BV7,BP7,BJ7,BD7) -> 5442.3707 | DY7: =SUM(DS7,DM7,DG7,DA7,CU7,CO7,CI7,CC7,BW7,BQ7,BK7,BE7) -> 11393.831 | DZ7: =SUM(DT7,DN7,DH7,DB7,CV7,CP7,CJ7,CD7,BX7,BR7,BL7,BF7) -> 11116.708 | EA7: =SUM(DU7,DO7,DI7,DC7,CW7,CQ7,CK7,CE7,BY7,BS7,BM7,BG7) -> 1900.464 | EB7: =SUM(BH7,BN7,BT7,BZ7,CF7,CL7,CR7,CX7,DD7,DJ7,DP7,DV7) -> 89.190053 | EC7: =SUM(DX7:EB7) -> 29942.564 | EF7: 62.559032 | EG7: 19.963241 | EI7: =SUM(ED7:EH7) -> 82.522274 | EM7: 0.25 | EO7: =SUM(EJ7:EN7) -> 0.25 | ES7: 2.25 | EU7: =SUM(EP7:ET7) -> 2.25 | EW7: 8.7515286 | EY7: 7.5 | FA7: =SUM(EV7:EZ7) -> 16.251529 | FC7: 4.2939527 | FE7: 0.75 | FG7: =SUM(FB7:FF7) -> 5.0439527 | FK7: 0.25 | FM7: =SUM(FH7:FL7) -> 0.25 | FS7: =SUM(FN7:FR7) -> 0 | FY7: =SUM(FT7:FX7) -> 0 | GE7: =SUM(FZ7:GD7) -> 0 | GF7: =SUM(FZ7,FT7,FN7,FH7,FB7,EV7,EP7,EJ7,ED7) -> 0 | GG7: =SUM(GA7,FU7,FO7,FI7,FC7,EW7,EQ7,EK7,EE7) -> 13.045481 | GH7: =SUM(GB7,FV7,FP7,FJ7,FD7,EX7,ER7,EL7,EF7) -> 62.559032 | GI7: =SUM(GC7,FW7,FQ7,FK7,FE7,EY7,ES7,EM7,EG7) -> 30.963241 | GJ7: =SUM(EH7,EN7,ET7,EZ7,FF7,FL7,FR7,FX7,GD7) -> 0 | GK7: =SUM(GF7:GJ7) -> 106.56775 | GM7: =SUM(GF7,DX7,AX7) -> 5461.1228 | GN7: =SUM(GG7,DY7,AY7) -> 11424.372 | GO7: =SUM(GH7,DZ7,AZ7) -> 11179.267 | GP7: =SUM(GI7,EA7,BA7) -> 1941.6408 | GQ7: =SUM(GJ7,EB7,BB7) -> 89.190053 | GR7: =SUM(GK7,EC7,BC7) -> 30095.593
A8: IBB=Western Balsam Bark Beetle | B8: 60.810761 | C8: 601.50764 | D8: 4.0637188 | E8: 14.75 | G8: =SUM(B8:F8) -> 681.13212 | H8: 1571.2717 | I8: 26.084352 | K8: 9.75 | M8: =SUM(H8:L8) -> 1607.1061 | S8: =SUM(N8:R8) -> 0 | Y8: =SUM(T8:X8) -> 0 | Z8: 608.06265 | AA8: 1461.8279 | AB8: 19.576086 | AC8: 5 | AE8: =SUM(Z8:AD8) -> 2094.4667 | AG8: 60.648541 | AH8: 10.739643 | AI8: 1.25 | AK8: =SUM(AF8:AJ8) -> 72.638185 | AM8: 11.304372 | AO8: 0.75 | AQ8: =SUM(AL8:AP8) -> 12.054372 | AW8: =SUM(AR8:AV8) -> 0 | AX8: =SUM(AR8,AF8,Z8,T8,N8,H8,B8,AL8) -> 2240.1451 | AY8: =SUM(AS8,AG8,AA8,U8,O8,I8,C8, AM8) -> 2161.3729 | AZ8: =SUM(AT8,AH8,AB8,V8,P8,J8, AN8,D8) -> 34.379448 | BA8: =SUM(AU8, AI8,AC8,W8,Q8,K8,E8, AO8) -> 31.5 | BB8: =SUM(F8,L8,R8,X8,AD8,AJ8,AP8,AV8) -> 0 | BC8: =SUM(AX8:BB8) -> 4467.3974 | BD8: 5525.914 | BE8: 405.80675 | BF8: 7.7450924 | BG8: 10.25 | BI8: =SUM(BD8:BH8) -> 5949.7158 | BJ8: 9346.9772 | BK8: 1449.4952 | BO8: =SUM(BJ8:BN8) -> 10796.472 | BP8: 2448.0316 | BQ8: 1108.7862 | BS8: 3 | BU8: =SUM(BP8:BT8) -> 3559.8177 | BV8: 16885.684 | BW8: 392.57581 | BY8: 1 | CA8: =SUM(BV8:BZ8) -> 17279.26 | CB8: 54945.878 | CC8: 1654.9793 | CD8: 20.524372 | CE8: 0.5 | CG8: =SUM(CB8:CF8) -> 56621.882 | CH8: 15009.231 | CI8: 1628.1581 | CJ8: 3.1524317 | CM8: =SUM(CH8:CL8) -> 16640.541 | CN8: 4512.3944 | CO8: 7.9115772 | CP8: 4.4526936 | CS8: =SUM(CN8:CR8) -> 4524.7586 | CT8: 55495.418 | CU8: 1908.9106 | CV8: 10.0403 | CW8: 4.7394623 | CY8: =SUM(CT8:CX8) -> 57419.108 | CZ8: 2090.2063 | DA8: 586.77435 | DC8: 21.75 | DE8: =SUM(CZ8:DD8) -> 2698.7307 | DF8: 2329.2184 | DG8: 1565.681 | DH8: 108.36703 | DI8: 32 | DK8: =SUM(DF8:DJ8) -> 4035.2665 | DL8: 1475.1542 | DM8: 632.86707 | DN8: 39.602232 | DO8: 53.353468 | DQ8: =SUM(DL8:DP8) -> 2200.977 | DR8: 1113.4023 | DS8: 438.70231 | DU8: 17 | DW8: =SUM(DR8:DV8) -> 1569.1046 | DX8: =SUM(DR8,DL8,DF8,CZ8,CT8,CN8,CH8,CB8,BV8,BP8,BJ8,BD8) -> 171177.51 | DY8: =SUM(DS8,DM8,DG8,DA8,CU8,CO8,CI8,CC8,BW8,BQ8,BK8,BE8) -> 11780.648 | DZ8: =SUM(DT8,DN8,DH8,DB8,CV8,CP8,CJ8,CD8,BX8,BR8,BL8,BF8) -> 193.88415 | EA8: =SUM(DU8,DO8,DI8,DC8,CW8,CQ8,CK8,CE8,BY8,BS8,BM8,BG8) -> 143.59293 | EB8: =SUM(BH8,BN8,BT8,BZ8,CF8,CL8,CR8,CX8,DD8,DJ8,DP8,DV8) -> 0 | EC8: =SUM(DX8:EB8) -> 183295.63 | ED8: 305182.6 | EE8: 4123.0795 | EF8: 40.719536 | EG8: 86.533979 | EI8: =SUM(ED8:EH8) -> 309432.93 | EJ8: 22612.5 | EK8: 794.55289 | EM8: 39 | EO8: =SUM(EJ8:EN8) -> 23446.053 | EP8: 202057.37 | EQ8: 2386.628 | ES8: 42.5 | EU8: =SUM(EP8:ET8) -> 204486.5 | EV8: 94658.183 | EW8: 34478.909 | EY8: 112 | FA8: =SUM(EV8:EZ8) -> 129249.09 | FB8: 50277.104 | FE8: 10.75 | FG8: =SUM(FB8:FF8) -> 50287.854 | FH8: 315854.39 | FI8: 96.293393 | FK8: 79 | FM8: =SUM(FH8:FL8) -> 316029.69 | FN8: 332240.91 | FO8: 1958.5098 | FQ8: 46 | FS8: =SUM(FN8:FR8) -> 334245.42 | FT8: 207810.69 | FU8: 761.25543 | FW8: 47.5 | FY8: =SUM(FT8:FX8) -> 208619.44 | FZ8: 3506.4613 | GA8: 5322.1857 | GC8: 6.25 | GE8: =SUM(FZ8:GD8) -> 8834.897 | GF8: =SUM(FZ8,FT8,FN8,FH8,FB8,EV8,EP8,EJ8,ED8) -> 1534200.2 | GG8: =SUM(GA8,FU8,FO8,FI8,FC8,EW8,EQ8,EK8,EE8) -> 49921.414 | GH8: =SUM(GB8,FV8,FP8,FJ8,FD8,EX8,ER8,EL8,EF8) -> 40.719536 | GI8: =SUM(GC8,FW8,FQ8,FK8,FE8,EY8,ES8,EM8,EG8) -> 469.53398 | GJ8: =SUM(EH8,EN8,ET8,EZ8,FF8,FL8,FR8,FX8,GD8) -> 0 | GK8: =SUM(GF8:GJ8) -> 1584631.9 | GM8: =SUM(GF8,DX8,AX8) -> 1707617.9 | GN8: =SUM(GG8,DY8,AY8) -> 63863.435 | GO8: =SUM(GH8,DZ8,AZ8) -> 268.98313 | GP8: =SUM(GI8,EA8,BA8) -> 644.62691 | GQ8: =SUM(GJ8,EB8,BB8) -> 0 | GR8: =SUM(GK8,EC8,BC8) -> 1772394.9
A9: IBD=Douglas-fir Beetle | B9: 16.537979 | C9: 998.60614 | D9: 50.986285 | E9: 50.650773 | G9: =SUM(B9:F9) -> 1116.7812 | I9: 151.79008 | J9: 10.449857 | K9: 17 | M9: =SUM(H9:L9) -> 179.23993 | O9: 1411.93 | Q9: 23.180824 | S9: =SUM(N9:R9) -> 1435.1109 | Y9: =SUM(T9:X9) -> 0 | AA9: 15.796623 | AB9: 42.754949 | AC9: 16.5 | AE9: =SUM(Z9:AD9) -> 75.051572 | AG9: 67.676073 | AH9: 470.42658 | AI9: 197.87099 | AK9: =SUM(AF9:AJ9) -> 735.97365 | AM9: 4.0956374 | AO9: 10.5 | AQ9: =SUM(AL9:AP9) -> 14.595637 | AW9: =SUM(AR9:AV9) -> 0 | AX9: =SUM(AR9,AF9,Z9,T9,N9,H9,B9,AL9) -> 16.537979 | AY9: =SUM(AS9,AG9,AA9,U9,O9,I9,C9, AM9) -> 2649.8946 | AZ9: =SUM(AT9,AH9,AB9,V9,P9,J9, AN9,D9) -> 574.61767 | BA9: =SUM(AU9, AI9,AC9,W9,Q9,K9,E9, AO9) -> 315.70259 | BB9: =SUM(F9,L9,R9,X9,AD9,AJ9,AP9,AV9) -> 0 | BC9: =SUM(AX9:BB9) -> 3556.7528 | BD9: 1737.9429 | BE9: 1087.2714 | BG9: 72 | BI9: =SUM(BD9:BH9) -> 2897.2144 | BJ9: 550.88988 | BK9: 121.54459 | BM9: 85.75 | BO9: =SUM(BJ9:BN9) -> 758.18447 | BP9: 2473.9615 | BQ9: 330.43902 | BS9: 66.75 | BU9: =SUM(BP9:BT9) -> 2871.1505 | BV9: 132.59846 | BW9: 353.25929 | BX9: 142.30064 | BY9: 25.75 | CA9: =SUM(BV9:BZ9) -> 653.90839 | CC9: 130.83095 | CD9: 128.8643 | CE9: 23.218615 | CG9: =SUM(CB9:CF9) -> 282.91386 | CH9: 7.3602327 | CI9: 152.16573 | CJ9: 287.68882 | CK9: 187.85146 | CM9: =SUM(CH9:CL9) -> 635.06624 | CN9: 3.9068127 | CO9: 208.60647 | CP9: 149.68936 | CQ9: 56.323745 | CS9: =SUM(CN9:CR9) -> 418.52638 | CU9: 185.4163 | CV9: 256.66977 | CW9: 134.705 | CX9: 15.606702 | CY9: =SUM(CT9:CX9) -> 592.39778 | DA9: 88.234928 | DB9: 12.507827 | DC9: 18 | DE9: =SUM(CZ9:DD9) -> 118.74275 | DF9: 66.412482 | DG9: 597.94843 | DH9: 603.63498 | DI9: 19 | DK9: =SUM(DF9:DJ9) -> 1286.9959 | DL9: 73.321316 | DM9: 386.4171 | DN9: 83.30945 | DO9: 10.25 | DQ9: =SUM(DL9:DP9) -> 553.29786 | DS9: 260.98248 | DT9: 48.154815 | DU9: 11 | DW9: =SUM(DR9:DV9) -> 320.1373 | DX9: =SUM(DR9,DL9,DF9,CZ9,CT9,CN9,CH9,CB9,BV9,BP9,BJ9,BD9) -> 5046.3937 | DY9: =SUM(DS9,DM9,DG9,DA9,CU9,CO9,CI9,CC9,BW9,BQ9,BK9,BE9) -> 3903.1167 | DZ9: =SUM(DT9,DN9,DH9,DB9,CV9,CP9,CJ9,CD9,BX9,BR9,BL9,BF9) -> 1712.82 | EA9: =SUM(DU9,DO9,DI9,DC9,CW9,CQ9,CK9,CE9,BY9,BS9,BM9,BG9) -> 710.59883 | EB9: =SUM(BH9,BN9,BT9,BZ9,CF9,CL9,CR9,CX9,DD9,DJ9,DP9,DV9) -> 15.606702 | EC9: =SUM(DX9:EB9) -> 11388.536 | EI9: =SUM(ED9:EH9) -> 0 | EO9: =SUM(EJ9:EN9) -> 0 | EU9: =SUM(EP9:ET9) -> 0 | EV9: 570.00112 | EW9: 232.56281 | EY9: 31.25 | FA9: =SUM(EV9:EZ9) -> 833.81393 | FE9: 3.5 | FG9: =SUM(FB9:FF9) -> 3.5 | FK9: 6 | FM9: =SUM(FH9:FL9) -> 6 | FS9: =SUM(FN9:FR9) -> 0 | FY9: =SUM(FT9:FX9) -> 0 | GE9: =SUM(FZ9:GD9) -> 0 | GF9: =SUM(FZ9,FT9,FN9,FH9,FB9,EV9,EP9,EJ9,ED9) -> 570.00112 | GG9: =SUM(GA9,FU9,FO9,FI9,FC9,EW9,EQ9,EK9,EE9) -> 232.56281 | GH9: =SUM(GB9,FV9,FP9,FJ9,FD9,EX9,ER9,EL9,EF9) -> 0 | GI9: =SUM(GC9,FW9,FQ9,FK9,FE9,EY9,ES9,EM9,EG9) -> 40.75 | GJ9: =SUM(EH9,EN9,ET9,EZ9,FF9,FL9,FR9,FX9,GD9) -> 0 | GK9: =SUM(GF9:GJ9) -> 843.31393 | GM9: =SUM(GF9,DX9,AX9) -> 5632.9328 | GN9: =SUM(GG9,DY9,AY9) -> 6785.5741 | GO9: =SUM(GH9,DZ9,AZ9) -> 2287.4376 | GP9: =SUM(GI9,EA9,BA9) -> 1067.0514 | GQ9: =SUM(GJ9,EB9,BB9) -> 15.606702 | GR9: =SUM(GK9,EC9,BC9) -> 15788.603
A10: IBF = Fir engraver Beetle | G10: =SUM(B10:F10) -> 0 | M10: =SUM(H10:L10) -> 0 | S10: =SUM(N10:R10) -> 0 | Y10: =SUM(T10:X10) -> 0 | AE10: =SUM(Z10:AD10) -> 0 | AK10: =SUM(AF10:AJ10) -> 0 | AQ10: =SUM(AL10:AP10) -> 0 | AW10: =SUM(AR10:AV10) -> 0 | AX10: =SUM(AR10,AF10,Z10,T10,N10,H10,B10,AL10) -> 0 | AY10: =SUM(AS10,AG10,AA10,U10,O10,I10,C10, AM10) -> 0 | AZ10: =SUM(AT10,AH10,AB10,V10,P10,J10, AN10,D10) -> 0 | BA10: =SUM(AU10, AI10,AC10,W10,Q10,K10,E10, AO10) -> 0 | BB10: =SUM(F10,L10,R10,X10,AD10,AJ10,AP10,AV10) -> 0 | BC10: =SUM(AX10:BB10) -> 0 | BI10: =SUM(BD10:BH10) -> 0 | BO10: =SUM(BJ10:BN10) -> 0 | BU10: =SUM(BP10:BT10) -> 0 | CA10: =SUM(BV10:BZ10) -> 0 | CG10: =SUM(CB10:CF10) -> 0 | CM10: =SUM(CH10:CL10) -> 0 | CS10: =SUM(CN10:CR10) -> 0 | CY10: =SUM(CT10:CX10) -> 0 | DE10: =SUM(CZ10:DD10) -> 0 | DK10: =SUM(DF10:DJ10) -> 0 | DQ10: =SUM(DL10:DP10) -> 0 | DW10: =SUM(DR10:DV10) -> 0 | DX10: =SUM(DR10,DL10,DF10,CZ10,CT10,CN10,CH10,CB10,BV10,BP10,BJ10,BD10) -> 0 | DY10: =SUM(DS10,DM10,DG10,DA10,CU10,CO10,CI10,CC10,BW10,BQ10,BK10,BE10) -> 0 | DZ10: =SUM(DT10,DN10,DH10,DB10,CV10,CP10,CJ10,CD10,BX10,BR10,BL10,BF10) -> 0 | EA10: =SUM(DU10,DO10,DI10,DC10,CW10,CQ10,CK10,CE10,BY10,BS10,BM10,BG10) -> 0 | EB10: =SUM(BH10,BN10,BT10,BZ10,CF10,CL10,CR10,CX10,DD10,DJ10,DP10,DV10) -> 0 | EC10: =SUM(DX10:EB10) -> 0 | EI10: =SUM(ED10:EH10) -> 0 | EO10: =SUM(EJ10:EN10) -> 0 | EU10: =SUM(EP10:ET10) -> 0 | FA10: =SUM(EV10:EZ10) -> 0 | FG10: =SUM(FB10:FF10) -> 0 | FM10: =SUM(FH10:FL10) -> 0 | FS10: =SUM(FN10:FR10) -> 0 | FY10: =SUM(FT10:FX10) -> 0 | GE10: =SUM(FZ10:GD10) -> 0 | GF10: =SUM(FZ10,FT10,FN10,FH10,FB10,EV10,EP10,EJ10,ED10) -> 0 | GG10: =SUM(GA10,FU10,FO10,FI10,FC10,EW10,EQ10,EK10,EE10) -> 0 | GH10: =SUM(GB10,FV10,FP10,FJ10,FD10,EX10,ER10,EL10,EF10) -> 0 | GI10: =SUM(GC10,FW10,FQ10,FK10,FE10,EY10,ES10,EM10,EG10) -> 0 | GJ10: =SUM(EH10,EN10,ET10,EZ10,FF10,FL10,FR10,FX10,GD10) -> 0 | GK10: =SUM(GF10:GJ10) -> 0 | GM10: =SUM(GF10,DX10,AX10) -> 0 | GN10: =SUM(GG10,DY10,AY10) -> 0 | GO10: =SUM(GH10,DZ10,AZ10) -> 0 | GP10: =SUM(GI10,EA10,BA10) -> 0 | GQ10: =SUM(GJ10,EB10,BB10) -> 0 | GR10: =SUM(GK10,EC10,BC10) -> 0
A11: IBP = Twig Beetle | G11: =SUM(B11:F11) -> 0 | M11: =SUM(H11:L11) -> 0 | S11: =SUM(N11:R11) -> 0 | Y11: =SUM(T11:X11) -> 0 | AE11: =SUM(Z11:AD11) -> 0 | AK11: =SUM(AF11:AJ11) -> 0 | AQ11: =SUM(AL11:AP11) -> 0 | AW11: =SUM(AR11:AV11) -> 0 | AX11: =SUM(AR11,AF11,Z11,T11,N11,H11,B11,AL11) -> 0 | AY11: =SUM(AS11,AG11,AA11,U11,O11,I11,C11, AM11) -> 0 | AZ11: =SUM(AT11,AH11,AB11,V11,P11,J11, AN11,D11) -> 0 | BA11: =SUM(AU11, AI11,AC11,W11,Q11,K11,E11, AO11) -> 0 | BB11: =SUM(F11,L11,R11,X11,AD11,AJ11,AP11,AV11) -> 0 | BC11: =SUM(AX11:BB11) -> 0 | BI11: =SUM(BD11:BH11) -> 0 | BO11: =SUM(BJ11:BN11) -> 0 | BU11: =SUM(BP11:BT11) -> 0 | CA11: =SUM(BV11:BZ11) -> 0 | CG11: =SUM(CB11:CF11) -> 0 | CM11: =SUM(CH11:CL11) -> 0 | CS11: =SUM(CN11:CR11) -> 0 | CY11: =SUM(CT11:CX11) -> 0 | DE11: =SUM(CZ11:DD11) -> 0 | DK11: =SUM(DF11:DJ11) -> 0 | DQ11: =SUM(DL11:DP11) -> 0 | DW11: =SUM(DR11:DV11) -> 0 | DX11: =SUM(DR11,DL11,DF11,CZ11,CT11,CN11,CH11,CB11,BV11,BP11,BJ11,BD11) -> 0 | DY11: =SUM(DS11,DM11,DG11,DA11,CU11,CO11,CI11,CC11,BW11,BQ11,BK11,BE11) -> 0 | DZ11: =SUM(DT11,DN11,DH11,DB11,CV11,CP11,CJ11,CD11,BX11,BR11,BL11,BF11) -> 0 | EA11: =SUM(DU11,DO11,DI11,DC11,CW11,CQ11,CK11,CE11,BY11,BS11,BM11,BG11) -> 0 | EB11: =SUM(BH11,BN11,BT11,BZ11,CF11,CL11,CR11,CX11,DD11,DJ11,DP11,DV11) -> 0 | EC11: =SUM(DX11:EB11) -> 0 | EI11: =SUM(ED11:EH11) -> 0 | EO11: =SUM(EJ11:EN11) -> 0 | EU11: =SUM(EP11:ET11) -> 0 | FA11: =SUM(EV11:EZ11) -> 0 | FG11: =SUM(FB11:FF11) -> 0 | FM11: =SUM(FH11:FL11) -> 0 | FS11: =SUM(FN11:FR11) -> 0 | FY11: =SUM(FT11:FX11) -> 0 | GE11: =SUM(FZ11:GD11) -> 0 | GF11: =SUM(FZ11,FT11,FN11,FH11,FB11,EV11,EP11,EJ11,ED11) -> 0 | GG11: =SUM(GA11,FU11,FO11,FI11,FC11,EW11,EQ11,EK11,EE11) -> 0 | GH11: =SUM(GB11,FV11,FP11,FJ11,FD11,EX11,ER11,EL11,EF11) -> 0 | GI11: =SUM(GC11,FW11,FQ11,FK11,FE11,EY11,ES11,EM11,EG11) -> 0 | GJ11: =SUM(EH11,EN11,ET11,EZ11,FF11,FL11,FR11,FX11,GD11) -> 0 | GK11: =SUM(GF11:GJ11) -> 0 | GM11: =SUM(GF11,DX11,AX11) -> 0 | GN11: =SUM(GG11,DY11,AY11) -> 0 | GO11: =SUM(GH11,DZ11,AZ11) -> 0 | GP11: =SUM(GI11,EA11,BA11) -> 0 | GQ11: =SUM(GJ11,EB11,BB11) -> 0 | GR11: =SUM(GK11,EC11,BC11) -> 0
A12: IBI=Engraver Beetle (Ips species) | G12: =SUM(B12:F12) -> 0 | M12: =SUM(H12:L12) -> 0 | S12: =SUM(N12:R12) -> 0 | Y12: =SUM(T12:X12) -> 0 | AE12: =SUM(Z12:AD12) -> 0 | AK12: =SUM(AF12:AJ12) -> 0 | AQ12: =SUM(AL12:AP12) -> 0 | AW12: =SUM(AR12:AV12) -> 0 | AX12: =SUM(AR12,AF12,Z12,T12,N12,H12,B12,AL12) -> 0 | AY12: =SUM(AS12,AG12,AA12,U12,O12,I12,C12, AM12) -> 0 | AZ12: =SUM(AT12,AH12,AB12,V12,P12,J12, AN12,D12) -> 0 | BA12: =SUM(AU12, AI12,AC12,W12,Q12,K12,E12, AO12) -> 0 | BB12: =SUM(F12,L12,R12,X12,AD12,AJ12,AP12,AV12) -> 0 | BC12: =SUM(AX12:BB12) -> 0 | BI12: =SUM(BD12:BH12) -> 0 | BO12: =SUM(BJ12:BN12) -> 0 | BU12: =SUM(BP12:BT12) -> 0 | CA12: =SUM(BV12:BZ12) -> 0 | CG12: =SUM(CB12:CF12) -> 0 | CM12: =SUM(CH12:CL12) -> 0 | CS12: =SUM(CN12:CR12) -> 0 | CY12: =SUM(CT12:CX12) -> 0 | DE12: =SUM(CZ12:DD12) -> 0 | DK12: =SUM(DF12:DJ12) -> 0 | DQ12: =SUM(DL12:DP12) -> 0 | DW12: =SUM(DR12:DV12) -> 0 | DX12: =SUM(DR12,DL12,DF12,CZ12,CT12,CN12,CH12,CB12,BV12,BP12,BJ12,BD12) -> 0 | DY12: =SUM(DS12,DM12,DG12,DA12,CU12,CO12,CI12,CC12,BW12,BQ12,BK12,BE12) -> 0 | DZ12: =SUM(DT12,DN12,DH12,DB12,CV12,CP12,CJ12,CD12,BX12,BR12,BL12,BF12) -> 0 | EA12: =SUM(DU12,DO12,DI12,DC12,CW12,CQ12,CK12,CE12,BY12,BS12,BM12,BG12) -> 0 | EB12: =SUM(BH12,BN12,BT12,BZ12,CF12,CL12,CR12,CX12,DD12,DJ12,DP12,DV12) -> 0 | EC12: =SUM(DX12:EB12) -> 0 | EI12: =SUM(ED12:EH12) -> 0 | EO12: =SUM(EJ12:EN12) -> 0 | EU12: =SUM(EP12:ET12) -> 0 | FA12: =SUM(EV12:EZ12) -> 0 | FG12: =SUM(FB12:FF12) -> 0 | FM12: =SUM(FH12:FL12) -> 0 | FS12: =SUM(FN12:FR12) -> 0 | FY12: =SUM(FT12:FX12) -> 0 | GE12: =SUM(FZ12:GD12) -> 0 | GF12: =SUM(FZ12,FT12,FN12,FH12,FB12,EV12,EP12,EJ12,ED12) -> 0 | GG12: =SUM(GA12,FU12,FO12,FI12,FC12,EW12,EQ12,EK12,EE12) -> 0 | GH12: =SUM(GB12,FV12,FP12,FJ12,FD12,EX12,ER12,EL12,EF12) -> 0 | GI12: =SUM(GC12,FW12,FQ12,FK12,FE12,EY12,ES12,EM12,EG12) -> 0 | GJ12: =SUM(EH12,EN12,ET12,EZ12,FF12,FL12,FR12,FX12,GD12) -> 0 | GK12: =SUM(GF12:GJ12) -> 0 | GM12: =SUM(GF12,DX12,AX12) -> 0 | GN12: =SUM(GG12,DY12,AY12) -> 0 | GO12: =SUM(GH12,DZ12,AZ12) -> 0 | GP12: =SUM(GI12,EA12,BA12) -> 0 | GQ12: =SUM(GJ12,EB12,BB12) -> 0 | GR12: =SUM(GK12,EC12,BC12) -> 0
A13: IBW=Western Pine Beetle | G13: =SUM(B13:F13) -> 0 | M13: =SUM(H13:L13) -> 0 | S13: =SUM(N13:R13) -> 0 | Y13: =SUM(T13:X13) -> 0 | AE13: =SUM(Z13:AD13) -> 0 | AK13: =SUM(AF13:AJ13) -> 0 | AQ13: =SUM(AL13:AP13) -> 0 | AW13: =SUM(AR13:AV13) -> 0 | AX13: =SUM(AR13,AF13,Z13,T13,N13,H13,B13,AL13) -> 0 | AY13: =SUM(AS13,AG13,AA13,U13,O13,I13,C13, AM13) -> 0 | AZ13: =SUM(AT13,AH13,AB13,V13,P13,J13, AN13,D13) -> 0 | BA13: =SUM(AU13, AI13,AC13,W13,Q13,K13,E13, AO13) -> 0 | BB13: =SUM(F13,L13,R13,X13,AD13,AJ13,AP13,AV13) -> 0 | BC13: =SUM(AX13:BB13) -> 0 | BI13: =SUM(BD13:BH13) -> 0 | BO13: =SUM(BJ13:BN13) -> 0 | BU13: =SUM(BP13:BT13) -> 0 | CA13: =SUM(BV13:BZ13) -> 0 | CG13: =SUM(CB13:CF13) -> 0 | CM13: =SUM(CH13:CL13) -> 0 | CS13: =SUM(CN13:CR13) -> 0 | CY13: =SUM(CT13:CX13) -> 0 | DE13: =SUM(CZ13:DD13) -> 0 | DK13: =SUM(DF13:DJ13) -> 0 | DQ13: =SUM(DL13:DP13) -> 0 | DW13: =SUM(DR13:DV13) -> 0 | DX13: =SUM(DR13,DL13,DF13,CZ13,CT13,CN13,CH13,CB13,BV13,BP13,BJ13,BD13) -> 0 | DY13: =SUM(DS13,DM13,DG13,DA13,CU13,CO13,CI13,CC13,BW13,BQ13,BK13,BE13) -> 0 | DZ13: =SUM(DT13,DN13,DH13,DB13,CV13,CP13,CJ13,CD13,BX13,BR13,BL13,BF13) -> 0 | EA13: =SUM(DU13,DO13,DI13,DC13,CW13,CQ13,CK13,CE13,BY13,BS13,BM13,BG13) -> 0 | EB13: =SUM(BH13,BN13,BT13,BZ13,CF13,CL13,CR13,CX13,DD13,DJ13,DP13,DV13) -> 0 | EC13: =SUM(DX13:EB13) -> 0 | EI13: =SUM(ED13:EH13) -> 0 | EO13: =SUM(EJ13:EN13) -> 0 | EU13: =SUM(EP13:ET13) -> 0 | FA13: =SUM(EV13:EZ13) -> 0 | FG13: =SUM(FB13:FF13) -> 0 | FM13: =SUM(FH13:FL13) -> 0 | FS13: =SUM(FN13:FR13) -> 0 | FY13: =SUM(FT13:FX13) -> 0 | GE13: =SUM(FZ13:GD13) -> 0 | GF13: =SUM(FZ13,FT13,FN13,FH13,FB13,EV13,EP13,EJ13,ED13) -> 0 | GG13: =SUM(GA13,FU13,FO13,FI13,FC13,EW13,EQ13,EK13,EE13) -> 0 | GH13: =SUM(GB13,FV13,FP13,FJ13,FD13,EX13,ER13,EL13,EF13) -> 0 | GI13: =SUM(GC13,FW13,FQ13,FK13,FE13,EY13,ES13,EM13,EG13) -> 0 | GJ13: =SUM(EH13,EN13,ET13,EZ13,FF13,FL13,FR13,FX13,GD13) -> 0 | GK13: =SUM(GF13:GJ13) -> 0 | GM13: =SUM(GF13,DX13,AX13) -> 0 | GN13: =SUM(GG13,DY13,AY13) -> 0 | GO13: =SUM(GH13,DZ13,AZ13) -> 0 | GP13: =SUM(GI13,EA13,BA13) -> 0 | GQ13: =SUM(GJ13,EB13,BB13) -> 0 | GR13: =SUM(GK13,EC13,BC13) -> 0
A14: IBL=Lodgepole Pine Beetle | G14: =SUM(B14:F14) -> 0 | M14: =SUM(H14:L14) -> 0 | S14: =SUM(N14:R14) -> 0 | Y14: =SUM(T14:X14) -> 0 | AE14: =SUM(Z14:AD14) -> 0 | AK14: =SUM(AF14:AJ14) -> 0 | AQ14: =SUM(AL14:AP14) -> 0 | AW14: =SUM(AR14:AV14) -> 0 | AX14: =SUM(AR14,AF14,Z14,T14,N14,H14,B14,AL14) -> 0 | AY14: =SUM(AS14,AG14,AA14,U14,O14,I14,C14, AM14) -> 0 | AZ14: =SUM(AT14,AH14,AB14,V14,P14,J14, AN14,D14) -> 0 | BA14: =SUM(AU14, AI14,AC14,W14,Q14,K14,E14, AO14) -> 0 | BB14: =SUM(F14,L14,R14,X14,AD14,AJ14,AP14,AV14) -> 0 | BC14: =SUM(AX14:BB14) -> 0 | BI14: =SUM(BD14:BH14) -> 0 | BO14: =SUM(BJ14:BN14) -> 0 | BU14: =SUM(BP14:BT14) -> 0 | CA14: =SUM(BV14:BZ14) -> 0 | CG14: =SUM(CB14:CF14) -> 0 | CM14: =SUM(CH14:CL14) -> 0 | CS14: =SUM(CN14:CR14) -> 0 | CY14: =SUM(CT14:CX14) -> 0 | DE14: =SUM(CZ14:DD14) -> 0 | DK14: =SUM(DF14:DJ14) -> 0 | DQ14: =SUM(DL14:DP14) -> 0 | DW14: =SUM(DR14:DV14) -> 0 | DX14: =SUM(DR14,DL14,DF14,CZ14,CT14,CN14,CH14,CB14,BV14,BP14,BJ14,BD14) -> 0 | DY14: =SUM(DS14,DM14,DG14,DA14,CU14,CO14,CI14,CC14,BW14,BQ14,BK14,BE14) -> 0 | DZ14: =SUM(DT14,DN14,DH14,DB14,CV14,CP14,CJ14,CD14,BX14,BR14,BL14,BF14) -> 0 | EA14: =SUM(DU14,DO14,DI14,DC14,CW14,CQ14,CK14,CE14,BY14,BS14,BM14,BG14) -> 0 | EB14: =SUM(BH14,BN14,BT14,BZ14,CF14,CL14,CR14,CX14,DD14,DJ14,DP14,DV14) -> 0 | EC14: =SUM(DX14:EB14) -> 0 | EI14: =SUM(ED14:EH14) -> 0 | EO14: =SUM(EJ14:EN14) -> 0 | EU14: =SUM(EP14:ET14) -> 0 | FA14: =SUM(EV14:EZ14) -> 0 | FG14: =SUM(FB14:FF14) -> 0 | FM14: =SUM(FH14:FL14) -> 0 | FS14: =SUM(FN14:FR14) -> 0 | FY14: =SUM(FT14:FX14) -> 0 | GE14: =SUM(FZ14:GD14) -> 0 | GF14: =SUM(FZ14,FT14,FN14,FH14,FB14,EV14,EP14,EJ14,ED14) -> 0 | GG14: =SUM(GA14,FU14,FO14,FI14,FC14,EW14,EQ14,EK14,EE14) -> 0 | GH14: =SUM(GB14,FV14,FP14,FJ14,FD14,EX14,ER14,EL14,EF14) -> 0 | GI14: =SUM(GC14,FW14,FQ14,FK14,FE14,EY14,ES14,EM14,EG14) -> 0 | GJ14: =SUM(EH14,EN14,ET14,EZ14,FF14,FL14,FR14,FX14,GD14) -> 0 | GK14: =SUM(GF14:GJ14) -> 0 | GM14: =SUM(GF14,DX14,AX14) -> 0 | GN14: =SUM(GG14,DY14,AY14) -> 0 | GO14: =SUM(GH14,DZ14,AZ14) -> 0 | GP14: =SUM(GI14,EA14,BA14) -> 0 | GQ14: =SUM(GJ14,EB14,BB14) -> 0 | GR14: =SUM(GK14,EC14,BC14) -> 0
A15: IBT=Red Turpentine Beetle | G15: =SUM(B15:F15) -> 0 | M15: =SUM(H15:L15) -> 0 | S15: =SUM(N15:R15) -> 0 | Y15: =SUM(T15:X15) -> 0 | AE15: =SUM(Z15:AD15) -> 0 | AK15: =SUM(AF15:AJ15) -> 0 | AQ15: =SUM(AL15:AP15) -> 0 | AW15: =SUM(AR15:AV15) -> 0 | AX15: =SUM(AR15,AF15,Z15,T15,N15,H15,B15,AL15) -> 0 | AY15: =SUM(AS15,AG15,AA15,U15,O15,I15,C15, AM15) -> 0 | AZ15: =SUM(AT15,AH15,AB15,V15,P15,J15, AN15,D15) -> 0 | BA15: =SUM(AU15, AI15,AC15,W15,Q15,K15,E15, AO15) -> 0 | BB15: =SUM(F15,L15,R15,X15,AD15,AJ15,AP15,AV15) -> 0 | BC15: =SUM(AX15:BB15) -> 0 | BI15: =SUM(BD15:BH15) -> 0 | BO15: =SUM(BJ15:BN15) -> 0 | BU15: =SUM(BP15:BT15) -> 0 | CA15: =SUM(BV15:BZ15) -> 0 | CG15: =SUM(CB15:CF15) -> 0 | CM15: =SUM(CH15:CL15) -> 0 | CS15: =SUM(CN15:CR15) -> 0 | CY15: =SUM(CT15:CX15) -> 0 | DE15: =SUM(CZ15:DD15) -> 0 | DK15: =SUM(DF15:DJ15) -> 0 | DQ15: =SUM(DL15:DP15) -> 0 | DW15: =SUM(DR15:DV15) -> 0 | DX15: =SUM(DR15,DL15,DF15,CZ15,CT15,CN15,CH15,CB15,BV15,BP15,BJ15,BD15) -> 0 | DY15: =SUM(DS15,DM15,DG15,DA15,CU15,CO15,CI15,CC15,BW15,BQ15,BK15,BE15) -> 0 | DZ15: =SUM(DT15,DN15,DH15,DB15,CV15,CP15,CJ15,CD15,BX15,BR15,BL15,BF15) -> 0 | EA15: =SUM(DU15,DO15,DI15,DC15,CW15,CQ15,CK15,CE15,BY15,BS15,BM15,BG15) -> 0 | EB15: =SUM(BH15,BN15,BT15,BZ15,CF15,CL15,CR15,CX15,DD15,DJ15,DP15,DV15) -> 0 | EC15: =SUM(DX15:EB15) -> 0 | EI15: =SUM(ED15:EH15) -> 0 | EO15: =SUM(EJ15:EN15) -> 0 | EU15: =SUM(EP15:ET15) -> 0 | FA15: =SUM(EV15:EZ15) -> 0 | FG15: =SUM(FB15:FF15) -> 0 | FM15: =SUM(FH15:FL15) -> 0 | FS15: =SUM(FN15:FR15) -> 0 | FY15: =SUM(FT15:FX15) -> 0 | GE15: =SUM(FZ15:GD15) -> 0 | GF15: =SUM(FZ15,FT15,FN15,FH15,FB15,EV15,EP15,EJ15,ED15) -> 0 | GG15: =SUM(GA15,FU15,FO15,FI15,FC15,EW15,EQ15,EK15,EE15) -> 0 | GH15: =SUM(GB15,FV15,FP15,FJ15,FD15,EX15,ER15,EL15,EF15) -> 0 | GI15: =SUM(GC15,FW15,FQ15,FK15,FE15,EY15,ES15,EM15,EG15) -> 0 | GJ15: =SUM(EH15,EN15,ET15,EZ15,FF15,FL15,FR15,FX15,GD15) -> 0 | GK15: =SUM(GF15:GJ15) -> 0 | GM15: =SUM(GF15,DX15,AX15) -> 0 | GN15: =SUM(GG15,DY15,AY15) -> 0 | GO15: =SUM(GH15,DZ15,AZ15) -> 0 | GP15: =SUM(GI15,EA15,BA15) -> 0 | GQ15: =SUM(GJ15,EB15,BB15) -> 0 | GR15: =SUM(GK15,EC15,BC15) -> 0
A16: IB=Unknown Beetle | G16: =SUM(B16:F16) -> 0 | M16: =SUM(H16:L16) -> 0 | S16: =SUM(N16:R16) -> 0 | Y16: =SUM(T16:X16) -> 0 | AE16: =SUM(Z16:AD16) -> 0 | AK16: =SUM(AF16:AJ16) -> 0 | AQ16: =SUM(AL16:AP16) -> 0 | AW16: =SUM(AR16:AV16) -> 0 | AX16: =SUM(AR16,AF16,Z16,T16,N16,H16,B16,AL16) -> 0 | AY16: =SUM(AS16,AG16,AA16,U16,O16,I16,C16, AM16) -> 0 | AZ16: =SUM(AT16,AH16,AB16,V16,P16,J16, AN16,D16) -> 0 | BA16: =SUM(AU16, AI16,AC16,W16,Q16,K16,E16, AO16) -> 0 | BB16: =SUM(F16,L16,R16,X16,AD16,AJ16,AP16,AV16) -> 0 | BC16: =SUM(AX16:BB16) -> 0 | BI16: =SUM(BD16:BH16) -> 0 | BO16: =SUM(BJ16:BN16) -> 0 | BU16: =SUM(BP16:BT16) -> 0 | CA16: =SUM(BV16:BZ16) -> 0 | CG16: =SUM(CB16:CF16) -> 0 | CM16: =SUM(CH16:CL16) -> 0 | CS16: =SUM(CN16:CR16) -> 0 | CY16: =SUM(CT16:CX16) -> 0 | DE16: =SUM(CZ16:DD16) -> 0 | DK16: =SUM(DF16:DJ16) -> 0 | DQ16: =SUM(DL16:DP16) -> 0 | DW16: =SUM(DR16:DV16) -> 0 | DX16: =SUM(DR16,DL16,DF16,CZ16,CT16,CN16,CH16,CB16,BV16,BP16,BJ16,BD16) -> 0 | DY16: =SUM(DS16,DM16,DG16,DA16,CU16,CO16,CI16,CC16,BW16,BQ16,BK16,BE16) -> 0 | DZ16: =SUM(DT16,DN16,DH16,DB16,CV16,CP16,CJ16,CD16,BX16,BR16,BL16,BF16) -> 0 | EA16: =SUM(DU16,DO16,DI16,DC16,CW16,CQ16,CK16,CE16,BY16,BS16,BM16,BG16) -> 0 | EB16: =SUM(BH16,BN16,BT16,BZ16,CF16,CL16,CR16,CX16,DD16,DJ16,DP16,DV16) -> 0 | EC16: =SUM(DX16:EB16) -> 0 | EI16: =SUM(ED16:EH16) -> 0 | EO16: =SUM(EJ16:EN16) -> 0 | EU16: =SUM(EP16:ET16) -> 0 | FA16: =SUM(EV16:EZ16) -> 0 | FG16: =SUM(FB16:FF16) -> 0 | FM16: =SUM(FH16:FL16) -> 0 | FS16: =SUM(FN16:FR16) -> 0 | FY16: =SUM(FT16:FX16) -> 0 | GE16: =SUM(FZ16:GD16) -> 0 | GF16: =SUM(FZ16,FT16,FN16,FH16,FB16,EV16,EP16,EJ16,ED16) -> 0 | GG16: =SUM(GA16,FU16,FO16,FI16,FC16,EW16,EQ16,EK16,EE16) -> 0 | GH16: =SUM(GB16,FV16,FP16,FJ16,FD16,EX16,ER16,EL16,EF16) -> 0 | GI16: =SUM(GC16,FW16,FQ16,FK16,FE16,EY16,ES16,EM16,EG16) -> 0 | GJ16: =SUM(EH16,EN16,ET16,EZ16,FF16,FL16,FR16,FX16,GD16) -> 0 | GK16: =SUM(GF16:GJ16) -> 0 | GM16: =SUM(GF16,DX16,AX16) -> 0 | GN16: =SUM(GG16,DY16,AY16) -> 0 | GO16: =SUM(GH16,DZ16,AZ16) -> 0 | GP16: =SUM(GI16,EA16,BA16) -> 0 | GQ16: =SUM(GJ16,EB16,BB16) -> 0 | GR16: =SUM(GK16,EC16,BC16) -> 0
A17: Total All BB= | B17: =SUM(B6:B16) -> 263.79156 | C17: =SUM(C6:C16) -> 10011.835 | D17: =SUM(D6:D16) -> 1316.7391 | E17: =SUM(E6:E16) -> 396.00193 | F17: =SUM(F6:F16) -> 0 | G17: =SUM(G6:G16) -> 11988.368 | H17: =SUM(H6:H16) -> 7850.5403 | I17: =SUM(I6:I16) -> 824.72145 | ... GK17: =SUM(GK6:GK16) -> 7255401.6 | GM17: =SUM(GM6:GM16) -> 4104525.3 | GN17: =SUM(GN6:GN16) -> 1897679.2 | GO17: =SUM(GO6:GO16) -> 1526762.6 | GP17: =SUM(GP6:GP16) -> 523025.88 | GQ17: =SUM(GQ6:GQ16) -> 17872.456 | GR17: =SUM(GR6:GR16) -> 8069865.5
A19: Defoliators
A20: ID=Defoliators | D20: 25.639656 | G20: =SUM(B20:F20) -> 25.639656 | K20: 36.563205 | M20: =SUM(H20:L20) -> 36.563205 | P20: 11.88563 | Q20: 0.25 | S20: =SUM(N20:R20) -> 12.13563 | Y20: =SUM(T20:X20) -> 0 | AE20: =SUM(Z20:AD20) -> 0 | AG20: 13.914301 | AK20: =SUM(AF20:AJ20) -> 13.914301 | AQ20: =SUM(AL20:AP20) -> 0 | AS20: 527.20881 | AT20: 1639.0775 | AU20: 3354.7749 | AW20: =SUM(AR20:AV20) -> 5521.0612 | AX20: =SUM(AR20, AF20, Z20,T20,N20,H20,B20,AL20) -> 0 | AY20: =SUM(AS20, AG20, AA20,U20,O20,I20,C20,AM20) -> 541.12312 | AZ20: =SUM(AT20, AH20, AB20,V20,P20,J20,D20,AN20) -> 1676.6027 | BA20: =SUM(AU20, AI20,AC20,W20,Q20,K20,E20,AO20) -> 3391.5881 | BB20: =SUM(F20,L20,R20,X20,AD20,AJ20,AP20,AV20) -> 0 | BC20: =SUM(AX20:BB20) -> 5609.314 | BI20: =SUM(BD20:BH20) -> 0 | BO20: =SUM(BJ20:BN20) -> 0 | BU20: =SUM(BP20:BT20) -> 0 | CA20: =SUM(BV20:BZ20) -> 0 | CG20: =SUM(CB20:CF20) -> 0 | CM20: =SUM(CH20:CL20) -> 0 | CS20: =SUM(CN20:CR20) -> 0 | CY20: =SUM(CT20:CX20) -> 0 | DE20: =SUM(CZ20:DD20) -> 0 | DK20: =SUM(DF20:DJ20) -> 0 | DM20: 31.145551 | DQ20: =SUM(DL20:DP20) -> 31.145551 | DW20: =SUM(DR20:DV20) -> 0 | DX20: =SUM(DR20,DL20,DF20,CZ20,CT20,CN20,CH20,CB20,BV20,BP20,BJ20,BD20) -> 0 | DY20: =SUM(DS20,DM20,DG20,DA20,CU20,CO20,CI20,CC20,BW20,BQ20,BK20,BE20) -> 31.145551 | DZ20: =SUM(DT20,DN20,DH20,DB20,CV20,CP20,CJ20,CD20,BX20,BR20,BL20,BF20) -> 0 | EA20: =SUM(DU20,DO20,DI20,DC20,CW20,CQ20,CK20,CE20,BY20,BS20,BM20,BG20) -> 0 | EB20: =SUM(BH20,BN20,BT20,BZ20,CF20,CL20,CR20,CX20,DD20,DJ20,DP20,DV20) -> 0 | EC20: =SUM(DX20:EB20) -> 31.145551 | EI20: =SUM(ED20:EH20) -> 0 | EK20: 6303.0659 | EL20: 2989.8029 | EM20: 4744.198 | EO20: =SUM(EJ20:EN20) -> 14037.067 | EQ20: 750.19994 | ES20: 0.7961811 | EU20: =SUM(EP20:ET20) -> 750.99612 | EX20: 82.264736 | FA20: =SUM(EV20:EZ20) -> 82.264736 | FC20: 174.75245 | FE20: 18.317828 | FG20: =SUM(FB20:FF20) -> 193.07028 | FI20: 1071.0134 | FM20: =SUM(FH20:FL20) -> 1071.0134 | FS20: =SUM(FN20:FR20) -> 0 | FW20: 0.25 | FY20: =SUM(FT20:FX20) -> 0.25 | GA20: 7616.1612 | GB20: 9565.3702 | GE20: =SUM(FZ20:GD20) -> 17181.531 | GF20: =SUM(FZ20,FT20,FN20,FH20,FB20,EV20,EP20,EJ20,ED20) -> 0 | GG20: =SUM(GA20,FU20,FO20,FI20,FC20,EW20,EQ20,EK20,EE20) -> 15915.193 | GH20: =SUM(GB20,FV20,FP20,FJ20,FD20,EX20,ER20,EL20,EF20) -> 12637.438 | GI20: =SUM(GC20,FW20,FQ20,FK20,FE20,EY20,ES20,EM20,EG20) -> 4763.562 | GJ20: =SUM(EH20,EN20,ET20,EZ20,FF20,FL20,FR20,FX20,GD20) -> 0 | GK20: =SUM(GF20:GJ20) -> 33316.193 | GM20: =SUM(GF20,DX20,AX20) -> 0 | GN20: =SUM(GG20,DY20,AY20) -> 16487.462 | GO20: =SUM(GH20,DZ20,AZ20) -> 14314.041 | GP20: =SUM(GI20,EA20,BA20) -> 8155.1502 | GQ20: =SUM(GJ20,EB20,BB20) -> 0 | GR20: =SUM(GK20,EC20,BC20) -> 38956.652
A21: IDH=Western Blackheaded Budworm | G21: =SUM(B21:F21) -> 0 | M21: =SUM(H21:L21) -> 0 | S21: =SUM(N21:R21) -> 0 | U21: 43515.252 | V21: 20303.871 | W21: 23677.62 | Y21: =SUM(T21:X21) -> 87496.743 | AE21: =SUM(Z21:AD21) -> 0 | AK21: =SUM(AF21:AJ21) -> 0 | AQ21: =SUM(AL21:AP21) -> 0 | AW21: =SUM(AR21:AV21) -> 0 | AX21: =SUM(AR21, AF21, Z21,T21,N21,H21,B21,AL21) -> 0 | AY21: =SUM(AS21, AG21, AA21,U21,O21,I21,C21,AM21) -> 43515.252 | AZ21: =SUM(AT21, AH21, AB21,V21,P21,J21,D21,AN21) -> 20303.871 | BA21: =SUM(AU21, AI21,AC21,W21,Q21,K21,E21,AO21) -> 23677.62 | BB21: =SUM(F21,L21,R21,X21,AD21,AJ21,AP21,AV21) -> 0 | BC21: =SUM(AX21:BB21) -> 87496.743 | BI21: =SUM(BD21:BH21) -> 0 | BO21: =SUM(BJ21:BN21) -> 0 | BU21: =SUM(BP21:BT21) -> 0 | CA21: =SUM(BV21:BZ21) -> 0 | CG21: =SUM(CB21:CF21) -> 0 | CM21: =SUM(CH21:CL21) -> 0 | CS21: =SUM(CN21:CR21) -> 0 | CY21: =SUM(CT21:CX21) -> 0 | DE21: =SUM(CZ21:DD21) -> 0 | DK21: =SUM(DF21:DJ21) -> 0 | DQ21: =SUM(DL21:DP21) -> 0 | DS21: 154.99048 | DW21: =SUM(DR21:DV21) -> 154.99048 | DX21: =SUM(DR21,DL21,DF21,CZ21,CT21,CN21,CH21,CB21,BV21,BP21,BJ21,BD21) -> 0 | DY21: =SUM(DS21,DM21,DG21,DA21,CU21,CO21,CI21,CC21,BW21,BQ21,BK21,BE21) -> 154.99048 | DZ21: =SUM(DT21,DN21,DH21,DB21,CV21,CP21,CJ21,CD21,BX21,BR21,BL21,BF21) -> 0 | EA21: =SUM(DU21,DO21,DI21,DC21,CW21,CQ21,CK21,CE21,BY21,BS21,BM21,BG21) -> 0 | EB21: =SUM(BH21,BN21,BT21,BZ21,CF21,CL21,CR21,CX21,DD21,DJ21,DP21,DV21) -> 0 | EC21: =SUM(DX21:EB21) -> 154.99048 | EI21: =SUM(ED21:EH21) -> 0 | EK21: 3172.0715 | EL21: 2403.9844 | EM21: 12.89835 | EO21: =SUM(EJ21:EN21) -> 5588.9543 | EU21: =SUM(EP21:ET21) -> 0 | FA21: =SUM(EV21:EZ21) -> 0 | FG21: =SUM(FB21:FF21) -> 0 | FM21: =SUM(FH21:FL21) -> 0 | FS21: =SUM(FN21:FR21) -> 0 | FY21: =SUM(FT21:FX21) -> 0 | GE21: =SUM(FZ21:GD21) -> 0 | GF21: =SUM(FZ21,FT21,FN21,FH21,FB21,EV21,EP21,EJ21,ED21) -> 0 | GG21: =SUM(GA21,FU21,FO21,FI21,FC21,EW21,EQ21,EK21,EE21) -> 3172.0715 | GH21: =SUM(GB21,FV21,FP21,FJ21,FD21,EX21,ER21,EL21,EF21) -> 2403.9844 | GI21: =SUM(GC21,FW21,FQ21,FK21,FE21,EY21,ES21,EM21,EG21) -> 12.89835 | GJ21: =SUM(EH21,EN21,ET21,EZ21,FF21,FL21,FR21,FX21,GD21) -> 0 | GK21: =SUM(GF21:GJ21) -> 5588.9543 | GM21: =SUM(GF21,DX21,AX21) -> 0 | GN21: =SUM(GG21,DY21,AY21) -> 46842.314 | GO21: =SUM(GH21,DZ21,AZ21) -> 22707.856 | GP21: =SUM(GI21,EA21,BA21) -> 23690.519 | GQ21: =SUM(GJ21,EB21,BB21) -> 0 | GR21: =SUM(GK21,EC21,BC21) -> 93240.688
A22: IDB=2-Year Budworm | G22: =SUM(B22:F22) -> 0 | M22: =SUM(H22:L22) -> 0 | S22: =SUM(N22:R22) -> 0 | Y22: =SUM(T22:X22) -> 0 | AE22: =SUM(Z22:AD22) -> 0 | AK22: =SUM(AF22:AJ22) -> 0 | AQ22: =SUM(AL22:AP22) -> 0 | AW22: =SUM(AR22:AV22) -> 0 | AX22: =SUM(AR22, AF22, Z22,T22,N22,H22,B22,AL22) -> 0 | AY22: =SUM(AS22, AG22, AA22,U22,O22,I22,C22,AM22) -> 0 | AZ22: =SUM(AT22, AH22, AB22,V22,P22,J22,D22,AN22) -> 0 | BA22: =SUM(AU22, AI22,AC22,W22,Q22,K22,E22,AO22) -> 0 | BB22: =SUM(F22,L22,R22,X22,AD22,AJ22,AP22,AV22) -> 0 | BC22: =SUM(AX22:BB22) -> 0 | BI22: =SUM(BD22:BH22) -> 0 | BK22: 8430.4708 | BL22: 159.92048 | BO22: =SUM(BJ22:BN22) -> 8590.3913 | BQ22: 83.65814 | BR22: 601.99165 | BU22: =SUM(BP22:BT22) -> 685.64979 | BW22: 26312.017 | BX22: 20533.592 | CA22: =SUM(BV22:BZ22) -> 46845.61 | CC22: 10435.796 | CD22: 529.40773 | CG22: =SUM(CB22:CF22) -> 10965.204 | CI22: 469.805 | CM22: =SUM(CH22:CL22) -> 469.805 | CO22: 4.8758865 | CP22: 4.201674 | CS22: =SUM(CN22:CR22) -> 9.0775605 | CY22: =SUM(CT22:CX22) -> 0 | DE22: =SUM(CZ22:DD22) -> 0 | DG22: 952.02689 | DH22: 2175.9898 | DK22: =SUM(DF22:DJ22) -> 3128.0167 | DQ22: =SUM(DL22:DP22) -> 0 | DW22: =SUM(DR22:DV22) -> 0 | DX22: =SUM(DR22,DL22,DF22,CZ22,CT22,CN22,CH22,CB22,BV22,BP22,BJ22,BD22) -> 0 | DY22: =SUM(DS22,DM22,DG22,DA22,CU22,CO22,CI22,CC22,BW22,BQ22,BK22,BE22) -> 46688.65 | DZ22: =SUM(DT22,DN22,DH22,DB22,CV22,CP22,CJ22,CD22,BX22,BR22,BL22,BF22) -> 24005.104 | EA22: =SUM(DU22,DO22,DI22,DC22,CW22,CQ22,CK22,CE22,BY22,BS22,BM22,BG22) -> 0 | EB22: =SUM(BH22,BN22,BT22,BZ22,CF22,CL22,CR22,CX22,DD22,DJ22,DP22,DV22) -> 0 | EC22: =SUM(DX22:EB22) -> 70693.754 | EF22: 1286.4555 | EI22: =SUM(ED22:EH22) -> 1286.4555 | EO22: =SUM(EJ22:EN22) -> 0 | EQ22: 3267.7711 | EU22: =SUM(EP22:ET22) -> 3267.7711 | EW22: 6044.5713 | FA22: =SUM(EV22:EZ22) -> 6044.5713 | FC22: 46.844827 | FG22: =SUM(FB22:FF22) -> 46.844827 | FI22: 14581.883 | FM22: =SUM(FH22:FL22) -> 14581.883 | FO22: 1162.517 | FS22: =SUM(FN22:FR22) -> 1162.517 | FY22: =SUM(FT22:FX22) -> 0 | GE22: =SUM(FZ22:GD22) -> 0 | GF22: =SUM(FZ22,FT22,FN22,FH22,FB22,EV22,EP22,EJ22,ED22) -> 0 | GG22: =SUM(GA22,FU22,FO22,FI22,FC22,EW22,EQ22,EK22,EE22) -> 25103.587 | GH22: =SUM(GB22,FV22,FP22,FJ22,FD22,EX22,ER22,EL22,EF22) -> 1286.4555 | GI22: =SUM(GC22,FW22,FQ22,FK22,FE22,EY22,ES22,EM22,EG22) -> 0 | GJ22: =SUM(EH22,EN22,ET22,EZ22,FF22,FL22,FR22,FX22,GD22) -> 0 | GK22: =SUM(GF22:GJ22) -> 26390.043 | GM22: =SUM(GF22,DX22,AX22) -> 0 | GN22: =SUM(GG22,DY22,AY22) -> 71792.238 | GO22: =SUM(GH22,DZ22,AZ22) -> 25291.559 | GP22: =SUM(GI22,EA22,BA22) -> 0 | GQ22: =SUM(GJ22,EB22,BB22) -> 0 | GR22: =SUM(GK22,EC22,BC22) -> 97083.797
A23: IDE=Spruce Budworm | G23: =SUM(B23:F23) -> 0 | M23: =SUM(H23:L23) -> 0 | S23: =SUM(N23:R23) -> 0 | Y23: =SUM(T23:X23) -> 0 | AE23: =SUM(Z23:AD23) -> 0 | AK23: =SUM(AF23:AJ23) -> 0 | AQ23: =SUM(AL23:AP23) -> 0 | AW23: =SUM(AR23:AV23) -> 0 | AX23: =SUM(AR23, AF23, Z23,T23,N23,H23,B23,AL23) -> 0 | AY23: =SUM(AS23, AG23, AA23,U23,O23,I23,C23,AM23) -> 0 | AZ23: =SUM(AT23, AH23, AB23,V23,P23,J23,D23,AN23) -> 0 | BA23: =SUM(AU23, AI23,AC23,W23,Q23,K23,E23,AO23) -> 0 | BB23: =SUM(F23,L23,R23,X23,AD23,AJ23,AP23,AV23) -> 0 | BC23: =SUM(AX23:BB23) -> 0 | BI23: =SUM(BD23:BH23) -> 0 | BO23: =SUM(BJ23:BN23) -> 0 | BU23: =SUM(BP23:BT23) -> 0 | CA23: =SUM(BV23:BZ23) -> 0 | CG23: =SUM(CB23:CF23) -> 0 | CM23: =SUM(CH23:CL23) -> 0 | CS23: =SUM(CN23:CR23) -> 0 | CY23: =SUM(CT23:CX23) -> 0 | DE23: =SUM(CZ23:DD23) -> 0 | DK23: =SUM(DF23:DJ23) -> 0 | DQ23: =SUM(DL23:DP23) -> 0 | DW23: =SUM(DR23:DV23) -> 0 | DX23: =SUM(DR23,DL23,DF23,CZ23,CT23,CN23,CH23,CB23,BV23,BP23,BJ23,BD23) -> 0 | DY23: =SUM(DS23,DM23,DG23,DA23,CU23,CO23,CI23,CC23,BW23,BQ23,BK23,BE23) -> 0 | DZ23: =SUM(DT23,DN23,DH23,DB23,CV23,CP23,CJ23,CD23,BX23,BR23,BL23,BF23) -> 0 | EA23: =SUM(DU23,DO23,DI23,DC23,CW23,CQ23,CK23,CE23,BY23,BS23,BM23,BG23) -> 0 | EB23: =SUM(BH23,BN23,BT23,BZ23,CF23,CL23,CR23,CX23,DD23,DJ23,DP23,DV23) -> 0 | EC23: =SUM(DX23:EB23) -> 0 | EI23: =SUM(ED23:EH23) -> 0 | EO23: =SUM(EJ23:EN23) -> 0 | EU23: =SUM(EP23:ET23) -> 0 | FA23: =SUM(EV23:EZ23) -> 0 | FG23: =SUM(FB23:FF23) -> 0 | FM23: =SUM(FH23:FL23) -> 0 | FS23: =SUM(FN23:FR23) -> 0 | FY23: =SUM(FT23:FX23) -> 0 | GE23: =SUM(FZ23:GD23) -> 0 | GF23: =SUM(FZ23,FT23,FN23,FH23,FB23,EV23,EP23,EJ23,ED23) -> 0 | GG23: =SUM(GA23,FU23,FO23,FI23,FC23,EW23,EQ23,EK23,EE23) -> 0 | GH23: =SUM(GB23,FV23,FP23,FJ23,FD23,EX23,ER23,EL23,EF23) -> 0 | GI23: =SUM(GC23,FW23,FQ23,FK23,FE23,EY23,ES23,EM23,EG23) -> 0 | GJ23: =SUM(EH23,EN23,ET23,EZ23,FF23,FL23,FR23,FX23,GD23) -> 0 | GK23: =SUM(GF23:GJ23) -> 0 | GM23: =SUM(GF23,DX23,AX23) -> 0 | GN23: =SUM(GG23,DY23,AY23) -> 0 | GO23: =SUM(GH23,DZ23,AZ23) -> 0 | GP23: =SUM(GI23,EA23,BA23) -> 0 | GQ23: =SUM(GJ23,EB23,BB23) -> 0 | GR23: =SUM(GK23,EC23,BC23) -> 0
A24: IDL=Western Hemlock Looper | G24: =SUM(B24:F24) -> 0 | I24: 275.47261 | J24: 6.5963038 | M24: =SUM(H24:L24) -> 282.06892 | S24: =SUM(N24:R24) -> 0 | Y24: =SUM(T24:X24) -> 0 | AE24: =SUM(Z24:AD24) -> 0 | AK24: =SUM(AF24:AJ24) -> 0 | AQ24: =SUM(AL24:AP24) -> 0 | AW24: =SUM(AR24:AV24) -> 0 | AX24: =SUM(AR24, AF24, Z24,T24,N24,H24,B24,AL24) -> 0 | AY24: =SUM(AS24, AG24, AA24,U24,O24,I24,C24,AM24) -> 275.47261 | AZ24: =SUM(AT24, AH24, AB24,V24,P24,J24,D24,AN24) -> 6.5963038 | BA24: =SUM(AU24, AI24,AC24,W24,Q24,K24,E24,AO24) -> 0 | BB24: =SUM(F24,L24,R24,X24,AD24,AJ24,AP24,AV24) -> 0 | BC24: =SUM(AX24:BB24) -> 282.06892 | BI24: =SUM(BD24:BH24) -> 0 | BO24: =SUM(BJ24:BN24) -> 0 | BU24: =SUM(BP24:BT24) -> 0 | CA24: =SUM(BV24:BZ24) -> 0 | CC24: 2630.5331 | CD24: 6.7549164 | CG24: =SUM(CB24:CF24) -> 2637.288 | CM24: =SUM(CH24:CL24) -> 0 | CS24: =SUM(CN24:CR24) -> 0 | CU24: 35.013586 | CY24: =SUM(CT24:CX24) -> 35.013586 | DE24: =SUM(CZ24:DD24) -> 0 | DK24: =SUM(DF24:DJ24) -> 0 | DM24: 339.85612 | DN24: 18.507835 | DQ24: =SUM(DL24:DP24) -> 358.36396 | DS24: 4.8503863 | DW24: =SUM(DR24:DV24) -> 4.8503863 | DX24: =SUM(DR24,DL24,DF24,CZ24,CT24,CN24,CH24,CB24,BV24,BP24,BJ24,BD24) -> 0 | DY24: =SUM(DS24,DM24,DG24,DA24,CU24,CO24,CI24,CC24,BW24,BQ24,BK24,BE24) -> 3010.2532 | DZ24: =SUM(DT24,DN24,DH24,DB24,CV24,CP24,CJ24,CD24,BX24,BR24,BL24,BF24) -> 25.262752 | EA24: =SUM(DU24,DO24,DI24,DC24,CW24,CQ24,CK24,CE24,BY24,BS24,BM24,BG24) -> 0 | EB24: =SUM(BH24,BN24,BT24,BZ24,CF24,CL24,CR24,CX24,DD24,DJ24,DP24,DV24) -> 0 | EC24: =SUM(DX24:EB24) -> 3035.5159 | EI24: =SUM(ED24:EH24) -> 0 | EO24: =SUM(EJ24:EN24) -> 0 | EU24: =SUM(EP24:ET24) -> 0 | FA24: =SUM(EV24:EZ24) -> 0 | FG24: =SUM(FB24:FF24) -> 0 | FM24: =SUM(FH24:FL24) -> 0 | FS24: =SUM(FN24:FR24) -> 0 | FY24: =SUM(FT24:FX24) -> 0 | GE24: =SUM(FZ24:GD24) -> 0 | GF24: =SUM(FZ24,FT24,FN24,FH24,FB24,EV24,EP24,EJ24,ED24) -> 0 | GG24: =SUM(GA24,FU24,FO24,FI24,FC24,EW24,EQ24,EK24,EE24) -> 0 | GH24: =SUM(GB24,FV24,FP24,FJ24,FD24,EX24,ER24,EL24,EF24) -> 0 | GI24: =SUM(GC24,FW24,FQ24,FK24,FE24,EY24,ES24,EM24,EG24) -> 0 | GJ24: =SUM(EH24,EN24,ET24,EZ24,FF24,FL24,FR24,FX24,GD24) -> 0 | GK24: =SUM(GF24:GJ24) -> 0 | GM24: =SUM(GF24,DX24,AX24) -> 0 | GN24: =SUM(GG24,DY24,AY24) -> 3285.7258 | GO24: =SUM(GH24,DZ24,AZ24) -> 31.859056 | GP24: =SUM(GI24,EA24,BA24) -> 0 | GQ24: =SUM(GJ24,EB24,BB24) -> 0 | GR24: =SUM(GK24,EC24,BC24) -> 3317.5848
A25: IDC=Larch Casebearer | G25: =SUM(B25:F25) -> 0 | M25: =SUM(H25:L25) -> 0 | S25: =SUM(N25:R25) -> 0 | Y25: =SUM(T25:X25) -> 0 | AE25: =SUM(Z25:AD25) -> 0 | AK25: =SUM(AF25:AJ25) -> 0 | AQ25: =SUM(AL25:AP25) -> 0 | AW25: =SUM(AR25:AV25) -> 0 | AX25: =SUM(AR25, AF25, Z25,T25,N25,H25,B25,AL25) -> 0 | AY25: =SUM(AS25, AG25, AA25,U25,O25,I25,C25,AM25) -> 0 | AZ25: =SUM(AT25, AH25, AB25,V25,P25,J25,D25,AN25) -> 0 | BA25: =SUM(AU25, AI25,AC25,W25,Q25,K25,E25,AO25) -> 0 | BB25: =SUM(F25,L25,R25,X25,AD25,AJ25,AP25,AV25) -> 0 | BC25: =SUM(AX25:BB25) -> 0 | BI25: =SUM(BD25:BH25) -> 0 | BO25: =SUM(BJ25:BN25) -> 0 | BU25: =SUM(BP25:BT25) -> 0 | CA25: =SUM(BV25:BZ25) -> 0 | CG25: =SUM(CB25:CF25) -> 0 | CM25: =SUM(CH25:CL25) -> 0 | CS25: =SUM(CN25:CR25) -> 0 | CY25: =SUM(CT25:CX25) -> 0 | DE25: =SUM(CZ25:DD25) -> 0 | DG25: 5.6542756 | DK25: =SUM(DF25:DJ25) -> 5.6542756 | DQ25: =SUM(DL25:DP25) -> 0 | DW25: =SUM(DR25:DV25) -> 0 | DX25: =SUM(DR25,DL25,DF25,CZ25,CT25,CN25,CH25,CB25,BV25,BP25,BJ25,BD25) -> 0 | DY25: =SUM(DS25,DM25,DG25,DA25,CU25,CO25,CI25,CC25,BW25,BQ25,BK25,BE25) -> 5.6542756 | DZ25: =SUM(DT25,DN25,DH25,DB25,CV25,CP25,CJ25,CD25,BX25,BR25,BL25,BF25) -> 0 | EA25: =SUM(DU25,DO25,DI25,DC25,CW25,CQ25,CK25,CE25,BY25,BS25,BM25,BG25) -> 0 | EB25: =SUM(BH25,BN25,BT25,BZ25,CF25,CL25,CR25,CX25,DD25,DJ25,DP25,DV25) -> 0 | EC25: =SUM(DX25:EB25) -> 5.6542756 | EI25: =SUM(ED25:EH25) -> 0 | EO25: =SUM(EJ25:EN25) -> 0 | EU25: =SUM(EP25:ET25) -> 0 | FA25: =SUM(EV25:EZ25) -> 0 | FG25: =SUM(FB25:FF25) -> 0 | FM25: =SUM(FH25:FL25) -> 0 | FS25: =SUM(FN25:FR25) -> 0 | FY25: =SUM(FT25:FX25) -> 0 | GE25: =SUM(FZ25:GD25) -> 0 | GF25: =SUM(FZ25,FT25,FN25,FH25,FB25,EV25,EP25,EJ25,ED25) -> 0 | GG25: =SUM(GA25,FU25,FO25,FI25,FC25,EW25,EQ25,EK25,EE25) -> 0 | GH25: =SUM(GB25,FV25,FP25,FJ25,FD25,EX25,ER25,EL25,EF25) -> 0 | GI25: =SUM(GC25,FW25,FQ25,FK25,FE25,EY25,ES25,EM25,EG25) -> 0 | GJ25: =SUM(EH25,EN25,ET25,EZ25,FF25,FL25,FR25,FX25,GD25) -> 0 | GK25: =SUM(GF25:GJ25) -> 0 | GM25: =SUM(GF25,DX25,AX25) -> 0 | GN25: =SUM(GG25,DY25,AY25) -> 5.6542756 | GO25: =SUM(GH25,DZ25,AZ25) -> 0 | GP25: =SUM(GI25,EA25,BA25) -> 0 | GQ25: =SUM(GJ25,EB25,BB25) -> 0 | GR25: =SUM(GK25,EC25,BC25) -> 5.6542756
A26: IDS=Conifer Sawflies | G26: =SUM(B26:F26) -> 0 | M26: =SUM(H26:L26) -> 0 | S26: =SUM(N26:R26) -> 0 | Y26: =SUM(T26:X26) -> 0 | AE26: =SUM(Z26:AD26) -> 0 | AK26: =SUM(AF26:AJ26) -> 0 | AQ26: =SUM(AL26:AP26) -> 0 | AW26: =SUM(AR26:AV26) -> 0 | AX26: =SUM(AR26, AF26, Z26,T26,N26,H26,B26,AL26) -> 0 | AY26: =SUM(AS26, AG26, AA26,U26,O26,I26,C26,AM26) -> 0 | AZ26: =SUM(AT26, AH26, AB26,V26,P26,J26,D26,AN26) -> 0 | BA26: =SUM(AU26, AI26,AC26,W26,Q26,K26,E26,AO26) -> 0 | BB26: =SUM(F26,L26,R26,X26,AD26,AJ26,AP26,AV26) -> 0 | BC26: =SUM(AX26:BB26) -> 0 | BI26: =SUM(BD26:BH26) -> 0 | BO26: =SUM(BJ26:BN26) -> 0 | BU26: =SUM(BP26:BT26) -> 0 | CA26: =SUM(BV26:BZ26) -> 0 | CG26: =SUM(CB26:CF26) -> 0 | CM26: =SUM(CH26:CL26) -> 0 | CS26: =SUM(CN26:CR26) -> 0 | CY26: =SUM(CT26:CX26) -> 0 | DE26: =SUM(CZ26:DD26) -> 0 | DK26: =SUM(DF26:DJ26) -> 0 | DQ26: =SUM(DL26:DP26) -> 0 | DW26: =SUM(DR26:DV26) -> 0 | DX26: =SUM(DR26,DL26,DF26,CZ26,CT26,CN26,CH26,CB26,BV26,BP26,BJ26,BD26) -> 0 | DY26: =SUM(DS26,DM26,DG26,DA26,CU26,CO26,CI26,CC26,BW26,BQ26,BK26,BE26) -> 0 | DZ26: =SUM(DT26,DN26,DH26,DB26,CV26,CP26,CJ26,CD26,BX26,BR26,BL26,BF26) -> 0 | EA26: =SUM(DU26,DO26,DI26,DC26,CW26,CQ26,CK26,CE26,BY26,BS26,BM26,BG26) -> 0 | EB26: =SUM(BH26,BN26,BT26,BZ26,CF26,CL26,CR26,CX26,DD26,DJ26,DP26,DV26) -> 0 | EC26: =SUM(DX26:EB26) -> 0 | EI26: =SUM(ED26:EH26) -> 0 | EO26: =SUM(EJ26:EN26) -> 0 | EU26: =SUM(EP26:ET26) -> 0 | FA26: =SUM(EV26:EZ26) -> 0 | FG26: =SUM(FB26:FF26) -> 0 | FM26: =SUM(FH26:FL26) -> 0 | FS26: =SUM(FN26:FR26) -> 0 | FY26: =SUM(FT26:FX26) -> 0 | GE26: =SUM(FZ26:GD26) -> 0 | GF26: =SUM(FZ26,FT26,FN26,FH26,FB26,EV26,EP26,EJ26,ED26) -> 0 | GG26: =SUM(GA26,FU26,FO26,FI26,FC26,EW26,EQ26,EK26,EE26) -> 0 | GH26: =SUM(GB26,FV26,FP26,FJ26,FD26,EX26,ER26,EL26,EF26) -> 0 | GI26: =SUM(GC26,FW26,FQ26,FK26,FE26,EY26,ES26,EM26,EG26) -> 0 | GJ26: =SUM(EH26,EN26,ET26,EZ26,FF26,FL26,FR26,FX26,GD26) -> 0 | GK26: =SUM(GF26:GJ26) -> 0 | GM26: =SUM(GF26,DX26,AX26) -> 0 | GN26: =SUM(GG26,DY26,AY26) -> 0 | GO26: =SUM(GH26,DZ26,AZ26) -> 0 | GP26: =SUM(GI26,EA26,BA26) -> 0 | GQ26: =SUM(GJ26,EB26,BB26) -> 0 | GR26: =SUM(GK26,EC26,BC26) -> 0
A27: IDK=Northern Tent Caterpillar | G27: =SUM(B27:F27) -> 0 | M27: =SUM(H27:L27) -> 0 | S27: =SUM(N27:R27) -> 0 | Y27: =SUM(T27:X27) -> 0 | AE27: =SUM(Z27:AD27) -> 0 | AK27: =SUM(AF27:AJ27) -> 0 | AQ27: =SUM(AL27:AP27) -> 0 | AW27: =SUM(AR27:AV27) -> 0 | AX27: =SUM(AR27, AF27, Z27,T27,N27,H27,B27,AL27) -> 0 | AY27: =SUM(AS27, AG27, AA27,U27,O27,I27,C27,AM27) -> 0 | AZ27: =SUM(AT27, AH27, AB27,V27,P27,J27,D27,AN27) -> 0 | BA27: =SUM(AU27, AI27,AC27,W27,Q27,K27,E27,AO27) -> 0 | BB27: =SUM(F27,L27,R27,X27,AD27,AJ27,AP27,AV27) -> 0 | BC27: =SUM(AX27:BB27) -> 0 | BI27: =SUM(BD27:BH27) -> 0 | BO27: =SUM(BJ27:BN27) -> 0 | BU27: =SUM(BP27:BT27) -> 0 | CA27: =SUM(BV27:BZ27) -> 0 | CG27: =SUM(CB27:CF27) -> 0 | CM27: =SUM(CH27:CL27) -> 0 | CS27: =SUM(CN27:CR27) -> 0 | CY27: =SUM(CT27:CX27) -> 0 | DE27: =SUM(CZ27:DD27) -> 0 | DK27: =SUM(DF27:DJ27) -> 0 | DQ27: =SUM(DL27:DP27) -> 0 | DW27: =SUM(DR27:DV27) -> 0 | DX27: =SUM(DR27,DL27,DF27,CZ27,CT27,CN27,CH27,CB27,BV27,BP27,BJ27,BD27) -> 0 | DY27: =SUM(DS27,DM27,DG27,DA27,CU27,CO27,CI27,CC27,BW27,BQ27,BK27,BE27) -> 0 | DZ27: =SUM(DT27,DN27,DH27,DB27,CV27,CP27,CJ27,CD27,BX27,BR27,BL27,BF27) -> 0 | EA27: =SUM(DU27,DO27,DI27,DC27,CW27,CQ27,CK27,CE27,BY27,BS27,BM27,BG27) -> 0 | EB27: =SUM(BH27,BN27,BT27,BZ27,CF27,CL27,CR27,CX27,DD27,DJ27,DP27,DV27) -> 0 | EC27: =SUM(DX27:EB27) -> 0 | EI27: =SUM(ED27:EH27) -> 0 | EO27: =SUM(EJ27:EN27) -> 0 | EU27: =SUM(EP27:ET27) -> 0 | FA27: =SUM(EV27:EZ27) -> 0 | FG27: =SUM(FB27:FF27) -> 0 | FM27: =SUM(FH27:FL27) -> 0 | FS27: =SUM(FN27:FR27) -> 0 | FY27: =SUM(FT27:FX27) -> 0 | GE27: =SUM(FZ27:GD27) -> 0 | GF27: =SUM(FZ27,FT27,FN27,FH27,FB27,EV27,EP27,EJ27,ED27) -> 0 | GG27: =SUM(GA27,FU27,FO27,FI27,FC27,EW27,EQ27,EK27,EE27) -> 0 | GH27: =SUM(GB27,FV27,FP27,FJ27,FD27,EX27,ER27,EL27,EF27) -> 0 | GI27: =SUM(GC27,FW27,FQ27,FK27,FE27,EY27,ES27,EM27,EG27) -> 0 | GJ27: =SUM(EH27,EN27,ET27,EZ27,FF27,FL27,FR27,FX27,GD27) -> 0 | GK27: =SUM(GF27:GJ27) -> 0 | GM27: =SUM(GF27,DX27,AX27) -> 0 | GN27: =SUM(GG27,DY27,AY27) -> 0 | GO27: =SUM(GH27,DZ27,AZ27) -> 0 | GP27: =SUM(GI27,EA27,BA27) -> 0 | GQ27: =SUM(GJ27,EB27,BB27) -> 0 | GR27: =SUM(GK27,EC27,BC27) -> 0
A28: IDF=Forest Tent Caterpillar | G28: =SUM(B28:F28) -> 0 | M28: =SUM(H28:L28) -> 0 | S28: =SUM(N28:R28) -> 0 | Y28: =SUM(T28:X28) -> 0 | AE28: =SUM(Z28:AD28) -> 0 | AK28: =SUM(AF28:AJ28) -> 0 | AQ28: =SUM(AL28:AP28) -> 0 | AU28: 16.017692 | AW28: =SUM(AR28:AV28) -> 16.017692 | AX28: =SUM(AR28, AF28, Z28,T28,N28,H28,B28,AL28) -> 0 | AY28: =SUM(AS28, AG28, AA28,U28,O28,I28,C28,AM28) -> 0 | AZ28: =SUM(AT28, AH28, AB28,V28,P28,J28,D28,AN28) -> 0 | BA28: =SUM(AU28, AI28,AC28,W28,Q28,K28,E28,AO28) -> 16.017692 | BB28: =SUM(F28,L28,R28,X28,AD28,AJ28,AP28,AV28) -> 0 | BC28: =SUM(AX28:BB28) -> 16.017692 | BI28: =SUM(BD28:BH28) -> 0 | BK28: 167.31065 | BO28: =SUM(BJ28:BN28) -> 167.31065 | BU28: =SUM(BP28:BT28) -> 0 | BW28: 19833.188 | BX28: 14206.016 | BY28: 823.40643 | CA28: =SUM(BV28:BZ28) -> 34862.611 | CC28: 320.28594 | CD28: 293.19791 | CG28: =SUM(CB28:CF28) -> 613.48385 | CM28: =SUM(CH28:CL28) -> 0 | CS28: =SUM(CN28:CR28) -> 0 | CU28: 52.150388 | CV28: 1795.686 | CW28: 352.47741 | CY28: =SUM(CT28:CX28) -> 2200.3138 | DE28: =SUM(CZ28:DD28) -> 0 | DK28: =SUM(DF28:DJ28) -> 0 | DQ28: =SUM(DL28:DP28) -> 0 | DW28: =SUM(DR28:DV28) -> 0 | DX28: =SUM(DR28,DL28,DF28,CZ28,CT28,CN28,CH28,CB28,BV28,BP28,BJ28,BD28) -> 0 | DY28: =SUM(DS28,DM28,DG28,DA28,CU28,CO28,CI28,CC28,BW28,BQ28,BK28,BE28) -> 20372.935 | DZ28: =SUM(DT28,DN28,DH28,DB28,CV28,CP28,CJ28,CD28,BX28,BR28,BL28,BF28) -> 16294.9 | EA28: =SUM(DU28,DO28,DI28,DC28,CW28,CQ28,CK28,CE28,BY28,BS28,BM28,BG28) -> 1175.8838 | EB28: =SUM(BH28,BN28,BT28,BZ28,CF28,CL28,CR28,CX28,DD28,DJ28,DP28,DV28) -> 0 | EC28: =SUM(DX28:EB28) -> 37843.72 | EE28: 1000.7268 | EI28: =SUM(ED28:EH28) -> 1000.7268 | EK28: 1294.9086 | EL28: 548.18495 | EM28: 3150.0947 | EO28: =SUM(EJ28:EN28) -> 4993.1882 | EQ28: 39.39304 | ER28: 42.465094 | EU28: =SUM(EP28:ET28) -> 81.858134 | EW28: 32967.845 | EX28: 26787.85 | EY28: 773.50482 | FA28: =SUM(EV28:EZ28) -> 60529.2 | FC28: 768.38073 | FD28: 325.23098 | FE28: 296.89869 | FG28: =SUM(FB28:FF28) -> 1390.5104 | FI28: 1758.9226 | FJ28: 1521.5986 | FK28: 220.64869 | FM28: =SUM(FH28:FL28) -> 3501.1699 | FO28: 13741.632 | FP28: 8514.3102 | FQ28: 110.27747 | FS28: =SUM(FN28:FR28) -> 22366.22 | FU28: 903.00287 | FY28: =SUM(FT28:FX28) -> 903.00287 | GE28: =SUM(FZ28:GD28) -> 0 | GF28: =SUM(FZ28,FT28,FN28,FH28,FB28,EV28,EP28,EJ28,ED28) -> 0 | GG28: =SUM(GA28,FU28,FO28,FI28,FC28,EW28,EQ28,EK28,EE28) -> 52474.812 | GH28: =SUM(GB28,FV28,FP28,FJ28,FD28,EX28,ER28,EL28,EF28) -> 37739.64 | GI28: =SUM(GC28,FW28,FQ28,FK28,FE28,EY28,ES28,EM28,EG28) -> 4551.4243 | GJ28: =SUM(EH28,EN28,ET28,EZ28,FF28,FL28,FR28,FX28,GD28) -> 0 | GK28: =SUM(GF28:GJ28) -> 94765.876 | GM28: =SUM(GF28,DX28,AX28) -> 0 | GN28: =SUM(GG28,DY28,AY28) -> 72847.748 | GO28: =SUM(GH28,DZ28,AZ28) -> 54034.54 | GP28: =SUM(GI28,EA28,BA28) -> 5743.3259 | GQ28: =SUM(GJ28,EB28,BB28) -> 0 | GR28: =SUM(GK28,EC28,BC28) -> 132625.61
